PDS_VERSION_ID = PDS3
/* FILE DATA ELEMENTS */
RECORD_TYPE = STREAM
/* POINTERS TO DATA OBJECTS */
^COMPRESSED_FILE = "H2163_0000_RE3.JP2"
/* IDENTIFICATION DATA ELEMENTS */
DATA_SET_ID = "MEX-M-HRSC-5-REFDR-MAPPROJECTED-V3.0"
DATA_SET_NAME = "MARS EXPRESS HRSC MAP PROJECTED REFDR V3.0"
DETECTOR_ID = MEX_HRSC_RED
EVENT_TYPE = "MARS-REGIONAL-MAPPING-Gl-La"
INSTRUMENT_HOST_ID = MEX
INSTRUMENT_HOST_NAME = "MARS EXPRESS"
INSTRUMENT_ID = HRSC
INSTRUMENT_NAME = "HIGH RESOLUTION STEREO CAMERA"
MISSION_NAME = "MARS EXPRESS"
MISSION_PHASE_NAME = MR_Phase_7
PROCESSING_LEVEL_ID = 3
PRODUCT_CREATION_TIME = 2016-03-14T11:38:04.000Z
PRODUCT_ID = "H2163_0000_RE3.JP2"
RELEASE_ID = 0027
REVISION_ID = 0000
/* QUALITY DATA ELEMENTS */
DATA_QUALITY_ID = 1
DATA_QUALITY_DESC = "Data calculated based on original SPICE kernels"
/* TIME DATA ELEMENTS */
SPACECRAFT_CLOCK_START_COUNT = "1/0075287327.56189"
SPACECRAFT_CLOCK_STOP_COUNT = "1/0075288051.48591"
START_TIME = 2005-09-20T09:10:00.582Z
STOP_TIME = 2005-09-20T09:18:09.408Z
/* ORBITAL DATA ELEMENTS */
ASCENDING_NODE_LONGITUDE = 182.88
MAXIMUM_RESOLUTION = 150.8
FOOTPRINT_POINT_LATITUDE = (-86.8819,-86.7017,-86.4814,-86.2285, -85.9484,-85.6463,-85.0771,-84.7339, -84.3801,-84.0176,-83.6468,-83.2691, -82.6827,-82.4607,-82.0474,-81.7332, -81.3792,-80.9935,-80.5762,-80.1307, -79.6576,-79.1585,-78.8997,-78.6351, -78.365,-78.0891,-77.8074,-77.5208, -77.2289,-76.9322,-76.6309,-76.3252, -76.0136,-75.6985,-75.3777,-75.0522, -74.7241,-74.2184,-73.8798,-73.533, -73.1834,-72.8297,-72.4723,-72.1105, -71.7447,-71.3746,-71.0017,-70.6228, -70.2372,-69.6591,-69.2687,-68.8746, -68.934,-69.09,-69.17,-69.2553,-69.3004 ,-69.387,-70.0089,-70.4242,-70.8374, -71.2434,-71.6471,-72.0482,-72.4461, -72.841,-73.2335,-73.6221,-74.0081, -74.3918,-74.7714,-75.1487,-75.5232, -75.8956,-76.2651,-76.6304,-76.9926, -77.5326,-77.8866,-78.416,-78.7675, -79.111,-79.4562,-79.7967,-80.1379, -80.4734,-80.8065,-81.1376,-81.4671, -81.7927,-82.1152,-82.7521,-83.3791, -83.8441,-84.3071,-84.7631,-85.3639, -85.9508,-86.5246,-86.8819)
FOOTPRINT_POINT_LONGITUDE = (331.704,325.073,319.215,314.114, 309.693,305.872,300.387,297.813,295.565 ,293.593,291.852,290.309,289.265, 293.203,298.784,302.202,305.42,308.413, 311.191,313.76,316.133,318.321,319.35, 320.338,321.286,322.197,323.071,323.91, 324.715,325.489,326.232,326.946,327.632 ,328.292,328.926,329.536,330.123, 330.961,331.495,332.007,332.501,332.977 ,333.436,333.878,334.304,334.715, 335.111,335.493,335.86,336.39,336.728, 337.055,338.465,340.4,341.537,343.011, 343.915,345.841,345.779,345.732,345.682 ,345.635,345.586,345.534,345.481, 345.426,345.368,345.309,345.248,345.183 ,345.118,345.049,344.978,344.902, 344.823,344.743,344.66,344.525,344.435, 344.284,344.172,344.068,343.947,343.824 ,343.686,343.548,343.401,343.243, 343.071,342.893,342.703,342.284,341.796 ,341.367,340.855,340.271,339.318,338.14 ,336.624,331.704)
ORBIT_NUMBER = 2163
ORBITAL_ECCENTRICITY = 0.573
ORBITAL_INCLINATION = 86.63
ORBITAL_SEMIMAJOR_AXIS = 8608.75
PERIAPSIS_ALTITUDE = 282.22
PERIAPSIS_ARGUMENT_ANGLE = 338.05
PERIAPSIS_TIME = 2005-09-20T09:32:35.000Z
SPACECRAFT_ORIENTATION = (0.0,1.0,0.0)
^MEX_ORIENTATION_DESC = "MEX_ORIENTATION_DESC.TXT"
SPACECRAFT_POINTING_MODE = ACROSSTRACK
^MEX_POINTING_DESC = "MEX_POINTING_DESC.TXT"
RIGHT_ASCENSION = -1e+32
DECLINATION = -1e+32
OFFSET_ANGLE = 0.5
SPACECRAFT_SOLAR_DISTANCE = 2.10966e+08
TARGET_NAME = MARS
/* CAMERA DATA ELEMENTS */
DETECTOR_TEMPERATURE = 19.39
FOCAL_PLANE_TEMPERATURE = 10.2145
INST_CMPRS_NAME = "DISCRETE COSINE TRANSFORMATION (DCT)"
INST_CMPRS_RATIO = 11.4506
INST_CMPRS_QUALITY = 0
INST_CMPRS_QUANTZ_TBL_ID = 0
INSTRUMENT_TEMPERATURE = 11.8457
LENS_TEMPERATURE = 10.4184
MACROPIXEL_SIZE = 4
MISSING_FRAMES = 0
PIXEL_SUBSAMPLING_FLAG = N
SIGNAL_CHAIN_ID = 2
/* RADIOMETRIC DATA ELEMENTS */
BANDWIDTH = 48.0
CENTER_FILTER_WAVELENGTH = 748.0
RADIANCE_OFFSET = 1.1244
RADIANCE_SCALING_FACTOR = 0.00907221
REFLECTANCE_SCALING_FACTOR = 0.000921415
MEX:REFLECTANCE_OFFSET = 0.114199
/* IMAGE OBJECT DEFINITIONS */
OBJECT = IMAGE
  INTERCHANGE_FORMAT = BINARY
  LINES = 10411
  LINE_SAMPLES = 5404
  SAMPLE_TYPE = UNSIGNED_INTEGER
  SAMPLE_BITS = 8
  BANDS = 1
  BAND_STORAGE_TYPE = BAND_SEQUENTIAL
  MAXIMUM = 267
  MEAN = 160.359
  MINIMUM = 85
  STANDARD_DEVIATION = 26.6612
END_OBJECT = IMAGE
/* MAP OBJECT DEFINITIONS */
OBJECT = IMAGE_MAP_PROJECTION
  ^DATA_SET_MAP_PROJECTION_CATALOG= "DSMAP.CAT"
  A_AXIS_RADIUS = 3396.0
  B_AXIS_RADIUS = 3396.0
  C_AXIS_RADIUS = 3396.0
  CENTER_LATITUDE = 0.0
  CENTER_LONGITUDE = 334.0
  COORDINATE_SYSTEM_NAME = PLANETOGRAPHIC
  COORDINATE_SYSTEM_TYPE = "BODY-FIXED ROTATING"
  EASTERNMOST_LONGITUDE = 345.841
  FIRST_STANDARD_PARALLEL = "N/A"
  LINE_FIRST_PIXEL = 1
  LINE_LAST_PIXEL = 10411
  LINE_PROJECTION_OFFSET = -40804.875
  MAP_PROJECTION_ROTATION = 0.0
  MAP_PROJECTION_TYPE = SINUSOIDAL
  MAP_RESOLUTION = 592.713803866667
  MAP_SCALE = 0.1
  MAXIMUM_LATITUDE = -68.8746
  MINIMUM_LATITUDE = -86.8819
  POSITIVE_LONGITUDE_DIRECTION = EAST
  REFERENCE_LATITUDE = "N/A"
  REFERENCE_LONGITUDE = "N/A"
  SAMPLE_FIRST_PIXEL = 1
  SAMPLE_LAST_PIXEL = 5404
  SAMPLE_PROJECTION_OFFSET = 3057.625
  SECOND_STANDARD_PARALLEL = "N/A"
  WESTERNMOST_LONGITUDE = 289.265
END_OBJECT = IMAGE_MAP_PROJECTION
/* The JPEG2000 image data file associated with this label. */
OBJECT = COMPRESSED_FILE
  FILE_NAME = "H2163_0000_RE3.JP2"
  RECORD_TYPE = UNDEFINED
  FILE_RECORDS = UNK
  ENCODING_TYPE = "JP2"
  INTERCHANGE_FORMAT = BINARY
  UNCOMPRESSED_FILE_NAME = "H2163_0000_RE3.IMG"
  REQUIRED_STORAGE_BYTES = "56288064"
  ^DESCRIPTION = "JP2INFO.TXT"
END_OBJECT = COMPRESSED_FILE
END
