PDS_VERSION_ID = PDS3
/* FILE DATA ELEMENTS */
RECORD_TYPE = STREAM
/* POINTERS TO DATA OBJECTS */
^COMPRESSED_FILE = "H2167_0001_IR3.JP2"
/* IDENTIFICATION DATA ELEMENTS */
DATA_SET_ID = "MEX-M-HRSC-5-REFDR-MAPPROJECTED-V3.0"
DATA_SET_NAME = "MARS EXPRESS HRSC MAP PROJECTED REFDR V3.0"
DETECTOR_ID = MEX_HRSC_IR
EVENT_TYPE = "MARS-REGIONAL-MAPPING-Fl-Mw-La"
INSTRUMENT_HOST_ID = MEX
INSTRUMENT_HOST_NAME = "MARS EXPRESS"
INSTRUMENT_ID = HRSC
INSTRUMENT_NAME = "HIGH RESOLUTION STEREO CAMERA"
MISSION_NAME = "MARS EXPRESS"
MISSION_PHASE_NAME = MR_Phase_7
PROCESSING_LEVEL_ID = 3
PRODUCT_CREATION_TIME = 2016-03-14T11:38:04.000Z
PRODUCT_ID = "H2167_0001_IR3.JP2"
RELEASE_ID = 0027
REVISION_ID = 0000
/* QUALITY DATA ELEMENTS */
DATA_QUALITY_ID = 1
DATA_QUALITY_DESC = "Data calculated based on original SPICE kernels"
/* TIME DATA ELEMENTS */
SPACECRAFT_CLOCK_START_COUNT = "1/0075385743.56177"
SPACECRAFT_CLOCK_STOP_COUNT = "1/0075385920.38280"
START_TIME = 2005-09-21T12:30:08.098Z
STOP_TIME = 2005-09-21T12:31:58.418Z
/* ORBITAL DATA ELEMENTS */
ASCENDING_NODE_LONGITUDE = 182.79
MAXIMUM_RESOLUTION = 120.9
FOOTPRINT_POINT_LATITUDE = (-4.30323,-4.30536,-4.30758,-4.30996, -4.3125,-4.31518,-4.31536,-4.09021, -3.92826,-3.69791,-3.47265,-3.27412, -3.07857,-2.94576,-2.80999,-2.67111, -2.53758,-2.34025,-2.13762,-2.00217, -1.87106,-1.73896,-1.60509,-1.46938, -1.33628,-1.13797,-1.00548,-0.871656, -0.620426,-0.490303,-0.360309,-0.229077 ,-0.0932549,0.108148,0.244848,0.376238, 0.505583,0.638233,0.771622,0.969825, 1.10358,1.23627,1.36913,1.50419,1.63998 ,1.84362,1.9777,2.11399,2.24994,2.26575 ,2.26839,2.27158,2.27346,2.27563, 2.27792,2.27913,2.28086,2.14363,2.00812 ,1.87289,1.73716,1.5337,1.39801,1.26538 ,1.06593,0.932983,0.799522,0.665004, 0.522383,0.386834,0.184946,0.0535602, -0.141451,-0.272764,-0.405206,-0.602091 ,-0.733698,-0.863472,-1.05378,-1.17923, -1.30872,-1.44019,-1.57352,-1.70677, -1.90612,-2.03944,-2.17303,-2.30679, -2.43932,-2.57286,-2.70648,-2.84, -3.04033,-3.24074,-3.37419,-3.49816, -3.72267,-3.94787,-4.28614,-4.30323)
FOOTPRINT_POINT_LONGITUDE = (314.47,314.282,314.093,313.904,313.714 ,313.524,313.363,313.359,313.352,313.35 ,313.345,313.341,313.334,313.331, 313.329,313.329,313.326,313.32,313.317, 313.316,313.312,313.309,313.306,313.305 ,313.302,313.298,313.295,313.293, 313.281,313.278,313.274,313.271,313.27, 313.267,313.267,313.264,313.26,313.257, 313.253,313.247,313.244,313.24,313.236, 313.233,313.229,313.223,313.219,313.215 ,313.211,313.336,313.52,313.731,313.886 ,314.083,314.307,314.434,314.602, 314.707,314.705,314.703,314.701,314.697 ,314.695,314.693,314.69,314.688,314.686 ,314.685,314.685,314.685,314.684, 314.682,314.679,314.678,314.676,314.673 ,314.672,314.669,314.665,314.661, 314.659,314.657,314.655,314.654,314.651 ,314.65,314.648,314.647,314.645,314.643 ,314.642,314.64,314.638,314.635,314.633 ,314.632,314.629,314.626,314.622, 314.47)
ORBIT_NUMBER = 2167
ORBITAL_ECCENTRICITY = 0.573
ORBITAL_INCLINATION = 86.63
ORBITAL_SEMIMAJOR_AXIS = 8607.76
PERIAPSIS_ALTITUDE = 282.16
PERIAPSIS_ARGUMENT_ANGLE = 337.37
PERIAPSIS_TIME = 2005-09-21T12:25:04.000Z
SPACECRAFT_ORIENTATION = (0.0,1.0,0.0)
^MEX_ORIENTATION_DESC = "MEX_ORIENTATION_DESC.TXT"
SPACECRAFT_POINTING_MODE = ACROSSTRACK
^MEX_POINTING_DESC = "MEX_POINTING_DESC.TXT"
RIGHT_ASCENSION = -1e+32
DECLINATION = -1e+32
OFFSET_ANGLE = 0.18
SPACECRAFT_SOLAR_DISTANCE = 2.11109e+08
TARGET_NAME = MARS
/* CAMERA DATA ELEMENTS */
DETECTOR_TEMPERATURE = 21.6329
FOCAL_PLANE_TEMPERATURE = 10.2145
INST_CMPRS_NAME = "DISCRETE COSINE TRANSFORMATION (DCT)"
INST_CMPRS_RATIO = 14.2966
INST_CMPRS_QUALITY = 0
INST_CMPRS_QUANTZ_TBL_ID = 0
INSTRUMENT_TEMPERATURE = 15.7198
LENS_TEMPERATURE = 10.8262
MACROPIXEL_SIZE = 8
MISSING_FRAMES = 0
PIXEL_SUBSAMPLING_FLAG = N
SIGNAL_CHAIN_ID = 2
/* RADIOMETRIC DATA ELEMENTS */
BANDWIDTH = 81.0
CENTER_FILTER_WAVELENGTH = 955.5
RADIANCE_OFFSET = 0.922788
RADIANCE_SCALING_FACTOR = 0.00944903
REFLECTANCE_SCALING_FACTOR = 0.000908512
MEX:REFLECTANCE_OFFSET = 0.0887249
/* IMAGE OBJECT DEFINITIONS */
OBJECT = IMAGE
  INTERCHANGE_FORMAT = BINARY
  LINES = 3907
  LINE_SAMPLES = 888
  SAMPLE_TYPE = UNSIGNED_INTEGER
  SAMPLE_BITS = 8
  BANDS = 1
  BAND_STORAGE_TYPE = BAND_SEQUENTIAL
  MAXIMUM = 133
  MEAN = 89.0183
  MINIMUM = 33
  STANDARD_DEVIATION = 17.3975
END_OBJECT = IMAGE
/* MAP OBJECT DEFINITIONS */
OBJECT = IMAGE_MAP_PROJECTION
  ^DATA_SET_MAP_PROJECTION_CATALOG= "DSMAP.CAT"
  A_AXIS_RADIUS = 3396.0
  B_AXIS_RADIUS = 3396.0
  C_AXIS_RADIUS = 3396.0
  CENTER_LATITUDE = 0.0
  CENTER_LONGITUDE = 314.0
  COORDINATE_SYSTEM_NAME = PLANETOGRAPHIC
  COORDINATE_SYSTEM_TYPE = "BODY-FIXED ROTATING"
  EASTERNMOST_LONGITUDE = 314.707
  FIRST_STANDARD_PARALLEL = "N/A"
  LINE_FIRST_PIXEL = 1
  LINE_LAST_PIXEL = 3907
  LINE_PROJECTION_OFFSET = 1359.9375
  MAP_PROJECTION_ROTATION = 0.0
  MAP_PROJECTION_TYPE = SINUSOIDAL
  MAP_RESOLUTION = 592.713803866667
  MAP_SCALE = 0.1
  MAXIMUM_LATITUDE = 2.28086
  MINIMUM_LATITUDE = -4.31536
  POSITIVE_LONGITUDE_DIRECTION = EAST
  REFERENCE_LATITUDE = "N/A"
  REFERENCE_LONGITUDE = "N/A"
  SAMPLE_FIRST_PIXEL = 1
  SAMPLE_LAST_PIXEL = 888
  SAMPLE_PROJECTION_OFFSET = 475.5625
  SECOND_STANDARD_PARALLEL = "N/A"
  WESTERNMOST_LONGITUDE = 313.211
END_OBJECT = IMAGE_MAP_PROJECTION
/* The JPEG2000 image data file associated with this label. */
OBJECT = COMPRESSED_FILE
  FILE_NAME = "H2167_0001_IR3.JP2"
  RECORD_TYPE = UNDEFINED
  FILE_RECORDS = UNK
  ENCODING_TYPE = "JP2"
  INTERCHANGE_FORMAT = BINARY
  UNCOMPRESSED_FILE_NAME = "H2167_0001_IR3.IMG"
  REQUIRED_STORAGE_BYTES = "3487176"
  ^DESCRIPTION = "JP2INFO.TXT"
END_OBJECT = COMPRESSED_FILE
END
