PDS_VERSION_ID = PDS3
/* FILE DATA ELEMENTS */
RECORD_TYPE = STREAM
/* POINTERS TO DATA OBJECTS */
^COMPRESSED_FILE = "H2167_0001_P23.JP2"
/* IDENTIFICATION DATA ELEMENTS */
DATA_SET_ID = "MEX-M-HRSC-5-REFDR-MAPPROJECTED-V3.0"
DATA_SET_NAME = "MARS EXPRESS HRSC MAP PROJECTED REFDR V3.0"
DETECTOR_ID = MEX_HRSC_P2
EVENT_TYPE = "MARS-REGIONAL-MAPPING-Fl-Mw-La"
INSTRUMENT_HOST_ID = MEX
INSTRUMENT_HOST_NAME = "MARS EXPRESS"
INSTRUMENT_ID = HRSC
INSTRUMENT_NAME = "HIGH RESOLUTION STEREO CAMERA"
MISSION_NAME = "MARS EXPRESS"
MISSION_PHASE_NAME = MR_Phase_7
PROCESSING_LEVEL_ID = 3
PRODUCT_CREATION_TIME = 2016-03-14T11:38:04.000Z
PRODUCT_ID = "H2167_0001_P23.JP2"
RELEASE_ID = 0027
REVISION_ID = 0000
/* QUALITY DATA ELEMENTS */
DATA_QUALITY_ID = 1
DATA_QUALITY_DESC = "Data calculated based on original SPICE kernels"
/* TIME DATA ELEMENTS */
SPACECRAFT_CLOCK_START_COUNT = "1/0075385743.56177"
SPACECRAFT_CLOCK_STOP_COUNT = "1/0075385920.38280"
START_TIME = 2005-09-21T12:29:20.965Z
STOP_TIME = 2005-09-21T12:31:01.283Z
/* ORBITAL DATA ELEMENTS */
ASCENDING_NODE_LONGITUDE = 182.79
MAXIMUM_RESOLUTION = 27.9
FOOTPRINT_POINT_LATITUDE = (-4.2902,-4.28958,-4.28885,-4.28789, -4.28672,-4.28536,-4.28441,-4.15943, -4.03422,-3.84433,-3.71923,-3.59652, -3.40919,-3.28361,-3.15523,-3.03053, -2.9052,-2.6633,-2.53892,-2.41262, -2.28805,-2.10471,-1.98313,-1.85891, -1.73302,-1.60917,-1.42612,-1.30455, -1.181,-0.996157,-0.874266,-0.681437, -0.553354,-0.429205,-0.243825,-0.100489 ,0.112689,0.330486,0.476318,0.623345, 0.845314,1.06489,1.2118,1.43174,1.57846 ,1.72496,1.87132,2.01731,2.16431, 2.31079,2.31343,2.31334,2.31294,2.31283 ,2.31307,2.3134,2.31363,2.16721,2.02087 ,1.801,1.65422,1.50729,1.28706,1.14016, 0.992895,0.772398,0.555116,0.419379, 0.274748,0.128551,-0.0194478,-0.241318, -0.36535,-0.4873,-0.609907,-0.733335, -0.857992,-0.982653,-1.11351,-1.30474, -1.49197,-1.61491,-1.73839,-1.8623, -2.04777,-2.17153,-2.35752,-2.48202, -2.60598,-2.73024,-2.85456,-2.97935, -3.10388,-3.29154,-3.47879,-3.66642, -3.85352,-3.9785,-4.16555,-4.2902)
FOOTPRINT_POINT_LONGITUDE = (314.492,314.262,314.078,313.894, 313.709,313.523,313.392,313.39,313.387, 313.383,313.38,313.379,313.376,313.373, 313.368,313.366,313.363,313.363,313.36, 313.357,313.354,313.353,313.352,313.349 ,313.346,313.343,313.341,313.34,313.338 ,313.335,313.333,313.325,313.32,313.317 ,313.313,313.312,313.312,313.309, 313.306,313.303,313.297,313.292,313.289 ,313.284,313.28,313.277,313.273,313.27, 313.266,313.263,313.397,313.517,313.692 ,313.959,314.2,314.386,314.533,314.643, 314.641,314.639,314.637,314.635,314.633 ,314.631,314.63,314.627,314.626,314.628 ,314.628,314.627,314.625,314.622, 314.621,314.62,314.62,314.618,314.617, 314.616,314.612,314.609,314.607,314.606 ,314.605,314.604,314.602,314.602,314.6, 314.599,314.598,314.597,314.596,314.595 ,314.594,314.592,314.59,314.588,314.587 ,314.586,314.584,314.492)
ORBIT_NUMBER = 2167
ORBITAL_ECCENTRICITY = 0.573
ORBITAL_INCLINATION = 86.63
ORBITAL_SEMIMAJOR_AXIS = 8607.76
PERIAPSIS_ALTITUDE = 282.16
PERIAPSIS_ARGUMENT_ANGLE = 337.37
PERIAPSIS_TIME = 2005-09-21T12:25:04.000Z
SPACECRAFT_ORIENTATION = (0.0,1.0,0.0)
^MEX_ORIENTATION_DESC = "MEX_ORIENTATION_DESC.TXT"
SPACECRAFT_POINTING_MODE = ACROSSTRACK
^MEX_POINTING_DESC = "MEX_POINTING_DESC.TXT"
RIGHT_ASCENSION = -1e+32
DECLINATION = -1e+32
OFFSET_ANGLE = 0.18
SPACECRAFT_SOLAR_DISTANCE = 2.11109e+08
TARGET_NAME = MARS
/* CAMERA DATA ELEMENTS */
DETECTOR_TEMPERATURE = 23.468
FOCAL_PLANE_TEMPERATURE = 10.2145
INST_CMPRS_NAME = "DISCRETE COSINE TRANSFORMATION (DCT)"
INST_CMPRS_RATIO = 8.84079
INST_CMPRS_QUALITY = 0
INST_CMPRS_QUANTZ_TBL_ID = 0
INSTRUMENT_TEMPERATURE = 15.7198
LENS_TEMPERATURE = 10.8262
MACROPIXEL_SIZE = 2
MISSING_FRAMES = 0
PIXEL_SUBSAMPLING_FLAG = N
SIGNAL_CHAIN_ID = 3
/* RADIOMETRIC DATA ELEMENTS */
BANDWIDTH = 177.0
CENTER_FILTER_WAVELENGTH = 676.5
RADIANCE_OFFSET = 4.20118
RADIANCE_SCALING_FACTOR = 0.0323168
REFLECTANCE_SCALING_FACTOR = 0.000763664
MEX:REFLECTANCE_OFFSET = 0.0992763
/* IMAGE OBJECT DEFINITIONS */
OBJECT = IMAGE
  INTERCHANGE_FORMAT = BINARY
  LINES = 15625
  LINE_SAMPLES = 3550
  SAMPLE_TYPE = UNSIGNED_INTEGER
  SAMPLE_BITS = 8
  BANDS = 1
  BAND_STORAGE_TYPE = BAND_SEQUENTIAL
  MAXIMUM = 161
  MEAN = 111.875
  MINIMUM = 41
  STANDARD_DEVIATION = 17.6229
END_OBJECT = IMAGE
/* MAP OBJECT DEFINITIONS */
OBJECT = IMAGE_MAP_PROJECTION
  ^DATA_SET_MAP_PROJECTION_CATALOG= "DSMAP.CAT"
  A_AXIS_RADIUS = 3396.0
  B_AXIS_RADIUS = 3396.0
  C_AXIS_RADIUS = 3396.0
  CENTER_LATITUDE = 0.0
  CENTER_LONGITUDE = 314.0
  COORDINATE_SYSTEM_NAME = PLANETOGRAPHIC
  COORDINATE_SYSTEM_TYPE = "BODY-FIXED ROTATING"
  EASTERNMOST_LONGITUDE = 314.643
  FIRST_STANDARD_PARALLEL = "N/A"
  LINE_FIRST_PIXEL = 1
  LINE_LAST_PIXEL = 15625
  LINE_PROJECTION_OFFSET = 5441.25
  MAP_PROJECTION_ROTATION = 0.0
  MAP_PROJECTION_TYPE = SINUSOIDAL
  MAP_RESOLUTION = 2370.85521546667
  MAP_SCALE = 0.025
  MAXIMUM_LATITUDE = 2.31363
  MINIMUM_LATITUDE = -4.2902
  POSITIVE_LONGITUDE_DIRECTION = EAST
  REFERENCE_LATITUDE = "N/A"
  REFERENCE_LONGITUDE = "N/A"
  SAMPLE_FIRST_PIXEL = 1
  SAMPLE_LAST_PIXEL = 3550
  SAMPLE_PROJECTION_OFFSET = 1903.75
  SECOND_STANDARD_PARALLEL = "N/A"
  WESTERNMOST_LONGITUDE = 313.263
END_OBJECT = IMAGE_MAP_PROJECTION
/* The JPEG2000 image data file associated with this label. */
OBJECT = COMPRESSED_FILE
  FILE_NAME = "H2167_0001_P23.JP2"
  RECORD_TYPE = UNDEFINED
  FILE_RECORDS = UNK
  ENCODING_TYPE = "JP2"
  INTERCHANGE_FORMAT = BINARY
  UNCOMPRESSED_FILE_NAME = "H2167_0001_P23.IMG"
  REQUIRED_STORAGE_BYTES = "55490050"
  ^DESCRIPTION = "JP2INFO.TXT"
END_OBJECT = COMPRESSED_FILE
END
