PDS_VERSION_ID = PDS3
/* FILE DATA ELEMENTS */
RECORD_TYPE = STREAM
/* POINTERS TO DATA OBJECTS */
^COMPRESSED_FILE = "H2169_0000_ND3.JP2"
/* IDENTIFICATION DATA ELEMENTS */
DATA_SET_ID = "MEX-M-HRSC-5-REFDR-MAPPROJECTED-V3.0"
DATA_SET_NAME = "MARS EXPRESS HRSC MAP PROJECTED REFDR V3.0"
DETECTOR_ID = MEX_HRSC_NADIR
EVENT_TYPE = "MARS-REGIONAL-MAPPING-Gl-La"
INSTRUMENT_HOST_ID = MEX
INSTRUMENT_HOST_NAME = "MARS EXPRESS"
INSTRUMENT_ID = HRSC
INSTRUMENT_NAME = "HIGH RESOLUTION STEREO CAMERA"
MISSION_NAME = "MARS EXPRESS"
MISSION_PHASE_NAME = MR_Phase_7
PROCESSING_LEVEL_ID = 3
PRODUCT_CREATION_TIME = 2016-03-14T11:38:04.000Z
PRODUCT_ID = "H2169_0000_ND3.JP2"
RELEASE_ID = 0027
REVISION_ID = 0000
/* QUALITY DATA ELEMENTS */
DATA_QUALITY_ID = 1
DATA_QUALITY_DESC = "Data calculated based on original SPICE kernels"
/* TIME DATA ELEMENTS */
SPACECRAFT_CLOCK_START_COUNT = "1/0075432443.56177"
SPACECRAFT_CLOCK_STOP_COUNT = "1/0075433189.13233"
START_TIME = 2005-09-22T01:32:00.935Z
STOP_TIME = 2005-09-22T01:38:37.963Z
/* ORBITAL DATA ELEMENTS */
ASCENDING_NODE_LONGITUDE = 182.74
MAXIMUM_RESOLUTION = 30.7
FOOTPRINT_POINT_LATITUDE = (-87.5364,-87.0446,-86.6994,-86.1096, -85.6078,-85.011,-84.3583,-84.0104, -83.7882,-83.501,-83.1557,-82.7593, -82.3173,-81.8352,-81.3186,-81.0488, -80.7719,-80.4883,-80.1983,-79.9025, -79.6009,-79.2939,-78.9819,-78.665, -78.3434,-78.0175,-77.6873,-77.3529, -77.0157,-76.6738,-76.3279,-75.9796, -75.6271,-75.2713,-74.9118,-74.5497, -74.1839,-73.8156,-73.4447,-73.0704, -72.6936,-72.3139,-71.9317,-71.5465, -70.9673,-70.5844,-70.2045,-69.8278, -69.4533,-69.0818,-69.1774,-69.2987, -69.367,-69.4071,-69.4466,-69.8313, -70.2197,-70.6113,-71.0065,-71.4058, -71.8086,-72.2132,-72.616,-73.017, -73.416,-73.8133,-74.2087,-74.6024, -74.9942,-75.3843,-75.7725,-76.1589, -76.5432,-76.926,-77.3069,-77.686, -78.0631,-78.4385,-78.8119,-79.1836, -79.5535,-79.9216,-80.2878,-80.6519, -81.0144,-81.3749,-81.7335,-82.0903, -82.4451,-82.7979,-83.1486,-83.4974, -83.8439,-84.5304,-85.2077,-85.8736, -86.5264,-87.1617,-87.7701,-87.5364)
FOOTPRINT_POINT_LONGITUDE = (84.4163,73.8738,68.981,63.0341,59.4097 ,56.1443,53.4225,53.9039,59.7162,65.115 ,70.0532,74.5225,78.5327,82.1121, 85.3031,86.7665,88.148,89.4522,90.6842, 91.8492,92.9496,93.9905,94.9764,95.9093 ,96.7938,97.633,98.4286,99.1831,99.9106 ,100.595,101.242,101.868,102.459, 103.022,103.556,104.069,104.553,105.021 ,105.472,105.898,106.308,106.7,107.079, 107.437,107.945,108.265,108.569,108.859 ,109.132,109.393,111.009,113.148, 114.636,115.686,116.926,116.881,116.834 ,116.784,116.731,116.671,116.622, 116.561,116.496,116.426,116.344,116.269 ,116.186,116.1,116.011,115.924,115.831, 115.728,115.607,115.498,115.376,115.245 ,115.104,114.954,114.79,114.62,114.44, 114.252,114.046,113.814,113.573,113.312 ,113.029,112.723,112.387,112.019,111.61 ,111.163,110.66,109.472,107.972,105.966 ,103.233,99.2922,93.1973,84.4163)
ORBIT_NUMBER = 2169
ORBITAL_ECCENTRICITY = 0.573
ORBITAL_INCLINATION = 86.61
ORBITAL_SEMIMAJOR_AXIS = 8613.56
PERIAPSIS_ALTITUDE = 281.57
PERIAPSIS_ARGUMENT_ANGLE = 336.99
PERIAPSIS_TIME = 2005-09-22T01:51:17.000Z
SPACECRAFT_ORIENTATION = (0.0,1.0,0.0)
^MEX_ORIENTATION_DESC = "MEX_ORIENTATION_DESC.TXT"
SPACECRAFT_POINTING_MODE = NADIR
^MEX_POINTING_DESC = "MEX_POINTING_DESC.TXT"
RIGHT_ASCENSION = -1e+32
DECLINATION = -1e+32
OFFSET_ANGLE = -1e+32
SPACECRAFT_SOLAR_DISTANCE = 2.11182e+08
TARGET_NAME = MARS
/* CAMERA DATA ELEMENTS */
DETECTOR_TEMPERATURE = 18.3705
FOCAL_PLANE_TEMPERATURE = 9.3989
INST_CMPRS_NAME = "DISCRETE COSINE TRANSFORMATION (DCT)"
INST_CMPRS_RATIO = 6.83174
INST_CMPRS_QUALITY = 0
INST_CMPRS_QUANTZ_TBL_ID = 0
INSTRUMENT_TEMPERATURE = 11.6418
LENS_TEMPERATURE = 9.6028
MACROPIXEL_SIZE = 1
MISSING_FRAMES = 0
PIXEL_SUBSAMPLING_FLAG = N
SIGNAL_CHAIN_ID = 0
/* RADIOMETRIC DATA ELEMENTS */
BANDWIDTH = 177.0
CENTER_FILTER_WAVELENGTH = 677.5
RADIANCE_OFFSET = 3.84033
RADIANCE_SCALING_FACTOR = 0.0303323
REFLECTANCE_SCALING_FACTOR = 0.000718611
MEX:REFLECTANCE_OFFSET = 0.0909822
/* IMAGE OBJECT DEFINITIONS */
OBJECT = IMAGE
  INTERCHANGE_FORMAT = BINARY
  LINES = 44310
  LINE_SAMPLES = 22152
  SAMPLE_TYPE = UNSIGNED_INTEGER
  SAMPLE_BITS = 8
  BANDS = 1
  BAND_STORAGE_TYPE = BAND_SEQUENTIAL
  MAXIMUM = 223
  MEAN = 111.735
  MINIMUM = 66
  STANDARD_DEVIATION = 15.1967
END_OBJECT = IMAGE
/* MAP OBJECT DEFINITIONS */
OBJECT = IMAGE_MAP_PROJECTION
  ^DATA_SET_MAP_PROJECTION_CATALOG= "DSMAP.CAT"
  A_AXIS_RADIUS = 3396.0
  B_AXIS_RADIUS = 3396.0
  C_AXIS_RADIUS = 3396.0
  CENTER_LATITUDE = 0.0
  CENTER_LONGITUDE = 106.0
  COORDINATE_SYSTEM_NAME = PLANETOGRAPHIC
  COORDINATE_SYSTEM_TYPE = "BODY-FIXED ROTATING"
  EASTERNMOST_LONGITUDE = 116.926
  FIRST_STANDARD_PARALLEL = "N/A"
  LINE_FIRST_PIXEL = 1
  LINE_LAST_PIXEL = 44310
  LINE_PROJECTION_OFFSET = -163769.0
  MAP_PROJECTION_ROTATION = 0.0
  MAP_PROJECTION_TYPE = SINUSOIDAL
  MAP_RESOLUTION = 2370.85521546667
  MAP_SCALE = 0.025
  MAXIMUM_LATITUDE = -69.0818
  MINIMUM_LATITUDE = -87.7701
  POSITIVE_LONGITUDE_DIRECTION = EAST
  REFERENCE_LATITUDE = "N/A"
  REFERENCE_LONGITUDE = "N/A"
  SAMPLE_FIRST_PIXEL = 1
  SAMPLE_LAST_PIXEL = 22152
  SAMPLE_PROJECTION_OFFSET = 13060.0
  SECOND_STANDARD_PARALLEL = "N/A"
  WESTERNMOST_LONGITUDE = 53.4225
END_OBJECT = IMAGE_MAP_PROJECTION
/* The JPEG2000 image data file associated with this label. */
OBJECT = COMPRESSED_FILE
  FILE_NAME = "H2169_0000_ND3.JP2"
  RECORD_TYPE = UNDEFINED
  FILE_RECORDS = UNK
  ENCODING_TYPE = "JP2"
  INTERCHANGE_FORMAT = BINARY
  UNCOMPRESSED_FILE_NAME = "H2169_0000_ND3.IMG"
  REQUIRED_STORAGE_BYTES = "981621576"
  ^DESCRIPTION = "JP2INFO.TXT"
END_OBJECT = COMPRESSED_FILE
END
