PDS_VERSION_ID = PDS3
/* FILE DATA ELEMENTS */
RECORD_TYPE = STREAM
/* POINTERS TO DATA OBJECTS */
^COMPRESSED_FILE = "H2175_0000_GR3.JP2"
/* IDENTIFICATION DATA ELEMENTS */
DATA_SET_ID = "MEX-M-HRSC-5-REFDR-MAPPROJECTED-V3.0"
DATA_SET_NAME = "MARS EXPRESS HRSC MAP PROJECTED REFDR V3.0"
DETECTOR_ID = MEX_HRSC_GREEN
EVENT_TYPE = "MARS-REGIONAL-MAPPING-Vo-Te-Gl"
INSTRUMENT_HOST_ID = MEX
INSTRUMENT_HOST_NAME = "MARS EXPRESS"
INSTRUMENT_ID = HRSC
INSTRUMENT_NAME = "HIGH RESOLUTION STEREO CAMERA"
MISSION_NAME = "MARS EXPRESS"
MISSION_PHASE_NAME = MR_Phase_7
PROCESSING_LEVEL_ID = 3
PRODUCT_CREATION_TIME = 2016-03-14T11:38:04.000Z
PRODUCT_ID = "H2175_0000_GR3.JP2"
RELEASE_ID = 0027
REVISION_ID = 0000
/* QUALITY DATA ELEMENTS */
DATA_QUALITY_ID = 1
DATA_QUALITY_DESC = "Data calculated based on original SPICE kernels"
/* TIME DATA ELEMENTS */
SPACECRAFT_CLOCK_START_COUNT = "1/0075579275.56197"
SPACECRAFT_CLOCK_STOP_COUNT = "1/0075579526.54789"
START_TIME = 2005-09-23T18:15:20.451Z
STOP_TIME = 2005-09-23T18:18:08.802Z
/* ORBITAL DATA ELEMENTS */
ASCENDING_NODE_LONGITUDE = 182.62
MAXIMUM_RESOLUTION = 56.2
FOOTPRINT_POINT_LATITUDE = (-4.66702,-4.66673,-4.6664,-4.6537, -4.44144,-4.22938,-4.01759,-3.806, -3.59468,-3.38354,-3.17263,-2.96195, -2.75155,-2.54133,-2.33144,-2.12182, -1.80749,-1.59763,-1.38833,-1.17844, -0.864273,-0.654805,-0.446251,-0.134139 ,0.0726248,0.278924,0.485008,0.793296, 0.999036,1.20483,1.41082,1.61637, 1.82089,2.0247,2.22799,2.43036,2.63289, 2.83524,3.13698,3.33853,3.64009,3.84135 ,4.14252,4.34415,4.54484,4.84565, 5.24593,5.54506,5.66924,5.67002,5.6711, 5.67157,5.67204,5.6715,5.27269,4.87256, 4.67206,4.47131,4.27031,4.06916,3.86731 ,3.56523,3.36321,3.16095,2.95824, 2.75514,2.55213,2.34975,2.14648,1.94289 ,1.63661,1.43208,1.22679,1.02108, 0.814872,0.608235,0.401249,0.0898601, -0.1178,-0.325519,-0.638004,-0.846514, -1.05487,-1.26327,-1.4719,-1.68079, -1.88984,-2.09926,-2.30893,-2.5188, -2.72902,-2.93942,-3.15001,-3.36093, -3.57202,-3.78338,-3.99501,-4.20684, -4.41894,-4.66702)
FOOTPRINT_POINT_LONGITUDE = (248.872,248.493,248.118,247.829, 247.825,247.821,247.817,247.813,247.809 ,247.805,247.801,247.797,247.792, 247.788,247.783,247.779,247.772,247.768 ,247.764,247.76,247.753,247.749,247.745 ,247.738,247.733,247.728,247.723, 247.714,247.709,247.704,247.699,247.694 ,247.689,247.683,247.677,247.671, 247.665,247.659,247.649,247.642,247.632 ,247.626,247.617,247.611,247.605, 247.596,247.584,247.574,247.885,248.127 ,248.461,248.674,248.995,249.2,249.193, 249.185,249.182,249.178,249.175,249.171 ,249.168,249.161,249.157,249.153, 249.149,249.145,249.141,249.135,249.13, 249.126,249.12,249.116,249.113,249.11, 249.108,249.107,249.105,249.104,249.103 ,249.102,249.1,249.099,249.097,249.095, 249.092,249.09,249.087,249.085,249.082, 249.08,249.078,249.076,249.074,249.072, 249.069,249.067,249.065,249.064,249.062 ,248.872)
ORBIT_NUMBER = 2175
ORBITAL_ECCENTRICITY = 0.574
ORBITAL_INCLINATION = 86.62
ORBITAL_SEMIMAJOR_AXIS = 8617.71
PERIAPSIS_ALTITUDE = 280.94
PERIAPSIS_ARGUMENT_ANGLE = 335.92
PERIAPSIS_TIME = 2005-09-23T18:10:19.000Z
SPACECRAFT_ORIENTATION = (0.0,1.0,0.0)
^MEX_ORIENTATION_DESC = "MEX_ORIENTATION_DESC.TXT"
SPACECRAFT_POINTING_MODE = ACROSSTRACK
^MEX_POINTING_DESC = "MEX_POINTING_DESC.TXT"
RIGHT_ASCENSION = -1e+32
DECLINATION = -1e+32
OFFSET_ANGLE = -0.458
SPACECRAFT_SOLAR_DISTANCE = 2.11402e+08
TARGET_NAME = MARS
/* CAMERA DATA ELEMENTS */
DETECTOR_TEMPERATURE = 18.1666
FOCAL_PLANE_TEMPERATURE = 8.7872
INST_CMPRS_NAME = "DISCRETE COSINE TRANSFORMATION (DCT)"
INST_CMPRS_RATIO = 12.987
INST_CMPRS_QUALITY = 0
INST_CMPRS_QUANTZ_TBL_ID = 0
INSTRUMENT_TEMPERATURE = 11.234
LENS_TEMPERATURE = 9.195
MACROPIXEL_SIZE = 4
MISSING_FRAMES = 0
PIXEL_SUBSAMPLING_FLAG = N
SIGNAL_CHAIN_ID = 2
/* RADIOMETRIC DATA ELEMENTS */
BANDWIDTH = 88.0
CENTER_FILTER_WAVELENGTH = 538.0
RADIANCE_OFFSET = 1.6396
RADIANCE_SCALING_FACTOR = 0.00959201
REFLECTANCE_SCALING_FACTOR = 0.000369078
MEX:REFLECTANCE_OFFSET = 0.063088
/* IMAGE OBJECT DEFINITIONS */
OBJECT = IMAGE
  INTERCHANGE_FORMAT = BINARY
  LINES = 12240
  LINE_SAMPLES = 2028
  SAMPLE_TYPE = UNSIGNED_INTEGER
  SAMPLE_BITS = 8
  BANDS = 1
  BAND_STORAGE_TYPE = BAND_SEQUENTIAL
  MAXIMUM = 161
  MEAN = 128.978
  MINIMUM = 49
  STANDARD_DEVIATION = 7.64521
END_OBJECT = IMAGE
/* MAP OBJECT DEFINITIONS */
OBJECT = IMAGE_MAP_PROJECTION
  ^DATA_SET_MAP_PROJECTION_CATALOG= "DSMAP.CAT"
  A_AXIS_RADIUS = 3396.0
  B_AXIS_RADIUS = 3396.0
  C_AXIS_RADIUS = 3396.0
  CENTER_LATITUDE = 0.0
  CENTER_LONGITUDE = 248.0
  COORDINATE_SYSTEM_NAME = PLANETOGRAPHIC
  COORDINATE_SYSTEM_TYPE = "BODY-FIXED ROTATING"
  EASTERNMOST_LONGITUDE = 249.2
  FIRST_STANDARD_PARALLEL = "N/A"
  LINE_FIRST_PIXEL = 1
  LINE_LAST_PIXEL = 12240
  LINE_PROJECTION_OFFSET = 6700.875
  MAP_PROJECTION_ROTATION = 0.0
  MAP_PROJECTION_TYPE = SINUSOIDAL
  MAP_RESOLUTION = 1185.42760773333
  MAP_SCALE = 0.05
  MAXIMUM_LATITUDE = 5.67204
  MINIMUM_LATITUDE = -4.66702
  POSITIVE_LONGITUDE_DIRECTION = EAST
  REFERENCE_LATITUDE = "N/A"
  REFERENCE_LONGITUDE = "N/A"
  SAMPLE_FIRST_PIXEL = 1
  SAMPLE_LAST_PIXEL = 2028
  SAMPLE_PROJECTION_OFFSET = 526.875
  SECOND_STANDARD_PARALLEL = "N/A"
  WESTERNMOST_LONGITUDE = 247.574
END_OBJECT = IMAGE_MAP_PROJECTION
/* The JPEG2000 image data file associated with this label. */
OBJECT = COMPRESSED_FILE
  FILE_NAME = "H2175_0000_GR3.JP2"
  RECORD_TYPE = UNDEFINED
  FILE_RECORDS = UNK
  ENCODING_TYPE = "JP2"
  INTERCHANGE_FORMAT = BINARY
  UNCOMPRESSED_FILE_NAME = "H2175_0000_GR3.IMG"
  REQUIRED_STORAGE_BYTES = "24843000"
  ^DESCRIPTION = "JP2INFO.TXT"
END_OBJECT = COMPRESSED_FILE
END
