PDS_VERSION_ID = PDS3
/* FILE DATA ELEMENTS */
RECORD_TYPE = STREAM
/* POINTERS TO DATA OBJECTS */
^COMPRESSED_FILE = "H2175_0000_ND3.JP2"
/* IDENTIFICATION DATA ELEMENTS */
DATA_SET_ID = "MEX-M-HRSC-5-REFDR-MAPPROJECTED-V3.0"
DATA_SET_NAME = "MARS EXPRESS HRSC MAP PROJECTED REFDR V3.0"
DETECTOR_ID = MEX_HRSC_NADIR
EVENT_TYPE = "MARS-REGIONAL-MAPPING-Vo-Te-Gl"
INSTRUMENT_HOST_ID = MEX
INSTRUMENT_HOST_NAME = "MARS EXPRESS"
INSTRUMENT_ID = HRSC
INSTRUMENT_NAME = "HIGH RESOLUTION STEREO CAMERA"
MISSION_NAME = "MARS EXPRESS"
MISSION_PHASE_NAME = MR_Phase_7
PROCESSING_LEVEL_ID = 3
PRODUCT_CREATION_TIME = 2016-03-14T11:38:04.000Z
PRODUCT_ID = "H2175_0000_ND3.JP2"
RELEASE_ID = 0027
REVISION_ID = 0000
/* QUALITY DATA ELEMENTS */
DATA_QUALITY_ID = 1
DATA_QUALITY_DESC = "Data calculated based on original SPICE kernels"
/* TIME DATA ELEMENTS */
SPACECRAFT_CLOCK_START_COUNT = "1/0075579275.56197"
SPACECRAFT_CLOCK_STOP_COUNT = "1/0075579526.54789"
START_TIME = 2005-09-23T18:15:14.843Z
STOP_TIME = 2005-09-23T18:18:00.826Z
/* ORBITAL DATA ELEMENTS */
ASCENDING_NODE_LONGITUDE = 182.62
MAXIMUM_RESOLUTION = 13.9
FOOTPRINT_POINT_LATITUDE = (-4.66731,-4.66926,-4.67105,-4.5631, -4.3515,-4.14008,-3.92888,-3.71788, -3.50708,-3.29648,-3.08609,-2.87592, -2.66596,-2.4562,-2.2467,-2.0374, -1.82824,-1.61927,-1.41044,-1.20183, -0.993292,-0.785099,-0.473068,-0.265502 ,-0.0582689,0.148602,0.355139,0.561488, 0.767557,0.973511,1.1793,1.38495, 1.59029,1.79528,1.99993,2.20419,2.40819 ,2.61187,2.81541,3.01859,3.22141, 3.42419,3.62662,3.82895,4.2329,4.63606, 5.03816,5.43916,5.64516,5.64749,5.65117 ,5.65333,5.6547,5.2541,4.85241,4.44966, 4.04591,3.84351,3.64115,3.43846,3.23545 ,3.03217,2.82863,2.62481,2.42105, 2.21686,2.01241,1.80772,1.60271,1.39749 ,1.19191,0.986046,0.779922,0.573491, 0.366811,0.159863,-0.0472989,-0.254673, -0.462246,-0.670106,-0.878188,-1.08637, -1.29475,-1.50336,-1.71218,-1.92123, -2.1305,-2.34001,-2.54971,-2.75966, -2.96981,-3.18015,-3.39073,-3.6015, -3.8125,-4.0237,-4.2351,-4.4467, -4.65851,-4.66731)
FOOTPRINT_POINT_LONGITUDE = (248.804,248.406,248.013,247.827, 247.823,247.819,247.815,247.811,247.807 ,247.802,247.798,247.794,247.79,247.785 ,247.781,247.777,247.772,247.768, 247.764,247.759,247.756,247.751,247.745 ,247.741,247.736,247.731,247.726, 247.721,247.715,247.71,247.705,247.7, 247.695,247.69,247.685,247.679,247.673, 247.666,247.66,247.654,247.647,247.641, 247.634,247.628,247.616,247.604,247.592 ,247.58,247.731,248.031,248.555,248.906 ,249.188,249.18,249.173,249.167,249.159 ,249.157,249.152,249.147,249.144,249.14 ,249.136,249.133,249.127,249.122, 249.118,249.113,249.11,249.106,249.103, 249.101,249.099,249.098,249.097,249.096 ,249.095,249.094,249.092,249.092, 249.091,249.089,249.086,249.084,249.081 ,249.079,249.077,249.075,249.072,249.07 ,249.068,249.066,249.064,249.062,249.06 ,249.059,249.057,249.055,249.053, 248.804)
ORBIT_NUMBER = 2175
ORBITAL_ECCENTRICITY = 0.574
ORBITAL_INCLINATION = 86.62
ORBITAL_SEMIMAJOR_AXIS = 8617.71
PERIAPSIS_ALTITUDE = 280.94
PERIAPSIS_ARGUMENT_ANGLE = 335.92
PERIAPSIS_TIME = 2005-09-23T18:10:19.000Z
SPACECRAFT_ORIENTATION = (0.0,1.0,0.0)
^MEX_ORIENTATION_DESC = "MEX_ORIENTATION_DESC.TXT"
SPACECRAFT_POINTING_MODE = ACROSSTRACK
^MEX_POINTING_DESC = "MEX_POINTING_DESC.TXT"
RIGHT_ASCENSION = -1e+32
DECLINATION = -1e+32
OFFSET_ANGLE = -0.458
SPACECRAFT_SOLAR_DISTANCE = 2.11402e+08
TARGET_NAME = MARS
/* CAMERA DATA ELEMENTS */
DETECTOR_TEMPERATURE = 18.1666
FOCAL_PLANE_TEMPERATURE = 8.7872
INST_CMPRS_NAME = "DISCRETE COSINE TRANSFORMATION (DCT)"
INST_CMPRS_RATIO = 6.77419
INST_CMPRS_QUALITY = 0
INST_CMPRS_QUANTZ_TBL_ID = 0
INSTRUMENT_TEMPERATURE = 11.234
LENS_TEMPERATURE = 9.195
MACROPIXEL_SIZE = 1
MISSING_FRAMES = 0
PIXEL_SUBSAMPLING_FLAG = N
SIGNAL_CHAIN_ID = 0
/* RADIOMETRIC DATA ELEMENTS */
BANDWIDTH = 177.0
CENTER_FILTER_WAVELENGTH = 677.5
RADIANCE_OFFSET = 5.24554
RADIANCE_SCALING_FACTOR = 0.0368855
REFLECTANCE_SCALING_FACTOR = 0.000875709
MEX:REFLECTANCE_OFFSET = 0.124536
/* IMAGE OBJECT DEFINITIONS */
OBJECT = IMAGE
  INTERCHANGE_FORMAT = BINARY
  LINES = 48959
  LINE_SAMPLES = 8109
  SAMPLE_TYPE = UNSIGNED_INTEGER
  SAMPLE_BITS = 8
  BANDS = 1
  BAND_STORAGE_TYPE = BAND_SEQUENTIAL
  MAXIMUM = 189
  MEAN = 134.901
  MINIMUM = 42
  STANDARD_DEVIATION = 7.61931
END_OBJECT = IMAGE
/* MAP OBJECT DEFINITIONS */
OBJECT = IMAGE_MAP_PROJECTION
  ^DATA_SET_MAP_PROJECTION_CATALOG= "DSMAP.CAT"
  A_AXIS_RADIUS = 3396.0
  B_AXIS_RADIUS = 3396.0
  C_AXIS_RADIUS = 3396.0
  CENTER_LATITUDE = 0.0
  CENTER_LONGITUDE = 248.0
  COORDINATE_SYSTEM_NAME = PLANETOGRAPHIC
  COORDINATE_SYSTEM_TYPE = "BODY-FIXED ROTATING"
  EASTERNMOST_LONGITUDE = 249.188
  FIRST_STANDARD_PARALLEL = "N/A"
  LINE_FIRST_PIXEL = 1
  LINE_LAST_PIXEL = 48959
  LINE_PROJECTION_OFFSET = 26805.0
  MAP_PROJECTION_ROTATION = 0.0
  MAP_PROJECTION_TYPE = SINUSOIDAL
  MAP_RESOLUTION = 4741.71043093333
  MAP_SCALE = 0.0125
  MAXIMUM_LATITUDE = 5.6547
  MINIMUM_LATITUDE = -4.67105
  POSITIVE_LONGITUDE_DIRECTION = EAST
  REFERENCE_LATITUDE = "N/A"
  REFERENCE_LONGITUDE = "N/A"
  SAMPLE_FIRST_PIXEL = 1
  SAMPLE_LAST_PIXEL = 8109
  SAMPLE_PROJECTION_OFFSET = 2109.0
  SECOND_STANDARD_PARALLEL = "N/A"
  WESTERNMOST_LONGITUDE = 247.58
END_OBJECT = IMAGE_MAP_PROJECTION
/* The JPEG2000 image data file associated with this label. */
OBJECT = COMPRESSED_FILE
  FILE_NAME = "H2175_0000_ND3.JP2"
  RECORD_TYPE = UNDEFINED
  FILE_RECORDS = UNK
  ENCODING_TYPE = "JP2"
  INTERCHANGE_FORMAT = BINARY
  UNCOMPRESSED_FILE_NAME = "H2175_0000_ND3.IMG"
  REQUIRED_STORAGE_BYTES = "397040967"
  ^DESCRIPTION = "JP2INFO.TXT"
END_OBJECT = COMPRESSED_FILE
END
