PDS_VERSION_ID = PDS3
/* FILE DATA ELEMENTS */
RECORD_TYPE = STREAM
/* POINTERS TO DATA OBJECTS */
^COMPRESSED_FILE = "H2176_0000_P23.JP2"
/* IDENTIFICATION DATA ELEMENTS */
DATA_SET_ID = "MEX-M-HRSC-5-REFDR-MAPPROJECTED-V3.0"
DATA_SET_NAME = "MARS EXPRESS HRSC MAP PROJECTED REFDR V3.0"
DETECTOR_ID = MEX_HRSC_P2
EVENT_TYPE = "MARS-REGIONAL-MAPPING-Vo-Gl-Eo"
INSTRUMENT_HOST_ID = MEX
INSTRUMENT_HOST_NAME = "MARS EXPRESS"
INSTRUMENT_ID = HRSC
INSTRUMENT_NAME = "HIGH RESOLUTION STEREO CAMERA"
MISSION_NAME = "MARS EXPRESS"
MISSION_PHASE_NAME = MR_Phase_7
PROCESSING_LEVEL_ID = 3
PRODUCT_CREATION_TIME = 2016-03-14T11:38:04.000Z
PRODUCT_ID = "H2176_0000_P23.JP2"
RELEASE_ID = 0027
REVISION_ID = 0000
/* QUALITY DATA ELEMENTS */
DATA_QUALITY_ID = 1
DATA_QUALITY_DESC = "Data calculated based on original SPICE kernels"
/* TIME DATA ELEMENTS */
SPACECRAFT_CLOCK_START_COUNT = "1/0075603506.57159"
SPACECRAFT_CLOCK_STOP_COUNT = "1/0075603822.25382"
START_TIME = 2005-09-24T00:58:45.527Z
STOP_TIME = 2005-09-24T01:02:08.610Z
/* ORBITAL DATA ELEMENTS */
ASCENDING_NODE_LONGITUDE = 182.6
MAXIMUM_RESOLUTION = 60.5
FOOTPRINT_POINT_LATITUDE = (-2.28777,-2.28057,-2.27249,-2.25636, -1.89684,-1.65718,-1.41708,-1.17756, -0.938185,-0.699196,-0.22215,0.253833, 0.610691,0.973123,1.21688,1.46044, 1.70375,1.95318,2.20236,2.57584,2.95705 ,3.21105,3.46556,3.72423,3.98369, 4.37457,4.64007,4.90558,5.17077,5.44093 ,5.71182,5.98238,6.25803,6.53421, 6.81001,7.08549,7.36059,7.63523,7.90972 ,8.18374,8.45711,8.73017,9.13937, 9.41156,9.68328,9.95467,10.2254,10.7221 ,10.7184,10.7161,10.7139,10.712,10.7076 ,10.437,10.1658,9.89421,9.62736,9.35598 ,9.07788,8.80557,8.53219,8.25837,7.9842 ,7.70966,7.43477,7.1595,6.88389,6.60796 ,6.33168,5.91848,5.64761,5.37643, 5.10706,4.84157,4.57577,4.31116,4.05108 ,3.79071,3.40224,3.14755,2.89268, 2.63741,2.38816,2.13831,1.88893,1.64006 ,1.39647,1.15303,0.909124,0.547124, 0.0711582,-0.405788,-0.644595,-0.883517 ,-1.12267,-1.36224,-1.60155,-1.84213, -2.20137,-2.28777)
FOOTPRINT_POINT_LONGITUDE = (149.468,149.086,148.699,148.453, 148.447,148.442,148.437,148.431,148.426 ,148.421,148.411,148.401,148.393, 148.384,148.379,148.373,148.367,148.36, 148.354,148.344,148.334,148.328,148.321 ,148.314,148.307,148.295,148.287,148.28 ,148.272,148.264,148.255,148.247, 148.238,148.23,148.221,148.212,148.203, 148.194,148.184,148.175,148.166,148.156 ,148.142,148.132,148.122,148.112, 148.102,148.084,148.549,148.857,149.147 ,149.418,149.912,149.908,149.903, 149.899,149.895,149.891,149.886,149.882 ,149.878,149.874,149.87,149.866,149.863 ,149.859,149.855,149.851,149.848, 149.842,149.839,149.835,149.832,149.828 ,149.825,149.822,149.819,149.816, 149.811,149.808,149.805,149.802,149.8, 149.797,149.794,149.791,149.789,149.786 ,149.783,149.78,149.775,149.77,149.767, 149.765,149.763,149.76,149.758,149.755, 149.752,149.468)
ORBIT_NUMBER = 2176
ORBITAL_ECCENTRICITY = 0.573
ORBITAL_INCLINATION = 86.62
ORBITAL_SEMIMAJOR_AXIS = 8608.33
PERIAPSIS_ALTITUDE = 281.89
PERIAPSIS_ARGUMENT_ANGLE = 335.79
PERIAPSIS_TIME = 2005-09-24T00:53:31.000Z
SPACECRAFT_ORIENTATION = (0.0,1.0,0.0)
^MEX_ORIENTATION_DESC = "MEX_ORIENTATION_DESC.TXT"
SPACECRAFT_POINTING_MODE = ACROSSTRACK
^MEX_POINTING_DESC = "MEX_POINTING_DESC.TXT"
RIGHT_ASCENSION = -1e+32
DECLINATION = -1e+32
OFFSET_ANGLE = 0.6
SPACECRAFT_SOLAR_DISTANCE = 2.11439e+08
TARGET_NAME = MARS
/* CAMERA DATA ELEMENTS */
DETECTOR_TEMPERATURE = 19.39
FOCAL_PLANE_TEMPERATURE = 9.6028
INST_CMPRS_NAME = "DISCRETE COSINE TRANSFORMATION (DCT)"
INST_CMPRS_RATIO = 12.3551
INST_CMPRS_QUALITY = 0
INST_CMPRS_QUANTZ_TBL_ID = 0
INSTRUMENT_TEMPERATURE = 11.6418
LENS_TEMPERATURE = 9.8067
MACROPIXEL_SIZE = 4
MISSING_FRAMES = 0
PIXEL_SUBSAMPLING_FLAG = N
SIGNAL_CHAIN_ID = 3
/* RADIOMETRIC DATA ELEMENTS */
BANDWIDTH = 177.0
CENTER_FILTER_WAVELENGTH = 676.5
RADIANCE_OFFSET = 5.64698
RADIANCE_SCALING_FACTOR = 0.0270486
REFLECTANCE_SCALING_FACTOR = 0.000641171
MEX:REFLECTANCE_OFFSET = 0.133858
/* IMAGE OBJECT DEFINITIONS */
OBJECT = IMAGE
  INTERCHANGE_FORMAT = BINARY
  LINES = 15451
  LINE_SAMPLES = 2334
  SAMPLE_TYPE = UNSIGNED_INTEGER
  SAMPLE_BITS = 8
  BANDS = 1
  BAND_STORAGE_TYPE = BAND_SEQUENTIAL
  MAXIMUM = 313
  MEAN = 176.429
  MINIMUM = 139
  STANDARD_DEVIATION = 129.076
END_OBJECT = IMAGE
/* MAP OBJECT DEFINITIONS */
OBJECT = IMAGE_MAP_PROJECTION
  ^DATA_SET_MAP_PROJECTION_CATALOG= "DSMAP.CAT"
  A_AXIS_RADIUS = 3396.0
  B_AXIS_RADIUS = 3396.0
  C_AXIS_RADIUS = 3396.0
  CENTER_LATITUDE = 0.0
  CENTER_LONGITUDE = 149.0
  COORDINATE_SYSTEM_NAME = PLANETOGRAPHIC
  COORDINATE_SYSTEM_TYPE = "BODY-FIXED ROTATING"
  EASTERNMOST_LONGITUDE = 149.912
  FIRST_STANDARD_PARALLEL = "N/A"
  LINE_FIRST_PIXEL = 1
  LINE_LAST_PIXEL = 15451
  LINE_PROJECTION_OFFSET = 12797.375
  MAP_PROJECTION_ROTATION = 0.0
  MAP_PROJECTION_TYPE = SINUSOIDAL
  MAP_RESOLUTION = 1185.42760773333
  MAP_SCALE = 0.05
  MAXIMUM_LATITUDE = 10.7221
  MINIMUM_LATITUDE = -2.28777
  POSITIVE_LONGITUDE_DIRECTION = EAST
  REFERENCE_LATITUDE = "N/A"
  REFERENCE_LONGITUDE = "N/A"
  SAMPLE_FIRST_PIXEL = 1
  SAMPLE_LAST_PIXEL = 2334
  SAMPLE_PROJECTION_OFFSET = 1196.625
  SECOND_STANDARD_PARALLEL = "N/A"
  WESTERNMOST_LONGITUDE = 148.084
END_OBJECT = IMAGE_MAP_PROJECTION
/* The JPEG2000 image data file associated with this label. */
OBJECT = COMPRESSED_FILE
  FILE_NAME = "H2176_0000_P23.JP2"
  RECORD_TYPE = UNDEFINED
  FILE_RECORDS = UNK
  ENCODING_TYPE = "JP2"
  INTERCHANGE_FORMAT = BINARY
  UNCOMPRESSED_FILE_NAME = "H2176_0000_P23.IMG"
  REQUIRED_STORAGE_BYTES = "36083640"
  ^DESCRIPTION = "JP2INFO.TXT"
END_OBJECT = COMPRESSED_FILE
END
