PDS_VERSION_ID = PDS3
/* FILE DATA ELEMENTS */
RECORD_TYPE = STREAM
/* POINTERS TO DATA OBJECTS */
^COMPRESSED_FILE = "H2177_0000_IR3.JP2"
/* IDENTIFICATION DATA ELEMENTS */
DATA_SET_ID = "MEX-M-HRSC-5-REFDR-MAPPROJECTED-V3.0"
DATA_SET_NAME = "MARS EXPRESS HRSC MAP PROJECTED REFDR V3.0"
DETECTOR_ID = MEX_HRSC_IR
EVENT_TYPE = "MARS-REGIONAL-MAPPING-Vo-Im"
INSTRUMENT_HOST_ID = MEX
INSTRUMENT_HOST_NAME = "MARS EXPRESS"
INSTRUMENT_ID = HRSC
INSTRUMENT_NAME = "HIGH RESOLUTION STEREO CAMERA"
MISSION_NAME = "MARS EXPRESS"
MISSION_PHASE_NAME = MR_Phase_7
PROCESSING_LEVEL_ID = 3
PRODUCT_CREATION_TIME = 2016-03-14T11:38:04.000Z
PRODUCT_ID = "H2177_0000_IR3.JP2"
RELEASE_ID = 0027
REVISION_ID = 0000
/* QUALITY DATA ELEMENTS */
DATA_QUALITY_ID = 1
DATA_QUALITY_DESC = "Data calculated based on original SPICE kernels"
/* TIME DATA ELEMENTS */
SPACECRAFT_CLOCK_START_COUNT = "1/0075626596.57948"
SPACECRAFT_CLOCK_STOP_COUNT = "1/0075626999.21971"
START_TIME = 2005-09-24T07:25:47.508Z
STOP_TIME = 2005-09-24T07:29:58.289Z
/* ORBITAL DATA ELEMENTS */
ASCENDING_NODE_LONGITUDE = 182.58
MAXIMUM_RESOLUTION = 73.3
FOOTPRINT_POINT_LATITUDE = (-68.3819,-68.3537,-68.3173,-68.2768, -68.232,-68.1829,-68.1296,-67.8178, -67.4488,-67.0835,-66.5396,-66.0019, -65.6468,-65.2952,-64.9475,-64.6007, -64.2602,-63.9195,-63.5828,-63.2491, -62.9179,-62.5881,-62.261,-61.7757, -61.2942,-60.9768,-60.6615,-60.3496, -59.8845,-59.5777,-59.2722,-58.9714, -58.5205,-58.224,-57.9293,-57.4906, -57.2005,-56.7716,-56.4869,-56.2034, -55.9251,-55.6457,-55.3687,-55.095, -54.8203,-54.5471,-54.2784,-54.0103, -53.6092,-53.0841,-52.6032,-52.619, -52.6342,-52.6532,-52.6697,-53.1941, -53.7228,-53.992,-54.5313,-54.8042, -55.08,-55.4927,-55.7733,-56.0549, -56.3352,-56.6215,-56.9088,-57.1949, -57.6349,-57.9289,-58.2274,-58.526, -58.8266,-59.1314,-59.4377,-59.7488, -60.2157,-60.5312,-60.8516,-61.3312, -61.8183,-62.1458,-62.4761,-62.8085, -63.1443,-63.4823,-63.8234,-64.1662, -64.5146,-64.8633,-65.2135,-65.567, -65.9236,-66.2867,-66.6511,-67.0192, -67.3906,-67.7643,-68.145,-68.3819)
FOOTPRINT_POINT_LONGITUDE = (49.1327,48.3441,47.4436,46.5438, 45.6457,44.7486,43.8514,43.639,43.8529, 44.058,44.35,44.6239,44.7971,44.9623, 45.12,45.2724,45.4161,45.5566,45.691, 45.8196,45.9436,46.0646,46.1809,46.3475 ,46.507,46.6084,46.7063,46.8007,46.9373 ,47.0245,47.109,47.1898,47.3084,47.3843 ,47.4561,47.5636,47.631,47.7285,47.7913 ,47.8526,47.9109,47.9687,48.0245, 48.0791,48.1333,48.1856,48.2366,48.2857 ,48.3579,48.4491,48.7896,49.2393,49.711 ,50.3933,51.0571,51.0329,51.0079, 50.9948,50.9672,50.9531,50.9383,50.9155 ,50.8998,50.8836,50.8668,50.8495, 50.8319,50.8136,50.7854,50.7664,50.7463 ,50.7255,50.7044,50.6822,50.6602, 50.6371,50.6012,50.5754,50.5507,50.5089 ,50.466,50.436,50.4046,50.3721,50.3382, 50.3032,50.2666,50.2286,50.189,50.1479, 50.1033,50.0576,50.0099,49.9609,49.9096 ,49.8554,49.7989,49.7398,49.6784, 49.1327)
ORBIT_NUMBER = 2177
ORBITAL_ECCENTRICITY = 0.573
ORBITAL_INCLINATION = 86.63
ORBITAL_SEMIMAJOR_AXIS = 8612.26
PERIAPSIS_ALTITUDE = 281.09
PERIAPSIS_ARGUMENT_ANGLE = 335.6
PERIAPSIS_TIME = 2005-09-24T07:36:39.000Z
SPACECRAFT_ORIENTATION = (0.0,1.0,0.0)
^MEX_ORIENTATION_DESC = "MEX_ORIENTATION_DESC.TXT"
SPACECRAFT_POINTING_MODE = ACROSSTRACK
^MEX_POINTING_DESC = "MEX_POINTING_DESC.TXT"
RIGHT_ASCENSION = -1e+32
DECLINATION = -1e+32
OFFSET_ANGLE = 0.28
SPACECRAFT_SOLAR_DISTANCE = 2.11476e+08
TARGET_NAME = MARS
/* CAMERA DATA ELEMENTS */
DETECTOR_TEMPERATURE = 17.9627
FOCAL_PLANE_TEMPERATURE = 9.3989
INST_CMPRS_NAME = "DISCRETE COSINE TRANSFORMATION (DCT)"
INST_CMPRS_RATIO = 14.9938
INST_CMPRS_QUALITY = 0
INST_CMPRS_QUANTZ_TBL_ID = 0
INSTRUMENT_TEMPERATURE = 11.6418
LENS_TEMPERATURE = 9.8067
MACROPIXEL_SIZE = 4
MISSING_FRAMES = 0
PIXEL_SUBSAMPLING_FLAG = N
SIGNAL_CHAIN_ID = 2
/* RADIOMETRIC DATA ELEMENTS */
BANDWIDTH = 81.0
CENTER_FILTER_WAVELENGTH = 955.5
RADIANCE_OFFSET = 1.15081
RADIANCE_SCALING_FACTOR = 0.00666919
REFLECTANCE_SCALING_FACTOR = 0.000643459
MEX:REFLECTANCE_OFFSET = 0.111033
/* IMAGE OBJECT DEFINITIONS */
OBJECT = IMAGE
  INTERCHANGE_FORMAT = BINARY
  LINES = 18840
  LINE_SAMPLES = 4081
  SAMPLE_TYPE = UNSIGNED_INTEGER
  SAMPLE_BITS = 8
  BANDS = 1
  BAND_STORAGE_TYPE = BAND_SEQUENTIAL
  MAXIMUM = 228
  MEAN = 183.41
  MINIMUM = 85
  STANDARD_DEVIATION = 14.8954
END_OBJECT = IMAGE
/* MAP OBJECT DEFINITIONS */
OBJECT = IMAGE_MAP_PROJECTION
  ^DATA_SET_MAP_PROJECTION_CATALOG= "DSMAP.CAT"
  A_AXIS_RADIUS = 3396.0
  B_AXIS_RADIUS = 3396.0
  C_AXIS_RADIUS = 3396.0
  CENTER_LATITUDE = 0.0
  CENTER_LONGITUDE = 49.0
  COORDINATE_SYSTEM_NAME = PLANETOGRAPHIC
  COORDINATE_SYSTEM_TYPE = "BODY-FIXED ROTATING"
  EASTERNMOST_LONGITUDE = 51.0571
  FIRST_STANDARD_PARALLEL = "N/A"
  LINE_FIRST_PIXEL = 1
  LINE_LAST_PIXEL = 18840
  LINE_PROJECTION_OFFSET = -62196.875
  MAP_PROJECTION_ROTATION = 0.0
  MAP_PROJECTION_TYPE = SINUSOIDAL
  MAP_RESOLUTION = 1185.42760773333
  MAP_SCALE = 0.05
  MAXIMUM_LATITUDE = -52.6032
  MINIMUM_LATITUDE = -68.3819
  POSITIVE_LONGITUDE_DIRECTION = EAST
  REFERENCE_LATITUDE = "N/A"
  REFERENCE_LONGITUDE = "N/A"
  SAMPLE_FIRST_PIXEL = 1
  SAMPLE_LAST_PIXEL = 4081
  SAMPLE_PROJECTION_OFFSET = 2574.375
  SECOND_STANDARD_PARALLEL = "N/A"
  WESTERNMOST_LONGITUDE = 43.639
END_OBJECT = IMAGE_MAP_PROJECTION
/* The JPEG2000 image data file associated with this label. */
OBJECT = COMPRESSED_FILE
  FILE_NAME = "H2177_0000_IR3.JP2"
  RECORD_TYPE = UNDEFINED
  FILE_RECORDS = UNK
  ENCODING_TYPE = "JP2"
  INTERCHANGE_FORMAT = BINARY
  UNCOMPRESSED_FILE_NAME = "H2177_0000_IR3.IMG"
  REQUIRED_STORAGE_BYTES = "76910526"
  ^DESCRIPTION = "JP2INFO.TXT"
END_OBJECT = COMPRESSED_FILE
END
