PDS_VERSION_ID = PDS3
/* FILE DATA ELEMENTS */
RECORD_TYPE = STREAM
/* POINTERS TO DATA OBJECTS */
^COMPRESSED_FILE = "H2177_0000_ND3.JP2"
/* IDENTIFICATION DATA ELEMENTS */
DATA_SET_ID = "MEX-M-HRSC-5-REFDR-MAPPROJECTED-V3.0"
DATA_SET_NAME = "MARS EXPRESS HRSC MAP PROJECTED REFDR V3.0"
DETECTOR_ID = MEX_HRSC_NADIR
EVENT_TYPE = "MARS-REGIONAL-MAPPING-Vo-Im"
INSTRUMENT_HOST_ID = MEX
INSTRUMENT_HOST_NAME = "MARS EXPRESS"
INSTRUMENT_ID = HRSC
INSTRUMENT_NAME = "HIGH RESOLUTION STEREO CAMERA"
MISSION_NAME = "MARS EXPRESS"
MISSION_PHASE_NAME = MR_Phase_7
PROCESSING_LEVEL_ID = 3
PRODUCT_CREATION_TIME = 2016-03-14T11:38:04.000Z
PRODUCT_ID = "H2177_0000_ND3.JP2"
RELEASE_ID = 0027
REVISION_ID = 0000
/* QUALITY DATA ELEMENTS */
DATA_QUALITY_ID = 1
DATA_QUALITY_DESC = "Data calculated based on original SPICE kernels"
/* TIME DATA ELEMENTS */
SPACECRAFT_CLOCK_START_COUNT = "1/0075626596.57948"
SPACECRAFT_CLOCK_STOP_COUNT = "1/0075626999.21971"
START_TIME = 2005-09-24T07:24:51.611Z
STOP_TIME = 2005-09-24T07:29:25.600Z
/* ORBITAL DATA ELEMENTS */
ASCENDING_NODE_LONGITUDE = 182.58
MAXIMUM_RESOLUTION = 18.3
FOOTPRINT_POINT_LATITUDE = (-68.335,-68.2958,-68.2478,-68.1826, -68.1208,-68.0525,-67.8268,-67.4578, -67.0917,-66.7281,-66.3681,-66.0109, -65.6561,-65.3035,-64.9546,-64.6085, -64.2643,-63.9229,-63.5849,-63.2482, -62.9147,-62.5841,-62.2547,-61.9295, -61.4451,-61.1242,-60.8073,-60.4919, -60.1791,-59.714,-59.4052,-59.1014, -58.7969,-58.4976,-58.0494,-57.7543, -57.3144,-57.0237,-56.7344,-56.4484, -56.1617,-55.8806,-55.5989,-55.1812, -54.9043,-54.6291,-54.3573,-54.085, -53.4147,-52.8857,-52.4806,-52.5051, -52.5347,-52.5515,-52.7014,-53.2299, -53.7682,-54.0373,-54.3117,-54.586, -55.0002,-55.2797,-55.5587,-55.8432, -56.2694,-56.5585,-56.9922,-57.2866, -57.5804,-58.0276,-58.3261,-58.63, -58.9333,-59.2414,-59.5495,-59.8623, -60.175,-60.4926,-60.9714,-61.2931, -61.619,-62.1113,-62.4424,-62.7773, -63.1137,-63.4538,-63.7967,-64.1413, -64.4902,-64.8415,-65.1949,-65.5518, -65.9126,-66.276,-66.6422,-67.0118, -67.3856,-67.7622,-68.1422,-68.335)
FOOTPRINT_POINT_LONGITUDE = (49.098,48.1367,47.1126,45.901,44.8837, 43.8677,43.348,43.5736,43.7895,43.9975, 44.1937,44.3834,44.5652,44.7394,44.9051 ,45.0646,45.2171,45.3646,45.5059, 45.6421,45.7726,45.8996,46.0218,46.1394 ,46.3079,46.4168,46.5207,46.6215, 46.7191,46.8596,46.9494,47.0362,47.1205 ,47.2011,47.3199,47.3949,47.5048, 47.5696,47.6417,47.707,47.7712,47.8323, 47.8925,47.9798,48.0368,48.092,48.1456, 48.1981,48.3223,48.4162,48.7472,49.2933 ,50.0439,50.5349,51.1091,51.0872, 51.0645,51.0527,51.041,51.0276,51.0081, 50.9945,50.9806,50.9663,50.944,50.9284, 50.9046,50.8878,50.871,50.8452,50.8272, 50.8082,50.7889,50.7694,50.7497,50.7292 ,50.708,50.6853,50.6523,50.6262,50.602, 50.5629,50.5353,50.5065,50.4767,50.446, 50.4137,50.3801,50.3456,50.3094,50.2697 ,50.2287,50.1865,50.1434,50.0981, 50.0504,50.0009,49.9491,49.8956,49.098)
ORBIT_NUMBER = 2177
ORBITAL_ECCENTRICITY = 0.573
ORBITAL_INCLINATION = 86.63
ORBITAL_SEMIMAJOR_AXIS = 8612.26
PERIAPSIS_ALTITUDE = 281.09
PERIAPSIS_ARGUMENT_ANGLE = 335.6
PERIAPSIS_TIME = 2005-09-24T07:36:39.000Z
SPACECRAFT_ORIENTATION = (0.0,1.0,0.0)
^MEX_ORIENTATION_DESC = "MEX_ORIENTATION_DESC.TXT"
SPACECRAFT_POINTING_MODE = ACROSSTRACK
^MEX_POINTING_DESC = "MEX_POINTING_DESC.TXT"
RIGHT_ASCENSION = -1e+32
DECLINATION = -1e+32
OFFSET_ANGLE = 0.28
SPACECRAFT_SOLAR_DISTANCE = 2.11476e+08
TARGET_NAME = MARS
/* CAMERA DATA ELEMENTS */
DETECTOR_TEMPERATURE = 18.3705
FOCAL_PLANE_TEMPERATURE = 9.3989
INST_CMPRS_NAME = "DISCRETE COSINE TRANSFORMATION (DCT)"
INST_CMPRS_RATIO = 7.31482
INST_CMPRS_QUALITY = 0
INST_CMPRS_QUANTZ_TBL_ID = 0
INSTRUMENT_TEMPERATURE = 11.6418
LENS_TEMPERATURE = 9.8067
MACROPIXEL_SIZE = 1
MISSING_FRAMES = 0
PIXEL_SUBSAMPLING_FLAG = N
SIGNAL_CHAIN_ID = 0
/* RADIOMETRIC DATA ELEMENTS */
BANDWIDTH = 177.0
CENTER_FILTER_WAVELENGTH = 677.5
RADIANCE_OFFSET = 4.44241
RADIANCE_SCALING_FACTOR = 0.0217765
REFLECTANCE_SCALING_FACTOR = 0.000517358
MEX:REFLECTANCE_OFFSET = 0.105541
/* IMAGE OBJECT DEFINITIONS */
OBJECT = IMAGE
  INTERCHANGE_FORMAT = BINARY
  LINES = 75360
  LINE_SAMPLES = 16323
  SAMPLE_TYPE = UNSIGNED_INTEGER
  SAMPLE_BITS = 8
  BANDS = 1
  BAND_STORAGE_TYPE = BAND_SEQUENTIAL
  MAXIMUM = 251
  MEAN = 162.534
  MINIMUM = 79
  STANDARD_DEVIATION = 13.587
END_OBJECT = IMAGE
/* MAP OBJECT DEFINITIONS */
OBJECT = IMAGE_MAP_PROJECTION
  ^DATA_SET_MAP_PROJECTION_CATALOG= "DSMAP.CAT"
  A_AXIS_RADIUS = 3396.0
  B_AXIS_RADIUS = 3396.0
  C_AXIS_RADIUS = 3396.0
  CENTER_LATITUDE = 0.0
  CENTER_LONGITUDE = 49.0
  COORDINATE_SYSTEM_NAME = PLANETOGRAPHIC
  COORDINATE_SYSTEM_TYPE = "BODY-FIXED ROTATING"
  EASTERNMOST_LONGITUDE = 51.1091
  FIRST_STANDARD_PARALLEL = "N/A"
  LINE_FIRST_PIXEL = 1
  LINE_LAST_PIXEL = 75360
  LINE_PROJECTION_OFFSET = -248786.0
  MAP_PROJECTION_ROTATION = 0.0
  MAP_PROJECTION_TYPE = SINUSOIDAL
  MAP_RESOLUTION = 4741.71043093333
  MAP_SCALE = 0.0125
  MAXIMUM_LATITUDE = -52.4806
  MINIMUM_LATITUDE = -68.33499999999999
  POSITIVE_LONGITUDE_DIRECTION = EAST
  REFERENCE_LATITUDE = "N/A"
  REFERENCE_LONGITUDE = "N/A"
  SAMPLE_FIRST_PIXEL = 1
  SAMPLE_LAST_PIXEL = 16323
  SAMPLE_PROJECTION_OFFSET = 10299.0
  SECOND_STANDARD_PARALLEL = "N/A"
  WESTERNMOST_LONGITUDE = 43.348
END_OBJECT = IMAGE_MAP_PROJECTION
/* The JPEG2000 image data file associated with this label. */
OBJECT = COMPRESSED_FILE
  FILE_NAME = "H2177_0000_ND3.JP2"
  RECORD_TYPE = UNDEFINED
  FILE_RECORDS = UNK
  ENCODING_TYPE = "JP2"
  INTERCHANGE_FORMAT = BINARY
  UNCOMPRESSED_FILE_NAME = "H2177_0000_ND3.IMG"
  REQUIRED_STORAGE_BYTES = "1230150249"
  ^DESCRIPTION = "JP2INFO.TXT"
END_OBJECT = COMPRESSED_FILE
END
