PDS_VERSION_ID = PDS3
/* FILE DATA ELEMENTS */
RECORD_TYPE = STREAM
/* POINTERS TO DATA OBJECTS */
^COMPRESSED_FILE = "H2178_0000_S13.JP2"
/* IDENTIFICATION DATA ELEMENTS */
DATA_SET_ID = "MEX-M-HRSC-5-REFDR-MAPPROJECTED-V3.0"
DATA_SET_NAME = "MARS EXPRESS HRSC MAP PROJECTED REFDR V3.0"
DETECTOR_ID = MEX_HRSC_S1
EVENT_TYPE = "MARS-REGIONAL-MAPPING-Fl-Mw-La"
INSTRUMENT_HOST_ID = MEX
INSTRUMENT_HOST_NAME = "MARS EXPRESS"
INSTRUMENT_ID = HRSC
INSTRUMENT_NAME = "HIGH RESOLUTION STEREO CAMERA"
MISSION_NAME = "MARS EXPRESS"
MISSION_PHASE_NAME = MR_Phase_7
PROCESSING_LEVEL_ID = 3
PRODUCT_CREATION_TIME = 2016-03-14T11:38:04.000Z
PRODUCT_ID = "H2178_0000_S13.JP2"
RELEASE_ID = 0027
REVISION_ID = 0000
/* QUALITY DATA ELEMENTS */
DATA_QUALITY_ID = 1
DATA_QUALITY_DESC = "Data calculated based on original SPICE kernels"
/* TIME DATA ELEMENTS */
SPACECRAFT_CLOCK_START_COUNT = "1/0075651599.56183"
SPACECRAFT_CLOCK_STOP_COUNT = "1/0075651900.62522"
START_TIME = 2005-09-24T14:20:56.855Z
STOP_TIME = 2005-09-24T14:26:58.340Z
/* ORBITAL DATA ELEMENTS */
ASCENDING_NODE_LONGITUDE = 182.56
MAXIMUM_RESOLUTION = 24.5
FOOTPRINT_POINT_LATITUDE = (-21.8132,-21.8112,-21.8094,-21.5877, -21.1062,-20.6315,-20.1584,-19.4539, -18.9683,-18.499,-17.8047,-17.1278, -16.6643,-15.9678,-15.5041,-15.0428, -14.5702,-14.11,-13.6445,-13.1933, -12.5278,-12.0733,-11.5841,-11.1336, -10.684,-10.2358,-9.78928,-9.34425, -8.90508,-8.27191,-7.8312,-7.39267, -6.73526,-6.26728,-5.83522,-5.40451, -4.97612,-4.55612,-4.13818,-3.68938, -3.26447,-2.83974,-2.21773,-1.79156, -1.3763,-0.753286,-0.341128,0.0709808, 0.480933,0.484284,0.489179,0.493203, 0.467146,0.259758,-0.142434,-0.560511, -0.981616,-1.39513,-2.00409,-2.42211, -2.83928,-3.26365,-3.68426,-4.32121, -4.7484,-5.18591,-5.61849,-6.26171, -6.69672,-7.13346,-7.59413,-8.0434, -8.70985,-9.14418,-9.58468,-10.0301, -10.4976,-10.9072,-11.6076,-12.0671, -12.5228,-12.9626,-13.4235,-14.1137, -14.8102,-15.2747,-15.7347,-16.4289, -16.8962,-17.3612,-17.8296,-18.2675, -18.7358,-19.2213,-19.6924,-20.1621, -20.6363,-21.1118,-21.5889,-21.8132)
FOOTPRINT_POINT_LONGITUDE = (313.514,313.179,312.898,312.64,312.645 ,312.648,312.65,312.652,312.653,312.654 ,312.652,312.645,312.644,312.643, 312.641,312.639,312.64,312.638,312.637, 312.632,312.622,312.618,312.624,312.619 ,312.614,312.608,312.602,312.596, 312.588,312.569,312.562,312.555,312.544 ,312.544,312.536,312.526,312.517, 312.505,312.493,312.49,312.48,312.47, 312.452,312.443,312.432,312.415,312.403 ,312.391,312.379,312.651,313.014, 313.346,313.76,313.946,313.937,313.933, 313.928,313.922,313.907,313.901,313.894 ,313.889,313.882,313.873,313.867, 313.864,313.86,313.85,313.845,313.841, 313.842,313.841,313.835,313.828,313.822 ,313.818,313.819,313.804,313.805, 313.804,313.801,313.792,313.79,313.786, 313.783,313.781,313.777,313.771,313.769 ,313.765,313.763,313.75,313.747,313.743 ,313.74,313.737,313.734,313.731,313.728 ,313.514)
ORBIT_NUMBER = 2178
ORBITAL_ECCENTRICITY = 0.573
ORBITAL_INCLINATION = 86.63
ORBITAL_SEMIMAJOR_AXIS = 8606.23
PERIAPSIS_ALTITUDE = 281.44
PERIAPSIS_ARGUMENT_ANGLE = 335.43
PERIAPSIS_TIME = 2005-09-24T14:19:49.000Z
SPACECRAFT_ORIENTATION = (0.0,1.0,0.0)
^MEX_ORIENTATION_DESC = "MEX_ORIENTATION_DESC.TXT"
SPACECRAFT_POINTING_MODE = ACROSSTRACK
^MEX_POINTING_DESC = "MEX_POINTING_DESC.TXT"
RIGHT_ASCENSION = -1e+32
DECLINATION = -1e+32
OFFSET_ANGLE = -0.02
SPACECRAFT_SOLAR_DISTANCE = 2.11514e+08
TARGET_NAME = MARS
/* CAMERA DATA ELEMENTS */
DETECTOR_TEMPERATURE = 17.7588
FOCAL_PLANE_TEMPERATURE = 9.3989
INST_CMPRS_NAME = "DISCRETE COSINE TRANSFORMATION (DCT)"
INST_CMPRS_RATIO = 9.45192
INST_CMPRS_QUALITY = 0
INST_CMPRS_QUANTZ_TBL_ID = 0
INSTRUMENT_TEMPERATURE = 11.6418
LENS_TEMPERATURE = 9.8067
MACROPIXEL_SIZE = 2
MISSING_FRAMES = 9
PIXEL_SUBSAMPLING_FLAG = N
SIGNAL_CHAIN_ID = 1
/* RADIOMETRIC DATA ELEMENTS */
BANDWIDTH = 180.0
CENTER_FILTER_WAVELENGTH = 677.0
RADIANCE_OFFSET = 4.43131
RADIANCE_SCALING_FACTOR = 0.0308936
REFLECTANCE_SCALING_FACTOR = 0.000721089
MEX:REFLECTANCE_OFFSET = 0.103431
/* IMAGE OBJECT DEFINITIONS */
OBJECT = IMAGE
  INTERCHANGE_FORMAT = BINARY
  LINES = 52706
  LINE_SAMPLES = 3559
  SAMPLE_TYPE = UNSIGNED_INTEGER
  SAMPLE_BITS = 8
  BANDS = 1
  BAND_STORAGE_TYPE = BAND_SEQUENTIAL
  MAXIMUM = 136
  MEAN = 77.2132
  MINIMUM = 37
  STANDARD_DEVIATION = 10.3173
END_OBJECT = IMAGE
/* MAP OBJECT DEFINITIONS */
OBJECT = IMAGE_MAP_PROJECTION
  ^DATA_SET_MAP_PROJECTION_CATALOG= "DSMAP.CAT"
  A_AXIS_RADIUS = 3396.0
  B_AXIS_RADIUS = 3396.0
  C_AXIS_RADIUS = 3396.0
  CENTER_LATITUDE = 0.0
  CENTER_LONGITUDE = 313.0
  COORDINATE_SYSTEM_NAME = PLANETOGRAPHIC
  COORDINATE_SYSTEM_TYPE = "BODY-FIXED ROTATING"
  EASTERNMOST_LONGITUDE = 313.946
  FIRST_STANDARD_PARALLEL = "N/A"
  LINE_FIRST_PIXEL = 1
  LINE_LAST_PIXEL = 52706
  LINE_PROJECTION_OFFSET = 963.25
  MAP_PROJECTION_ROTATION = 0.0
  MAP_PROJECTION_TYPE = SINUSOIDAL
  MAP_RESOLUTION = 2370.85521546667
  MAP_SCALE = 0.025
  MAXIMUM_LATITUDE = 0.493203
  MINIMUM_LATITUDE = -21.8132
  POSITIVE_LONGITUDE_DIRECTION = EAST
  REFERENCE_LATITUDE = "N/A"
  REFERENCE_LONGITUDE = "N/A"
  SAMPLE_FIRST_PIXEL = 1
  SAMPLE_LAST_PIXEL = 3559
  SAMPLE_PROJECTION_OFFSET = 1394.25
  SECOND_STANDARD_PARALLEL = "N/A"
  WESTERNMOST_LONGITUDE = 312.379
END_OBJECT = IMAGE_MAP_PROJECTION
/* The JPEG2000 image data file associated with this label. */
OBJECT = COMPRESSED_FILE
  FILE_NAME = "H2178_0000_S13.JP2"
  RECORD_TYPE = UNDEFINED
  FILE_RECORDS = UNK
  ENCODING_TYPE = "JP2"
  INTERCHANGE_FORMAT = BINARY
  UNCOMPRESSED_FILE_NAME = "H2178_0000_S13.IMG"
  REQUIRED_STORAGE_BYTES = "187602008"
  ^DESCRIPTION = "JP2INFO.TXT"
END_OBJECT = COMPRESSED_FILE
END
