PDS_VERSION_ID = PDS3
/* FILE DATA ELEMENTS */
RECORD_TYPE = STREAM
/* POINTERS TO DATA OBJECTS */
^COMPRESSED_FILE = "H2178_0008_SR3.JP2"
/* IDENTIFICATION DATA ELEMENTS */
DATA_SET_ID = "MEX-M-HRSC-5-REFDR-MAPPROJECTED-V3.0"
DATA_SET_NAME = "MARS EXPRESS HRSC MAP PROJECTED REFDR V3.0"
DETECTOR_ID = MEX_HRSC_SRC
EVENT_TYPE = "MARS-REGIONAL-MAPPING-Fl-Mw-La"
INSTRUMENT_HOST_ID = MEX
INSTRUMENT_HOST_NAME = "MARS EXPRESS"
INSTRUMENT_ID = HRSC
INSTRUMENT_NAME = "HIGH RESOLUTION STEREO CAMERA"
MISSION_NAME = "MARS EXPRESS"
MISSION_PHASE_NAME = MR_Phase_7
PROCESSING_LEVEL_ID = 3
PRODUCT_CREATION_TIME = 2016-03-14T11:38:04.000Z
PRODUCT_ID = "H2178_0008_SR3.JP2"
RELEASE_ID = 0027
REVISION_ID = 0000
/* QUALITY DATA ELEMENTS */
DATA_QUALITY_ID = 1
DATA_QUALITY_DESC = "Data calculated based on original SPICE kernels"
/* TIME DATA ELEMENTS */
SPACECRAFT_CLOCK_START_COUNT = "1/0075651599.56183"
SPACECRAFT_CLOCK_STOP_COUNT = "1/0075651900.62522"
IMAGE_TIME = 2005-09-24T14:22:17.499Z
START_TIME = 2005-09-24T14:22:17.496Z
STOP_TIME = 2005-09-24T14:22:17.501Z
/* ORBITAL DATA ELEMENTS */
ASCENDING_NODE_LONGITUDE = 182.56
MAXIMUM_RESOLUTION = 2.763
FOOTPRINT_POINT_LATITUDE = (-14.8584,-14.8563,-14.8546,-14.8532, -14.8514,-14.8498,-14.8483,-14.8469, -14.8447,-14.8433,-14.8412,-14.8394, -14.838,-14.8359,-14.8338,-14.8325, -14.8305,-14.8291,-14.8266,-14.824, -14.8211,-14.8186,-14.8169,-14.8143, -14.8115,-14.8115,-14.8115,-14.8115, -14.8115,-14.8115,-14.8115,-14.8115, -14.8115,-14.8115,-14.8115,-14.8115, -14.8115,-14.8115,-14.8115,-14.8115, -14.8115,-14.8115,-14.8115,-14.8115, -14.8115,-14.8115,-14.8115,-14.8115, -14.8115,-14.8125,-14.8146,-14.8174, -14.8208,-14.8224,-14.8243,-14.8257, -14.8276,-14.8292,-14.8304,-14.8323, -14.8353,-14.8376,-14.8389,-14.8408, -14.8422,-14.8436,-14.8458,-14.8472, -14.8488,-14.8502,-14.8524,-14.8538, -14.8556,-14.8569,-14.8586,-14.8586, -14.8586,-14.8586,-14.8586,-14.8586, -14.8586,-14.8586,-14.8586,-14.8586, -14.8586,-14.8586,-14.8586,-14.8586, -14.8586,-14.8586,-14.8586,-14.8586, -14.8586,-14.8586,-14.8586,-14.8585, -14.8585,-14.8585,-14.8585,-14.8584)
FOOTPRINT_POINT_LONGITUDE = (313.188,313.188,313.188,313.188, 313.188,313.188,313.188,313.188,313.188 ,313.188,313.188,313.188,313.188, 313.188,313.188,313.188,313.188,313.188 ,313.188,313.188,313.188,313.188, 313.188,313.188,313.188,313.19,313.192, 313.194,313.197,313.199,313.201,313.202 ,313.204,313.207,313.209,313.211, 313.213,313.215,313.217,313.219,313.221 ,313.223,313.225,313.227,313.229,313.23 ,313.232,313.234,313.236,313.237, 313.237,313.237,313.237,313.237,313.237 ,313.237,313.237,313.237,313.237, 313.237,313.237,313.237,313.237,313.237 ,313.237,313.237,313.237,313.237, 313.237,313.237,313.237,313.237,313.237 ,313.237,313.236,313.234,313.232,313.23 ,313.228,313.225,313.223,313.222,313.22 ,313.219,313.217,313.215,313.213, 313.211,313.209,313.207,313.205,313.203 ,313.201,313.199,313.197,313.195, 313.194,313.192,313.19,313.188)
ORBIT_NUMBER = 2178
ORBITAL_ECCENTRICITY = 0.573
ORBITAL_INCLINATION = 86.63
ORBITAL_SEMIMAJOR_AXIS = 8606.23
PERIAPSIS_ALTITUDE = 281.44
PERIAPSIS_ARGUMENT_ANGLE = 335.43
PERIAPSIS_TIME = 2005-09-24T14:19:49.000Z
SPACECRAFT_ORIENTATION = (0.0,1.0,0.0)
^MEX_ORIENTATION_DESC = "MEX_ORIENTATION_DESC.TXT"
SPACECRAFT_POINTING_MODE = ACROSSTRACK
^MEX_POINTING_DESC = "MEX_POINTING_DESC.TXT"
RIGHT_ASCENSION = -1e+32
DECLINATION = -1e+32
OFFSET_ANGLE = -0.02
SPACECRAFT_SOLAR_DISTANCE = 2.11514e+08
TARGET_NAME = MARS
/* CAMERA DATA ELEMENTS */
BUFFER_MODE_ID = BUFFER_8
EXPOSURE_DURATION = 5.04
INST_CMPRS_NAME = NONE
INST_CMPRS_RATIO = 1.0
INST_CMPRS_QUALITY = -2147483648
INST_CMPRS_QUANTZ_TBL_ID = -2147483648
INSTRUMENT_TEMPERATURE = 11.2121
MISSING_FRAMES = 0
START_BIT = 0
/* RADIOMETRIC DATA ELEMENTS */
BANDWIDTH = 250.0
CENTER_FILTER_WAVELENGTH = 600.0
RADIANCE_OFFSET = -9.99e+31
RADIANCE_SCALING_FACTOR = -9.99e+31
REFLECTANCE_SCALING_FACTOR = -9.99e+31
MEX:REFLECTANCE_OFFSET = -9.99e+31
/* IMAGE OBJECT DEFINITIONS */
OBJECT = IMAGE
  INTERCHANGE_FORMAT = BINARY
  LINES = 1161
  LINE_SAMPLES = 1172
  SAMPLE_TYPE = UNSIGNED_INTEGER
  SAMPLE_BITS = 8
  BANDS = 1
  BAND_STORAGE_TYPE = BAND_SEQUENTIAL
  MAXIMUM = 6478
  MEAN = 6047.47
  MINIMUM = 5093
  STANDARD_DEVIATION = 92.357
END_OBJECT = IMAGE
/* MAP OBJECT DEFINITIONS */
OBJECT = IMAGE_MAP_PROJECTION
  ^DATA_SET_MAP_PROJECTION_CATALOG= "DSMAP.CAT"
  A_AXIS_RADIUS = 3396.19
  B_AXIS_RADIUS = 3396.19
  C_AXIS_RADIUS = 3396.19
  CENTER_LATITUDE = 0.0
  CENTER_LONGITUDE = 313.0
  COORDINATE_SYSTEM_NAME = PLANETOGRAPHIC
  COORDINATE_SYSTEM_TYPE = "BODY-FIXED ROTATING"
  EASTERNMOST_LONGITUDE = 313.237
  FIRST_STANDARD_PARALLEL = "N/A"
  LINE_FIRST_PIXEL = 1
  LINE_LAST_PIXEL = 1161
  LINE_PROJECTION_OFFSET = -351124.0
  MAP_PROJECTION_ROTATION = 0.0
  MAP_PROJECTION_TYPE = SINUSOIDAL
  MAP_RESOLUTION = 23709.8786048756
  MAP_SCALE = 0.0025
  MAXIMUM_LATITUDE = -14.8115
  MINIMUM_LATITUDE = -14.8586
  POSITIVE_LONGITUDE_DIRECTION = EAST
  REFERENCE_LATITUDE = "N/A"
  REFERENCE_LONGITUDE = "N/A"
  SAMPLE_FIRST_PIXEL = 1
  SAMPLE_LAST_PIXEL = 1172
  SAMPLE_PROJECTION_OFFSET = -4284.0
  SECOND_STANDARD_PARALLEL = "N/A"
  WESTERNMOST_LONGITUDE = 313.188
END_OBJECT = IMAGE_MAP_PROJECTION
/* The JPEG2000 image data file associated with this label. */
OBJECT = COMPRESSED_FILE
  FILE_NAME = "H2178_0008_SR3.JP2"
  RECORD_TYPE = UNDEFINED
  FILE_RECORDS = UNK
  ENCODING_TYPE = "JP2"
  INTERCHANGE_FORMAT = BINARY
  UNCOMPRESSED_FILE_NAME = "H2178_0008_SR3.IMG"
  REQUIRED_STORAGE_BYTES = "1380616"
  ^DESCRIPTION = "JP2INFO.TXT"
END_OBJECT = COMPRESSED_FILE
END
