PDS_VERSION_ID = PDS3
/* FILE DATA ELEMENTS */
RECORD_TYPE = STREAM
/* POINTERS TO DATA OBJECTS */
^COMPRESSED_FILE = "H2181_0000_IR3.JP2"
/* IDENTIFICATION DATA ELEMENTS */
DATA_SET_ID = "MEX-M-HRSC-5-REFDR-MAPPROJECTED-V3.0"
DATA_SET_NAME = "MARS EXPRESS HRSC MAP PROJECTED REFDR V3.0"
DETECTOR_ID = MEX_HRSC_IR
EVENT_TYPE = "MARS-REGIONAL-MAPPING-Gl-La"
INSTRUMENT_HOST_ID = MEX
INSTRUMENT_HOST_NAME = "MARS EXPRESS"
INSTRUMENT_ID = HRSC
INSTRUMENT_NAME = "HIGH RESOLUTION STEREO CAMERA"
MISSION_NAME = "MARS EXPRESS"
MISSION_PHASE_NAME = MR_Phase_7
PROCESSING_LEVEL_ID = 3
PRODUCT_CREATION_TIME = 2016-03-14T11:38:04.000Z
PRODUCT_ID = "H2181_0000_IR3.JP2"
RELEASE_ID = 0027
REVISION_ID = 0000
/* QUALITY DATA ELEMENTS */
DATA_QUALITY_ID = 2
DATA_QUALITY_DESC = "Data calculated based on photogrammetrically improved orbit and attitude data"
/* TIME DATA ELEMENTS */
SPACECRAFT_CLOCK_START_COUNT = "1/0075722765.57282"
SPACECRAFT_CLOCK_STOP_COUNT = "1/0075723416.20049"
START_TIME = 2005-09-25T10:12:11.432Z
STOP_TIME = 2005-09-25T10:16:49.172Z
/* ORBITAL DATA ELEMENTS */
ASCENDING_NODE_LONGITUDE = 182.49
MAXIMUM_RESOLUTION = 128.8
FOOTPRINT_POINT_LATITUDE = (-88.2079,-87.9308,-87.6509,-87.0857, -86.5164,-85.9447,-85.3707,-85.0825, -84.6894,-84.7479,-84.7433,-84.7184, -84.6181,-84.4574,-84.3554,-84.1773, -84.0427,-83.8203,-83.5728,-83.3949, -83.2085,-83.0137,-82.8107,-82.6002, -82.3825,-82.1595,-81.9303,-81.696, -81.4566,-81.2125,-80.9641,-80.5831, -80.3247,-80.0628,-79.6632,-79.3935, -79.1212,-78.8453,-78.5661,-78.1457, -77.8571,-77.5717,-77.2845,-76.9939, -76.7009,-76.4064,-76.11,-75.812, -75.5104,-75.0581,-74.6573,-74.7548, -74.8274,-74.9235,-75.0481,-75.1377, -75.3468,-75.6682,-76.1485,-76.4659, -76.7816,-77.0993,-77.413,-77.7331, -78.2089,-78.522,-78.9894,-79.3014, -79.6142,-79.9235,-80.3869,-80.6955, -81.0026,-81.3048,-81.6109,-82.0663, -82.3716,-82.6749,-83.1276,-83.4258, -83.872,-84.1681,-84.4509,-84.884, -85.1718,-85.4566,-85.7388,-86.0183, -86.3074,-86.836,-87.099,-87.3545, -87.6014,-87.9478,-88.2496,-88.4147, -88.5392,-88.6281,-88.5826,-88.2079)
FOOTPRINT_POINT_LONGITUDE = (276.082,278.562,280.438,283.069, 284.803,286.013,286.896,287.25,288.041, 294.196,300.434,303.639,309.762,315.567 ,318.376,322.388,324.931,328.489, 331.832,333.934,335.916,337.795,339.576 ,341.265,342.865,344.365,345.788, 347.129,348.398,349.598,350.734,352.33, 353.323,354.265,355.591,356.418,357.202 ,357.953,358.671,359.672,360.322, 360.922,361.494,362.045,362.575,363.08, 363.564,364.027,364.477,365.109,365.636 ,367.011,368.128,369.721,372.197, 374.417,375.761,375.65,375.475,375.349, 375.216,375.079,374.932,374.784,374.544 ,374.371,374.09,373.891,373.682,373.457 ,373.094,372.832,372.552,372.248, 371.928,371.399,371.014,370.596,369.902 ,369.384,368.516,367.865,367.139, 365.905,364.962,363.901,362.7,361.332, 359.743,355.809,353.291,350.286,346.651 ,339.62,330.002,321.726,311.822,294.506 ,276.731,276.082)
ORBIT_NUMBER = 2181
ORBITAL_ECCENTRICITY = 0.573
ORBITAL_INCLINATION = 86.62
ORBITAL_SEMIMAJOR_AXIS = 8609.86
PERIAPSIS_ALTITUDE = 281.21
PERIAPSIS_ARGUMENT_ANGLE = 334.87
PERIAPSIS_TIME = 2005-09-25T10:29:18.000Z
SPACECRAFT_ORIENTATION = (0.0,1.0,0.0)
^MEX_ORIENTATION_DESC = "MEX_ORIENTATION_DESC.TXT"
SPACECRAFT_POINTING_MODE = NADIR
^MEX_POINTING_DESC = "MEX_POINTING_DESC.TXT"
RIGHT_ASCENSION = -1e+32
DECLINATION = -1e+32
OFFSET_ANGLE = -1e+32
SPACECRAFT_SOLAR_DISTANCE = 2.11626e+08
TARGET_NAME = MARS
/* CAMERA DATA ELEMENTS */
DETECTOR_TEMPERATURE = 17.9627
FOCAL_PLANE_TEMPERATURE = 8.9911
INST_CMPRS_NAME = "DISCRETE COSINE TRANSFORMATION (DCT)"
INST_CMPRS_RATIO = 7.19439
INST_CMPRS_QUALITY = 0
INST_CMPRS_QUANTZ_TBL_ID = 0
INSTRUMENT_TEMPERATURE = 11.234
LENS_TEMPERATURE = 9.3989
MACROPIXEL_SIZE = 4
MISSING_FRAMES = 0
PIXEL_SUBSAMPLING_FLAG = N
SIGNAL_CHAIN_ID = 2
/* RADIOMETRIC DATA ELEMENTS */
BANDWIDTH = 81.0
CENTER_FILTER_WAVELENGTH = 955.5
RADIANCE_OFFSET = 1.0304
RADIANCE_SCALING_FACTOR = 0.0126523
REFLECTANCE_SCALING_FACTOR = 0.00122244
MEX:REFLECTANCE_OFFSET = 0.0995551
/* IMAGE OBJECT DEFINITIONS */
OBJECT = IMAGE
  INTERCHANGE_FORMAT = BINARY
  LINES = 8063
  LINE_SAMPLES = 6653
  SAMPLE_TYPE = UNSIGNED_INTEGER
  SAMPLE_BITS = 8
  BANDS = 1
  BAND_STORAGE_TYPE = BAND_SEQUENTIAL
  MAXIMUM = 253
  MEAN = 173.059
  MINIMUM = 60
  STANDARD_DEVIATION = 46.7942
END_OBJECT = IMAGE
/* MAP OBJECT DEFINITIONS */
OBJECT = IMAGE_MAP_PROJECTION
  ^DATA_SET_MAP_PROJECTION_CATALOG= "DSMAP.CAT"
  A_AXIS_RADIUS = 3396.0
  B_AXIS_RADIUS = 3396.0
  C_AXIS_RADIUS = 3396.0
  CENTER_LATITUDE = 0.0
  CENTER_LONGITUDE = 358.0
  COORDINATE_SYSTEM_NAME = PLANETOGRAPHIC
  COORDINATE_SYSTEM_TYPE = "BODY-FIXED ROTATING"
  EASTERNMOST_LONGITUDE = 15.761
  FIRST_STANDARD_PARALLEL = "N/A"
  LINE_FIRST_PIXEL = 1
  LINE_LAST_PIXEL = 8063
  LINE_PROJECTION_OFFSET = -44061.875
  MAP_PROJECTION_ROTATION = 0.0
  MAP_PROJECTION_TYPE = SINUSOIDAL
  MAP_RESOLUTION = 592.713803866667
  MAP_SCALE = 0.1
  MAXIMUM_LATITUDE = -74.65730000000001
  MINIMUM_LATITUDE = -88.6281
  POSITIVE_LONGITUDE_DIRECTION = EAST
  REFERENCE_LATITUDE = "N/A"
  REFERENCE_LONGITUDE = "N/A"
  SAMPLE_FIRST_PIXEL = 1
  SAMPLE_LAST_PIXEL = 6653
  SAMPLE_PROJECTION_OFFSET = 3848.375
  SECOND_STANDARD_PARALLEL = "N/A"
  WESTERNMOST_LONGITUDE = -83.91800000000001
END_OBJECT = IMAGE_MAP_PROJECTION
/* The JPEG2000 image data file associated with this label. */
OBJECT = COMPRESSED_FILE
  FILE_NAME = "H2181_0000_IR3.JP2"
  RECORD_TYPE = UNDEFINED
  FILE_RECORDS = UNK
  ENCODING_TYPE = "JP2"
  INTERCHANGE_FORMAT = BINARY
  UNCOMPRESSED_FILE_NAME = "H2181_0000_IR3.IMG"
  REQUIRED_STORAGE_BYTES = "53676404"
  ^DESCRIPTION = "JP2INFO.TXT"
END_OBJECT = COMPRESSED_FILE
END
