PDS_VERSION_ID = PDS3
/* FILE DATA ELEMENTS */
RECORD_TYPE = STREAM
/* POINTERS TO DATA OBJECTS */
^COMPRESSED_FILE = "H2182_0000_IR3.JP2"
/* IDENTIFICATION DATA ELEMENTS */
DATA_SET_ID = "MEX-M-HRSC-5-REFDR-MAPPROJECTED-V3.0"
DATA_SET_NAME = "MARS EXPRESS HRSC MAP PROJECTED REFDR V3.0"
DETECTOR_ID = MEX_HRSC_IR
EVENT_TYPE = "MARS-REGIONAL-STEREO-Vo-Te-La"
INSTRUMENT_HOST_ID = MEX
INSTRUMENT_HOST_NAME = "MARS EXPRESS"
INSTRUMENT_ID = HRSC
INSTRUMENT_NAME = "HIGH RESOLUTION STEREO CAMERA"
MISSION_NAME = "MARS EXPRESS"
MISSION_PHASE_NAME = MR_Phase_7
PROCESSING_LEVEL_ID = 3
PRODUCT_CREATION_TIME = 2016-03-14T11:38:04.000Z
PRODUCT_ID = "H2182_0000_IR3.JP2"
RELEASE_ID = 0027
REVISION_ID = 0000
/* QUALITY DATA ELEMENTS */
DATA_QUALITY_ID = 1
DATA_QUALITY_DESC = "Data calculated based on original SPICE kernels"
/* TIME DATA ELEMENTS */
SPACECRAFT_CLOCK_START_COUNT = "1/0075748412.57948"
SPACECRAFT_CLOCK_STOP_COUNT = "1/0075748801.23008"
START_TIME = 2005-09-25T17:14:27.731Z
STOP_TIME = 2005-09-25T17:19:57.882Z
/* ORBITAL DATA ELEMENTS */
ASCENDING_NODE_LONGITUDE = 182.47
MAXIMUM_RESOLUTION = 97.7
FOOTPRINT_POINT_LATITUDE = (-19.2154,-19.2242,-19.2332,-19.0593, -18.7177,-18.3764,-18.0311,-17.678, -17.3254,-16.9732,-16.4449,-16.0917, -15.7312,-15.1917,-14.6504,-14.2902, -13.9199,-13.5494,-13.1794,-12.8099, -12.2428,-11.8635,-11.4856,-11.1081, -10.7314,-10.3557,-9.98113,-9.60743, -9.2349,-8.67065,-8.0091,-7.58386, -7.12838,-6.66851,-6.23027,-5.79556, -5.36182,-4.9482,-4.49333,-4.05364, -3.60882,-3.16149,-2.7111,-2.02358, -1.33208,-0.865035,-0.386271,0.092789, 0.582749,1.00698,1.02343,1.02741, 0.814568,0.333887,-0.17548,-0.657305, -1.10148,-1.57034,-2.03422,-2.72128, -3.39869,-3.84949,-4.28749,-4.7389, -5.39214,-5.83614,-6.24288,-6.68022, -7.13602,-7.82809,-8.24121,-8.70604, -9.08152,-9.43113,-9.80492,-10.1797, -10.5552,-10.9312,-11.3088,-11.686, -12.0651,-12.446,-12.8224,-13.3774, -13.7481,-14.1196,-14.4833,-14.8425, -15.2012,-15.5635,-15.9221,-16.4562, -16.8114,-17.1636,-17.5163,-17.8698, -18.2192,-18.5603,-18.9025,-19.2154)
FOOTPRINT_POINT_LONGITUDE = (279.859,279.534,279.204,278.933, 278.936,278.938,278.941,278.943,278.945 ,278.947,278.95,278.953,278.953,278.952 ,278.952,278.952,278.951,278.95,278.949 ,278.948,278.945,278.943,278.94,278.937 ,278.934,278.931,278.927,278.923, 278.919,278.898,278.889,278.874,278.877 ,278.883,278.878,278.87,278.863,278.844 ,278.845,278.836,278.826,278.815, 278.802,278.785,278.763,278.747,278.734 ,278.719,278.705,278.853,279.352,279.65 ,280.279,280.27,280.265,280.258,280.248 ,280.241,280.234,280.224,280.215, 280.209,280.203,280.197,280.189,280.184 ,280.177,280.172,280.167,280.161, 280.154,280.149,280.144,280.139,280.134 ,280.13,280.125,280.121,280.116,280.112 ,280.107,280.103,280.098,280.092, 280.087,280.083,280.079,280.074,280.07, 280.066,280.061,280.055,280.05,280.046, 280.042,280.037,280.033,280.028,280.024 ,279.859)
ORBIT_NUMBER = 2182
ORBITAL_ECCENTRICITY = 0.574
ORBITAL_INCLINATION = 86.61
ORBITAL_SEMIMAJOR_AXIS = 8612.99
PERIAPSIS_ALTITUDE = 280.75
PERIAPSIS_ARGUMENT_ANGLE = 334.7
PERIAPSIS_TIME = 2005-09-25T17:12:33.000Z
SPACECRAFT_ORIENTATION = (0.0,1.0,0.0)
^MEX_ORIENTATION_DESC = "MEX_ORIENTATION_DESC.TXT"
SPACECRAFT_POINTING_MODE = ACROSSTRACK
^MEX_POINTING_DESC = "MEX_POINTING_DESC.TXT"
RIGHT_ASCENSION = -1e+32
DECLINATION = -1e+32
OFFSET_ANGLE = 0.55
SPACECRAFT_SOLAR_DISTANCE = 2.11664e+08
TARGET_NAME = MARS
/* CAMERA DATA ELEMENTS */
DETECTOR_TEMPERATURE = 17.7588
FOCAL_PLANE_TEMPERATURE = 10.2145
INST_CMPRS_NAME = "DISCRETE COSINE TRANSFORMATION (DCT)"
INST_CMPRS_RATIO = 14.1883
INST_CMPRS_QUALITY = 0
INST_CMPRS_QUANTZ_TBL_ID = 0
INSTRUMENT_TEMPERATURE = 11.6418
LENS_TEMPERATURE = 50.9945
MACROPIXEL_SIZE = 8
MISSING_FRAMES = 0
PIXEL_SUBSAMPLING_FLAG = N
SIGNAL_CHAIN_ID = 2
/* RADIOMETRIC DATA ELEMENTS */
BANDWIDTH = 81.0
CENTER_FILTER_WAVELENGTH = 955.5
RADIANCE_OFFSET = 1.28166
RADIANCE_SCALING_FACTOR = 0.0120626
REFLECTANCE_SCALING_FACTOR = 0.00116591
MEX:REFLECTANCE_OFFSET = 0.123878
/* IMAGE OBJECT DEFINITIONS */
OBJECT = IMAGE
  INTERCHANGE_FORMAT = BINARY
  LINES = 11963
  LINE_SAMPLES = 926
  SAMPLE_TYPE = UNSIGNED_INTEGER
  SAMPLE_BITS = 8
  BANDS = 1
  BAND_STORAGE_TYPE = BAND_SEQUENTIAL
  MAXIMUM = 173
  MEAN = 109.883
  MINIMUM = 49
  STANDARD_DEVIATION = 15.4621
END_OBJECT = IMAGE
/* MAP OBJECT DEFINITIONS */
OBJECT = IMAGE_MAP_PROJECTION
  ^DATA_SET_MAP_PROJECTION_CATALOG= "DSMAP.CAT"
  A_AXIS_RADIUS = 3396.0
  B_AXIS_RADIUS = 3396.0
  C_AXIS_RADIUS = 3396.0
  CENTER_LATITUDE = 0.0
  CENTER_LONGITUDE = 280.0
  COORDINATE_SYSTEM_NAME = PLANETOGRAPHIC
  COORDINATE_SYSTEM_TYPE = "BODY-FIXED ROTATING"
  EASTERNMOST_LONGITUDE = 280.279
  FIRST_STANDARD_PARALLEL = "N/A"
  LINE_FIRST_PIXEL = 1
  LINE_LAST_PIXEL = 11963
  LINE_PROJECTION_OFFSET = 538.3125
  MAP_PROJECTION_ROTATION = 0.0
  MAP_PROJECTION_TYPE = SINUSOIDAL
  MAP_RESOLUTION = 592.713803866667
  MAP_SCALE = 0.1
  MAXIMUM_LATITUDE = 1.02741
  MINIMUM_LATITUDE = -19.2332
  POSITIVE_LONGITUDE_DIRECTION = EAST
  REFERENCE_LATITUDE = "N/A"
  REFERENCE_LONGITUDE = "N/A"
  SAMPLE_FIRST_PIXEL = 1
  SAMPLE_LAST_PIXEL = 926
  SAMPLE_PROJECTION_OFFSET = 783.4375
  SECOND_STANDARD_PARALLEL = "N/A"
  WESTERNMOST_LONGITUDE = 278.705
END_OBJECT = IMAGE_MAP_PROJECTION
/* The JPEG2000 image data file associated with this label. */
OBJECT = COMPRESSED_FILE
  FILE_NAME = "H2182_0000_IR3.JP2"
  RECORD_TYPE = UNDEFINED
  FILE_RECORDS = UNK
  ENCODING_TYPE = "JP2"
  INTERCHANGE_FORMAT = BINARY
  UNCOMPRESSED_FILE_NAME = "H2182_0000_IR3.IMG"
  REQUIRED_STORAGE_BYTES = "11096258"
  ^DESCRIPTION = "JP2INFO.TXT"
END_OBJECT = COMPRESSED_FILE
END
