PDS_VERSION_ID = PDS3
/* FILE DATA ELEMENTS */
RECORD_TYPE = STREAM
/* POINTERS TO DATA OBJECTS */
^COMPRESSED_FILE = "H2182_0000_P13.JP2"
/* IDENTIFICATION DATA ELEMENTS */
DATA_SET_ID = "MEX-M-HRSC-5-REFDR-MAPPROJECTED-V3.0"
DATA_SET_NAME = "MARS EXPRESS HRSC MAP PROJECTED REFDR V3.0"
DETECTOR_ID = MEX_HRSC_P1
EVENT_TYPE = "MARS-REGIONAL-STEREO-Vo-Te-La"
INSTRUMENT_HOST_ID = MEX
INSTRUMENT_HOST_NAME = "MARS EXPRESS"
INSTRUMENT_ID = HRSC
INSTRUMENT_NAME = "HIGH RESOLUTION STEREO CAMERA"
MISSION_NAME = "MARS EXPRESS"
MISSION_PHASE_NAME = MR_Phase_7
PROCESSING_LEVEL_ID = 3
PRODUCT_CREATION_TIME = 2016-03-14T11:38:04.000Z
PRODUCT_ID = "H2182_0000_P13.JP2"
RELEASE_ID = 0027
REVISION_ID = 0000
/* QUALITY DATA ELEMENTS */
DATA_QUALITY_ID = 1
DATA_QUALITY_DESC = "Data calculated based on original SPICE kernels"
/* TIME DATA ELEMENTS */
SPACECRAFT_CLOCK_START_COUNT = "1/0075748412.57948"
SPACECRAFT_CLOCK_STOP_COUNT = "1/0075748801.23008"
START_TIME = 2005-09-25T17:14:22.855Z
STOP_TIME = 2005-09-25T17:19:49.364Z
/* ORBITAL DATA ELEMENTS */
ASCENDING_NODE_LONGITUDE = 182.47
MAXIMUM_RESOLUTION = 23.9
FOOTPRINT_POINT_LATITUDE = (-19.2399,-19.2467,-19.2483,-18.7312, -18.3869,-17.8706,-17.5159,-17.1599, -16.8045,-16.4494,-16.0932,-15.5576, -15.1941,-14.8292,-14.4648,-14.1014, -13.5445,-13.1702,-12.7963,-12.4232, -12.0408,-11.6573,-11.2748,-10.8927, -10.5114,-10.1312,-9.75184,-9.37348, -9.00043,-8.63394,-7.99446,-7.5599, -7.10046,-6.63785,-6.1929,-5.75149, -5.31062,-4.65288,-3.98857,-3.3167, -2.86427,-2.40386,-1.94327,-1.4775, -1.00772,-0.528653,-0.0456943,0.44328, 0.938989,0.99774,1.00262,0.781346, 0.292955,-0.217333,-0.698471,-1.15283, -1.6249,-2.09302,-2.55478,-3.01021, -3.69103,-4.13583,-4.57799,-5.03965, -5.46881,-6.12143,-6.5604,-7.25164, -7.71551,-8.14279,-8.59024,-8.9482, -9.30848,-9.68716,-10.0669,-10.4473, -10.8282,-11.4016,-11.7843,-12.1689, -12.5476,-12.9215,-13.2958,-13.6705, -14.0421,-14.4058,-14.7693,-15.1322, -15.4969,-16.0322,-16.3907,-16.7486, -17.1041,-17.4598,-17.8163,-18.1603, -18.5044,-18.8495,-19.195,-19.2399)
FOOTPRINT_POINT_LONGITUDE = (279.726,279.388,278.927,278.931, 278.934,278.938,278.94,278.942,278.944, 278.946,278.948,278.949,278.948,278.949 ,278.949,278.948,278.947,278.946, 278.945,278.943,278.941,278.939,278.936 ,278.933,278.93,278.926,278.923,278.918 ,278.911,278.898,278.887,278.872, 278.875,278.882,278.876,278.868,278.861 ,278.848,278.834,278.819,278.807, 278.796,278.783,278.768,278.754,278.74, 278.725,278.711,278.696,279.096,279.661 ,280.268,280.259,280.255,280.248, 280.238,280.231,280.225,280.218,280.212 ,280.204,280.198,280.192,280.188, 280.182,280.173,280.168,280.161,280.157 ,280.15,280.146,280.141,280.135,280.131 ,280.127,280.122,280.118,280.111, 280.107,280.102,280.098,280.094,280.09, 280.085,280.081,280.077,280.072,280.068 ,280.064,280.057,280.053,280.049, 280.045,280.04,280.036,280.032,280.027, 280.023,280.019,279.726)
ORBIT_NUMBER = 2182
ORBITAL_ECCENTRICITY = 0.574
ORBITAL_INCLINATION = 86.61
ORBITAL_SEMIMAJOR_AXIS = 8612.99
PERIAPSIS_ALTITUDE = 280.75
PERIAPSIS_ARGUMENT_ANGLE = 334.7
PERIAPSIS_TIME = 2005-09-25T17:12:33.000Z
SPACECRAFT_ORIENTATION = (0.0,1.0,0.0)
^MEX_ORIENTATION_DESC = "MEX_ORIENTATION_DESC.TXT"
SPACECRAFT_POINTING_MODE = ACROSSTRACK
^MEX_POINTING_DESC = "MEX_POINTING_DESC.TXT"
RIGHT_ASCENSION = -1e+32
DECLINATION = -1e+32
OFFSET_ANGLE = 0.55
SPACECRAFT_SOLAR_DISTANCE = 2.11664e+08
TARGET_NAME = MARS
/* CAMERA DATA ELEMENTS */
DETECTOR_TEMPERATURE = 17.7588
FOCAL_PLANE_TEMPERATURE = 10.2145
INST_CMPRS_NAME = "DISCRETE COSINE TRANSFORMATION (DCT)"
INST_CMPRS_RATIO = 12.0902
INST_CMPRS_QUALITY = 0
INST_CMPRS_QUANTZ_TBL_ID = 0
INSTRUMENT_TEMPERATURE = 11.6418
LENS_TEMPERATURE = 50.9945
MACROPIXEL_SIZE = 2
MISSING_FRAMES = 0
PIXEL_SUBSAMPLING_FLAG = N
SIGNAL_CHAIN_ID = 3
/* RADIOMETRIC DATA ELEMENTS */
BANDWIDTH = 174.0
CENTER_FILTER_WAVELENGTH = 675.0
RADIANCE_OFFSET = 5.59157
RADIANCE_SCALING_FACTOR = 0.0374061
REFLECTANCE_SCALING_FACTOR = 0.000901411
MEX:REFLECTANCE_OFFSET = 0.134745
/* IMAGE OBJECT DEFINITIONS */
OBJECT = IMAGE
  INTERCHANGE_FORMAT = BINARY
  LINES = 47849
  LINE_SAMPLES = 3702
  SAMPLE_TYPE = UNSIGNED_INTEGER
  SAMPLE_BITS = 8
  BANDS = 1
  BAND_STORAGE_TYPE = BAND_SEQUENTIAL
  MAXIMUM = 190
  MEAN = 127.788
  MINIMUM = 65
  STANDARD_DEVIATION = 12.4641
END_OBJECT = IMAGE
/* MAP OBJECT DEFINITIONS */
OBJECT = IMAGE_MAP_PROJECTION
  ^DATA_SET_MAP_PROJECTION_CATALOG= "DSMAP.CAT"
  A_AXIS_RADIUS = 3396.0
  B_AXIS_RADIUS = 3396.0
  C_AXIS_RADIUS = 3396.0
  CENTER_LATITUDE = 0.0
  CENTER_LONGITUDE = 280.0
  COORDINATE_SYSTEM_NAME = PLANETOGRAPHIC
  COORDINATE_SYSTEM_TYPE = "BODY-FIXED ROTATING"
  EASTERNMOST_LONGITUDE = 280.268
  FIRST_STANDARD_PARALLEL = "N/A"
  LINE_FIRST_PIXEL = 1
  LINE_LAST_PIXEL = 47849
  LINE_PROJECTION_OFFSET = 2154.75
  MAP_PROJECTION_ROTATION = 0.0
  MAP_PROJECTION_TYPE = SINUSOIDAL
  MAP_RESOLUTION = 2370.85521546667
  MAP_SCALE = 0.025
  MAXIMUM_LATITUDE = 1.00262
  MINIMUM_LATITUDE = -19.2483
  POSITIVE_LONGITUDE_DIRECTION = EAST
  REFERENCE_LATITUDE = "N/A"
  REFERENCE_LONGITUDE = "N/A"
  SAMPLE_FIRST_PIXEL = 1
  SAMPLE_LAST_PIXEL = 3702
  SAMPLE_PROJECTION_OFFSET = 3135.25
  SECOND_STANDARD_PARALLEL = "N/A"
  WESTERNMOST_LONGITUDE = 278.696
END_OBJECT = IMAGE_MAP_PROJECTION
/* The JPEG2000 image data file associated with this label. */
OBJECT = COMPRESSED_FILE
  FILE_NAME = "H2182_0000_P13.JP2"
  RECORD_TYPE = UNDEFINED
  FILE_RECORDS = UNK
  ENCODING_TYPE = "JP2"
  INTERCHANGE_FORMAT = BINARY
  UNCOMPRESSED_FILE_NAME = "H2182_0000_P13.IMG"
  REQUIRED_STORAGE_BYTES = "177159210"
  ^DESCRIPTION = "JP2INFO.TXT"
END_OBJECT = COMPRESSED_FILE
END
