PDS_VERSION_ID = PDS3
/* FILE DATA ELEMENTS */
RECORD_TYPE = STREAM
/* POINTERS TO DATA OBJECTS */
^COMPRESSED_FILE = "H2182_0000_S23.JP2"
/* IDENTIFICATION DATA ELEMENTS */
DATA_SET_ID = "MEX-M-HRSC-5-REFDR-MAPPROJECTED-V3.0"
DATA_SET_NAME = "MARS EXPRESS HRSC MAP PROJECTED REFDR V3.0"
DETECTOR_ID = MEX_HRSC_S2
EVENT_TYPE = "MARS-REGIONAL-STEREO-Vo-Te-La"
INSTRUMENT_HOST_ID = MEX
INSTRUMENT_HOST_NAME = "MARS EXPRESS"
INSTRUMENT_ID = HRSC
INSTRUMENT_NAME = "HIGH RESOLUTION STEREO CAMERA"
MISSION_NAME = "MARS EXPRESS"
MISSION_PHASE_NAME = MR_Phase_7
PROCESSING_LEVEL_ID = 3
PRODUCT_CREATION_TIME = 2016-03-14T11:38:04.000Z
PRODUCT_ID = "H2182_0000_S23.JP2"
RELEASE_ID = 0027
REVISION_ID = 0000
/* QUALITY DATA ELEMENTS */
DATA_QUALITY_ID = 1
DATA_QUALITY_DESC = "Data calculated based on original SPICE kernels"
/* TIME DATA ELEMENTS */
SPACECRAFT_CLOCK_START_COUNT = "1/0075748412.57948"
SPACECRAFT_CLOCK_STOP_COUNT = "1/0075748801.23008"
START_TIME = 2005-09-25T17:13:39.963Z
STOP_TIME = 2005-09-25T17:18:39.495Z
/* ORBITAL DATA ELEMENTS */
ASCENDING_NODE_LONGITUDE = 182.47
MAXIMUM_RESOLUTION = 23.5
FOOTPRINT_POINT_LATITUDE = (-19.3496,-19.3341,-19.3184,-18.9798, -18.6412,-18.3028,-17.9646,-17.4444, -17.0929,-16.5657,-16.2166,-15.8649, -15.3349,-14.9815,-14.6165,-14.2513, -13.8859,-13.3376,-12.9726,-12.6004, -12.2222,-11.8439,-11.4651,-11.0866, -10.7004,-10.3091,-9.72239,-9.33113, -8.91973,-8.28428,-7.68565,-7.28529, -6.90114,-6.31149,-5.90998,-5.50829, -4.85412,-4.14355,-3.66454,-2.94628, -2.46765,-1.7466,-1.26561,-0.786476, -0.0577135,0.432104,0.681684,0.715722, 0.718794,0.711031,0.442915,0.193716, -0.278421,-0.764818,-1.02046,-1.26685, -1.74431,-2.46184,-2.93967,-3.41846, -4.13724,-4.61642,-5.06971,-5.50287, -5.89655,-6.31613,-6.71818,-7.11609, -7.48231,-7.88357,-8.31093,-8.91375, -9.33345,-9.72857,-10.12,-10.5116, -11.0961,-11.4748,-11.8544,-12.2327, -12.6106,-12.9843,-13.3497,-13.7156, -14.2637,-14.6297,-14.9965,-15.3529, -15.706,-16.2354,-16.5826,-16.9331, -17.2853,-17.6374,-17.983,-18.3223, -18.6613,-18.9999,-19.3384,-19.3496)
FOOTPRINT_POINT_LONGITUDE = (279.72,279.398,278.958,278.962,278.965 ,278.969,278.972,278.976,278.979, 278.983,278.987,278.989,278.99,278.991, 278.992,278.993,278.993,278.993,278.993 ,278.993,278.992,278.991,278.989, 278.988,278.986,278.984,278.98,278.977, 278.967,278.942,278.94,278.938,278.945, 278.947,278.943,278.937,278.923,278.916 ,278.908,278.895,278.885,278.867, 278.854,278.842,278.825,278.814,278.808 ,279.239,279.583,279.943,280.182, 280.179,280.176,280.171,280.168,280.165 ,280.16,280.154,280.149,280.145,280.139 ,280.135,280.131,280.127,280.124,280.12 ,280.116,280.113,280.11,280.107,280.103 ,280.098,280.094,280.091,280.087, 280.084,280.079,280.075,280.072,280.069 ,280.065,280.062,280.058,280.055,280.05 ,280.047,280.043,280.04,280.036,280.031 ,280.028,280.024,280.02,280.017,280.013 ,280.01,280.006,280.003,279.999,279.72)
ORBIT_NUMBER = 2182
ORBITAL_ECCENTRICITY = 0.574
ORBITAL_INCLINATION = 86.61
ORBITAL_SEMIMAJOR_AXIS = 8612.99
PERIAPSIS_ALTITUDE = 280.75
PERIAPSIS_ARGUMENT_ANGLE = 334.7
PERIAPSIS_TIME = 2005-09-25T17:12:33.000Z
SPACECRAFT_ORIENTATION = (0.0,1.0,0.0)
^MEX_ORIENTATION_DESC = "MEX_ORIENTATION_DESC.TXT"
SPACECRAFT_POINTING_MODE = ACROSSTRACK
^MEX_POINTING_DESC = "MEX_POINTING_DESC.TXT"
RIGHT_ASCENSION = -1e+32
DECLINATION = -1e+32
OFFSET_ANGLE = 0.55
SPACECRAFT_SOLAR_DISTANCE = 2.11664e+08
TARGET_NAME = MARS
/* CAMERA DATA ELEMENTS */
DETECTOR_TEMPERATURE = 18.9822
FOCAL_PLANE_TEMPERATURE = 10.2145
INST_CMPRS_NAME = "DISCRETE COSINE TRANSFORMATION (DCT)"
INST_CMPRS_RATIO = 11.3602
INST_CMPRS_QUALITY = 0
INST_CMPRS_QUANTZ_TBL_ID = 0
INSTRUMENT_TEMPERATURE = 11.6418
LENS_TEMPERATURE = 50.9945
MACROPIXEL_SIZE = 2
MISSING_FRAMES = 0
PIXEL_SUBSAMPLING_FLAG = N
SIGNAL_CHAIN_ID = 1
/* RADIOMETRIC DATA ELEMENTS */
BANDWIDTH = 178.0
CENTER_FILTER_WAVELENGTH = 679.0
RADIANCE_OFFSET = 6.03924
RADIANCE_SCALING_FACTOR = 0.0393448
REFLECTANCE_SCALING_FACTOR = 0.000933495
MEX:REFLECTANCE_OFFSET = 0.143287
/* IMAGE OBJECT DEFINITIONS */
OBJECT = IMAGE
  INTERCHANGE_FORMAT = BINARY
  LINES = 47849
  LINE_SAMPLES = 3702
  SAMPLE_TYPE = UNSIGNED_INTEGER
  SAMPLE_BITS = 8
  BANDS = 1
  BAND_STORAGE_TYPE = BAND_SEQUENTIAL
  MAXIMUM = 172
  MEAN = 117.548
  MINIMUM = 58
  STANDARD_DEVIATION = 12.1486
END_OBJECT = IMAGE
/* MAP OBJECT DEFINITIONS */
OBJECT = IMAGE_MAP_PROJECTION
  ^DATA_SET_MAP_PROJECTION_CATALOG= "DSMAP.CAT"
  A_AXIS_RADIUS = 3396.0
  B_AXIS_RADIUS = 3396.0
  C_AXIS_RADIUS = 3396.0
  CENTER_LATITUDE = 0.0
  CENTER_LONGITUDE = 280.0
  COORDINATE_SYSTEM_NAME = PLANETOGRAPHIC
  COORDINATE_SYSTEM_TYPE = "BODY-FIXED ROTATING"
  EASTERNMOST_LONGITUDE = 280.182
  FIRST_STANDARD_PARALLEL = "N/A"
  LINE_FIRST_PIXEL = 1
  LINE_LAST_PIXEL = 47849
  LINE_PROJECTION_OFFSET = 2154.75
  MAP_PROJECTION_ROTATION = 0.0
  MAP_PROJECTION_TYPE = SINUSOIDAL
  MAP_RESOLUTION = 2370.85521546667
  MAP_SCALE = 0.025
  MAXIMUM_LATITUDE = 0.718794
  MINIMUM_LATITUDE = -19.3496
  POSITIVE_LONGITUDE_DIRECTION = EAST
  REFERENCE_LATITUDE = "N/A"
  REFERENCE_LONGITUDE = "N/A"
  SAMPLE_FIRST_PIXEL = 1
  SAMPLE_LAST_PIXEL = 3702
  SAMPLE_PROJECTION_OFFSET = 3135.25
  SECOND_STANDARD_PARALLEL = "N/A"
  WESTERNMOST_LONGITUDE = 278.808
END_OBJECT = IMAGE_MAP_PROJECTION
/* The JPEG2000 image data file associated with this label. */
OBJECT = COMPRESSED_FILE
  FILE_NAME = "H2182_0000_S23.JP2"
  RECORD_TYPE = UNDEFINED
  FILE_RECORDS = UNK
  ENCODING_TYPE = "JP2"
  INTERCHANGE_FORMAT = BINARY
  UNCOMPRESSED_FILE_NAME = "H2182_0000_S23.IMG"
  REQUIRED_STORAGE_BYTES = "177159210"
  ^DESCRIPTION = "JP2INFO.TXT"
END_OBJECT = COMPRESSED_FILE
END
