PDS_VERSION_ID = PDS3
/* FILE DATA ELEMENTS */
RECORD_TYPE = STREAM
/* POINTERS TO DATA OBJECTS */
^COMPRESSED_FILE = "H2185_0000_IR3.JP2"
/* IDENTIFICATION DATA ELEMENTS */
DATA_SET_ID = "MEX-M-HRSC-5-REFDR-MAPPROJECTED-V3.0"
DATA_SET_NAME = "MARS EXPRESS HRSC MAP PROJECTED REFDR V3.0"
DETECTOR_ID = MEX_HRSC_IR
EVENT_TYPE = "MARS-REGIONAL-MAPPING-Fl-Lc-Pf"
INSTRUMENT_HOST_ID = MEX
INSTRUMENT_HOST_NAME = "MARS EXPRESS"
INSTRUMENT_ID = HRSC
INSTRUMENT_NAME = "HIGH RESOLUTION STEREO CAMERA"
MISSION_NAME = "MARS EXPRESS"
MISSION_PHASE_NAME = MR_Phase_7
PROCESSING_LEVEL_ID = 3
PRODUCT_CREATION_TIME = 2016-03-14T11:38:04.000Z
PRODUCT_ID = "H2185_0000_IR3.JP2"
RELEASE_ID = 0027
REVISION_ID = 0000
/* QUALITY DATA ELEMENTS */
DATA_QUALITY_ID = 1
DATA_QUALITY_DESC = "Data calculated based on original SPICE kernels"
/* TIME DATA ELEMENTS */
SPACECRAFT_CLOCK_START_COUNT = "1/0075820022.57152"
SPACECRAFT_CLOCK_STOP_COUNT = "1/0075820508.25122"
START_TIME = 2005-09-26T13:09:51.527Z
STOP_TIME = 2005-09-26T13:15:07.306Z
/* ORBITAL DATA ELEMENTS */
ASCENDING_NODE_LONGITUDE = 182.41
MAXIMUM_RESOLUTION = 74.3
FOOTPRINT_POINT_LATITUDE = (-74.4802,-74.4283,-74.3688,-74.3019, -74.2275,-73.9656,-73.4858,-73.0111, -72.539,-72.0705,-71.6055,-71.1464, -70.6928,-70.2466,-69.8036,-69.3617, -68.9248,-68.4914,-68.0651,-67.6413, -67.2244,-66.5987,-66.1903,-65.7843, -65.3817,-64.9837,-64.5896,-64.1998, -63.8113,-63.4283,-63.0546,-62.676, -62.2984,-61.9325,-61.5637,-61.0114, -60.654,-60.2955,-59.7706,-59.4201, -59.0798,-58.7337,-58.3955,-58.0546, -57.723,-57.2204,-56.8888,-56.5615, -55.7549,-55.1238,-54.7328,-54.7653, -54.7993,-54.8245,-55.4554,-56.0922, -56.7434,-57.0713,-57.4133,-57.7461, -58.0826,-58.4237,-58.9376,-59.2848, -59.8093,-60.1638,-60.5198,-60.8827, -61.2473,-61.7955,-62.1676,-62.5434, -62.9218,-63.3019,-63.6872,-64.074, -64.4693,-64.8736,-65.2694,-65.6733, -66.082,-66.4952,-66.9107,-67.3311, -67.7571,-68.4111,-68.8479,-69.2865, -69.7426,-70.1897,-70.6429,-71.1023, -71.5691,-72.0411,-72.5189,-73.0025, -73.491,-73.9859,-74.4854,-74.4802)
FOOTPRINT_POINT_LONGITUDE = (343.006,341.593,340.195,338.813, 337.448,335.669,336.132,336.561,336.963 ,337.338,337.69,338.018,338.324,338.609 ,338.878,339.135,339.376,339.604, 339.818,340.021,340.212,340.486,340.655 ,340.816,340.97,341.117,341.256,341.389 ,341.517,341.638,341.752,341.864, 341.974,342.074,342.174,342.318,342.406 ,342.493,342.614,342.693,342.766, 342.839,342.908,342.977,343.041,343.135 ,343.195,343.253,343.39,343.49,343.948, 344.673,345.534,346.26,346.249,346.236, 346.223,346.216,346.209,346.201,346.193 ,346.185,346.172,346.163,346.148, 346.138,346.128,346.118,346.109,346.086 ,346.073,346.06,346.045,346.028,346.011 ,345.992,345.975,345.965,345.938, 345.916,345.894,345.869,345.843,345.815 ,345.786,345.747,345.714,345.676, 345.648,345.602,345.555,345.506,345.456 ,345.402,345.344,345.281,345.213,345.14 ,345.058,343.006)
ORBIT_NUMBER = 2185
ORBITAL_ECCENTRICITY = 0.573
ORBITAL_INCLINATION = 86.63
ORBITAL_SEMIMAJOR_AXIS = 8604.47
PERIAPSIS_ALTITUDE = 280.97
PERIAPSIS_ARGUMENT_ANGLE = 334.15
PERIAPSIS_TIME = 2005-09-26T13:21:55.000Z
SPACECRAFT_ORIENTATION = (0.0,1.0,0.0)
^MEX_ORIENTATION_DESC = "MEX_ORIENTATION_DESC.TXT"
SPACECRAFT_POINTING_MODE = ACROSSTRACK
^MEX_POINTING_DESC = "MEX_POINTING_DESC.TXT"
RIGHT_ASCENSION = -1e+32
DECLINATION = -1e+32
OFFSET_ANGLE = -0.5
SPACECRAFT_SOLAR_DISTANCE = 2.11778e+08
TARGET_NAME = MARS
/* CAMERA DATA ELEMENTS */
DETECTOR_TEMPERATURE = 17.7588
FOCAL_PLANE_TEMPERATURE = 9.195
INST_CMPRS_NAME = "DISCRETE COSINE TRANSFORMATION (DCT)"
INST_CMPRS_RATIO = 11.519
INST_CMPRS_QUALITY = 0
INST_CMPRS_QUANTZ_TBL_ID = 0
INSTRUMENT_TEMPERATURE = 11.4379
LENS_TEMPERATURE = 9.3989
MACROPIXEL_SIZE = 4
MISSING_FRAMES = 1
PIXEL_SUBSAMPLING_FLAG = N
SIGNAL_CHAIN_ID = 2
/* RADIOMETRIC DATA ELEMENTS */
BANDWIDTH = 81.0
CENTER_FILTER_WAVELENGTH = 955.5
RADIANCE_OFFSET = 0.87058
RADIANCE_SCALING_FACTOR = 0.006873
REFLECTANCE_SCALING_FACTOR = 0.000665016
MEX:REFLECTANCE_OFFSET = 0.0842354
/* IMAGE OBJECT DEFINITIONS */
OBJECT = IMAGE
  INTERCHANGE_FORMAT = BINARY
  LINES = 23407
  LINE_SAMPLES = 4449
  SAMPLE_TYPE = UNSIGNED_INTEGER
  SAMPLE_BITS = 8
  BANDS = 1
  BAND_STORAGE_TYPE = BAND_SEQUENTIAL
  MAXIMUM = 239
  MEAN = 163.275
  MINIMUM = 73
  STANDARD_DEVIATION = 19.5296
END_OBJECT = IMAGE
/* MAP OBJECT DEFINITIONS */
OBJECT = IMAGE_MAP_PROJECTION
  ^DATA_SET_MAP_PROJECTION_CATALOG= "DSMAP.CAT"
  A_AXIS_RADIUS = 3396.0
  B_AXIS_RADIUS = 3396.0
  C_AXIS_RADIUS = 3396.0
  CENTER_LATITUDE = 0.0
  CENTER_LONGITUDE = 344.0
  COORDINATE_SYSTEM_NAME = PLANETOGRAPHIC
  COORDINATE_SYSTEM_TYPE = "BODY-FIXED ROTATING"
  EASTERNMOST_LONGITUDE = 346.26
  FIRST_STANDARD_PARALLEL = "N/A"
  LINE_FIRST_PIXEL = 1
  LINE_LAST_PIXEL = 23407
  LINE_PROJECTION_OFFSET = -64623.125
  MAP_PROJECTION_ROTATION = 0.0
  MAP_PROJECTION_TYPE = SINUSOIDAL
  MAP_RESOLUTION = 1185.42760773333
  MAP_SCALE = 0.05
  MAXIMUM_LATITUDE = -54.7328
  MINIMUM_LATITUDE = -74.4854
  POSITIVE_LONGITUDE_DIRECTION = EAST
  REFERENCE_LATITUDE = "N/A"
  REFERENCE_LONGITUDE = "N/A"
  SAMPLE_FIRST_PIXEL = 1
  SAMPLE_LAST_PIXEL = 4449
  SAMPLE_PROJECTION_OFFSET = 2869.875
  SECOND_STANDARD_PARALLEL = "N/A"
  WESTERNMOST_LONGITUDE = 335.669
END_OBJECT = IMAGE_MAP_PROJECTION
/* The JPEG2000 image data file associated with this label. */
OBJECT = COMPRESSED_FILE
  FILE_NAME = "H2185_0000_IR3.JP2"
  RECORD_TYPE = UNDEFINED
  FILE_RECORDS = UNK
  ENCODING_TYPE = "JP2"
  INTERCHANGE_FORMAT = BINARY
  UNCOMPRESSED_FILE_NAME = "H2185_0000_IR3.IMG"
  REQUIRED_STORAGE_BYTES = "104164437"
  ^DESCRIPTION = "JP2INFO.TXT"
END_OBJECT = COMPRESSED_FILE
END
