PDS_VERSION_ID = PDS3
/* FILE DATA ELEMENTS */
RECORD_TYPE = STREAM
/* POINTERS TO DATA OBJECTS */
^COMPRESSED_FILE = "H2188_0000_IR3.JP2"
/* IDENTIFICATION DATA ELEMENTS */
DATA_SET_ID = "MEX-M-HRSC-5-REFDR-MAPPROJECTED-V3.0"
DATA_SET_NAME = "MARS EXPRESS HRSC MAP PROJECTED REFDR V3.0"
DETECTOR_ID = MEX_HRSC_IR
EVENT_TYPE = "MARS-REGIONAL-MAPPING-Vo-Im"
INSTRUMENT_HOST_ID = MEX
INSTRUMENT_HOST_NAME = "MARS EXPRESS"
INSTRUMENT_ID = HRSC
INSTRUMENT_NAME = "HIGH RESOLUTION STEREO CAMERA"
MISSION_NAME = "MARS EXPRESS"
MISSION_PHASE_NAME = MR_Phase_7
PROCESSING_LEVEL_ID = 3
PRODUCT_CREATION_TIME = 2016-03-14T11:38:04.000Z
PRODUCT_ID = "H2188_0000_IR3.JP2"
RELEASE_ID = 0027
REVISION_ID = 0000
/* QUALITY DATA ELEMENTS */
DATA_QUALITY_ID = 1
DATA_QUALITY_DESC = "Data calculated based on original SPICE kernels"
/* TIME DATA ELEMENTS */
SPACECRAFT_CLOCK_START_COUNT = "1/0075892368.57950"
SPACECRAFT_CLOCK_STOP_COUNT = "1/0075892862.14299"
START_TIME = 2005-09-27T09:16:49.121Z
STOP_TIME = 2005-09-27T09:20:53.297Z
/* ORBITAL DATA ELEMENTS */
ASCENDING_NODE_LONGITUDE = 182.34
MAXIMUM_RESOLUTION = 107.9
FOOTPRINT_POINT_LATITUDE = (-83.6755,-83.5873,-83.408,-83.2014, -82.9699,-82.7157,-82.4405,-82.1952, -81.9883,-81.7791,-81.564,-81.3408, -81.0032,-80.7723,-80.4199,-80.18, -79.9372,-79.6908,-79.4417,-79.1897, -78.935,-78.6776,-78.418,-78.0236, -77.6252,-77.2213,-76.8148,-76.4016, -76.1247,-75.8461,-75.5666,-75.2914, -75.0145,-74.7402,-74.3284,-73.9197, -73.6476,-73.3799,-72.9782,-72.7114, -72.4469,-72.1827,-71.9217,-71.6609, -71.4022,-71.1443,-70.8892,-70.6319, -70.3781,-70.1265,-69.7517,-69.3291, -69.3901,-69.4332,-69.5049,-69.5534, -69.5899,-69.8801,-70.2642,-70.5242, -70.7861,-71.1826,-71.4468,-71.7141, -71.9812,-72.2497,-72.6608,-72.9344, -73.3522,-73.7739,-74.0549,-74.3392, -74.6204,-75.062,-75.3527,-75.6474, -76.0853,-76.5377,-76.8373,-77.281, -77.5777,-77.8735,-78.3157,-78.6109, -78.9035,-79.196,-79.4876,-79.7771, -80.0684,-80.5035,-80.7908,-81.0749, -81.5006,-81.7863,-82.2111,-82.4895, -82.7686,-83.0468,-83.4627,-83.6755)
FOOTPRINT_POINT_LONGITUDE = (36.7797,34.5053,30.621,26.9451,23.4862 ,20.2451,17.2124,13.612,15.0367,16.3568 ,17.6238,18.863,20.559,21.6285,23.1301, 24.0774,24.9778,25.8395,26.6603,27.4453 ,28.1948,28.9118,29.5967,30.5724, 31.4825,32.341,33.1402,33.9024,34.3828, 34.8447,35.2864,35.6996,36.1009,36.481, 37.0276,37.5387,37.8638,38.1688,38.6087 ,38.8881,39.1568,39.415,39.6621,39.9, 40.13,40.3502,40.5625,40.7721,40.9723, 41.1624,41.437,41.9766,42.9889,43.763, 45.1941,46.3299,47.2863,48.0907,48.004, 47.944,47.8822,47.7852,47.7171,47.6461, 47.5723,47.4949,47.3755,47.2901,47.1571 ,47.0151,46.9142,46.8092,46.6978, 46.5259,46.4017,46.2727,46.0623,45.8386 ,45.68,45.4265,45.2481,45.0608,44.7622, 44.5506,44.3272,44.0921,43.8439,43.5812 ,43.304,42.8564,42.5345,42.1917,41.6352 ,41.2326,40.574,40.0945,39.5782,39.0209 ,38.0969,36.7797)
ORBIT_NUMBER = 2188
ORBITAL_ECCENTRICITY = 0.573
ORBITAL_INCLINATION = 86.63
ORBITAL_SEMIMAJOR_AXIS = 8609.46
PERIAPSIS_ALTITUDE = 280.51
PERIAPSIS_ARGUMENT_ANGLE = 333.65
PERIAPSIS_TIME = 2005-09-27T09:31:25.000Z
SPACECRAFT_ORIENTATION = (0.0,1.0,0.0)
^MEX_ORIENTATION_DESC = "MEX_ORIENTATION_DESC.TXT"
SPACECRAFT_POINTING_MODE = ACROSSTRACK
^MEX_POINTING_DESC = "MEX_POINTING_DESC.TXT"
RIGHT_ASCENSION = -1e+32
DECLINATION = -1e+32
OFFSET_ANGLE = 0.28
SPACECRAFT_SOLAR_DISTANCE = 2.11894e+08
TARGET_NAME = MARS
/* CAMERA DATA ELEMENTS */
DETECTOR_TEMPERATURE = 17.5549
FOCAL_PLANE_TEMPERATURE = 8.9911
INST_CMPRS_NAME = "DISCRETE COSINE TRANSFORMATION (DCT)"
INST_CMPRS_RATIO = 17.558
INST_CMPRS_QUALITY = 0
INST_CMPRS_QUANTZ_TBL_ID = 0
INSTRUMENT_TEMPERATURE = 11.234
LENS_TEMPERATURE = 9.3989
MACROPIXEL_SIZE = 4
MISSING_FRAMES = 0
PIXEL_SUBSAMPLING_FLAG = N
SIGNAL_CHAIN_ID = 2
/* RADIOMETRIC DATA ELEMENTS */
BANDWIDTH = 81.0
CENTER_FILTER_WAVELENGTH = 955.5
RADIANCE_OFFSET = 0.878957
RADIANCE_SCALING_FACTOR = 0.0126027
REFLECTANCE_SCALING_FACTOR = 0.00122073
MEX:REFLECTANCE_OFFSET = 0.0851379
/* IMAGE OBJECT DEFINITIONS */
OBJECT = IMAGE
  INTERCHANGE_FORMAT = BINARY
  LINES = 8747
  LINE_SAMPLES = 3910
  SAMPLE_TYPE = UNSIGNED_INTEGER
  SAMPLE_BITS = 8
  BANDS = 1
  BAND_STORAGE_TYPE = BAND_SEQUENTIAL
  MAXIMUM = 303
  MEAN = 130.409
  MINIMUM = 60
  STANDARD_DEVIATION = 26.8935
END_OBJECT = IMAGE
/* MAP OBJECT DEFINITIONS */
OBJECT = IMAGE_MAP_PROJECTION
  ^DATA_SET_MAP_PROJECTION_CATALOG= "DSMAP.CAT"
  A_AXIS_RADIUS = 3396.0
  B_AXIS_RADIUS = 3396.0
  C_AXIS_RADIUS = 3396.0
  CENTER_LATITUDE = 0.0
  CENTER_LONGITUDE = 40.0
  COORDINATE_SYSTEM_NAME = PLANETOGRAPHIC
  COORDINATE_SYSTEM_TYPE = "BODY-FIXED ROTATING"
  EASTERNMOST_LONGITUDE = 48.0907
  FIRST_STANDARD_PARALLEL = "N/A"
  LINE_FIRST_PIXEL = 1
  LINE_LAST_PIXEL = 8747
  LINE_PROJECTION_OFFSET = -40669.875
  MAP_PROJECTION_ROTATION = 0.0
  MAP_PROJECTION_TYPE = SINUSOIDAL
  MAP_RESOLUTION = 592.713803866667
  MAP_SCALE = 0.1
  MAXIMUM_LATITUDE = -69.3291
  MINIMUM_LATITUDE = -83.6755
  POSITIVE_LONGITUDE_DIRECTION = EAST
  REFERENCE_LATITUDE = "N/A"
  REFERENCE_LONGITUDE = "N/A"
  SAMPLE_FIRST_PIXEL = 1
  SAMPLE_LAST_PIXEL = 3910
  SAMPLE_PROJECTION_OFFSET = 2112.375
  SECOND_STANDARD_PARALLEL = "N/A"
  WESTERNMOST_LONGITUDE = 13.612
END_OBJECT = IMAGE_MAP_PROJECTION
/* The JPEG2000 image data file associated with this label. */
OBJECT = COMPRESSED_FILE
  FILE_NAME = "H2188_0000_IR3.JP2"
  RECORD_TYPE = UNDEFINED
  FILE_RECORDS = UNK
  ENCODING_TYPE = "JP2"
  INTERCHANGE_FORMAT = BINARY
  UNCOMPRESSED_FILE_NAME = "H2188_0000_IR3.IMG"
  REQUIRED_STORAGE_BYTES = "34224230"
  ^DESCRIPTION = "JP2INFO.TXT"
END_OBJECT = COMPRESSED_FILE
END
