PDS_VERSION_ID = PDS3
/* FILE DATA ELEMENTS */
RECORD_TYPE = STREAM
/* POINTERS TO DATA OBJECTS */
^COMPRESSED_FILE = "H2188_0022_SR3.JP2"
/* IDENTIFICATION DATA ELEMENTS */
DATA_SET_ID = "MEX-M-HRSC-5-REFDR-MAPPROJECTED-V3.0"
DATA_SET_NAME = "MARS EXPRESS HRSC MAP PROJECTED REFDR V3.0"
DETECTOR_ID = MEX_HRSC_SRC
EVENT_TYPE = "MARS-REGIONAL-MAPPING-Vo-Im"
INSTRUMENT_HOST_ID = MEX
INSTRUMENT_HOST_NAME = "MARS EXPRESS"
INSTRUMENT_ID = HRSC
INSTRUMENT_NAME = "HIGH RESOLUTION STEREO CAMERA"
MISSION_NAME = "MARS EXPRESS"
MISSION_PHASE_NAME = MR_Phase_7
PROCESSING_LEVEL_ID = 3
PRODUCT_CREATION_TIME = 2016-03-14T11:38:04.000Z
PRODUCT_ID = "H2188_0022_SR3.JP2"
RELEASE_ID = 0027
REVISION_ID = 0000
/* QUALITY DATA ELEMENTS */
DATA_QUALITY_ID = 1
DATA_QUALITY_DESC = "Data calculated based on original SPICE kernels"
/* TIME DATA ELEMENTS */
SPACECRAFT_CLOCK_START_COUNT = "1/0075892368.57950"
SPACECRAFT_CLOCK_STOP_COUNT = "1/0075892862.14299"
IMAGE_TIME = 2005-09-27T09:19:01.388Z
START_TIME = 2005-09-27T09:19:01.385Z
STOP_TIME = 2005-09-27T09:19:01.390Z
/* ORBITAL DATA ELEMENTS */
ASCENDING_NODE_LONGITUDE = 182.34
MAXIMUM_RESOLUTION = 6.834
FOOTPRINT_POINT_LATITUDE = (-72.5364,-72.5313,-72.5277,-72.5226, -72.5185,-72.5149,-72.5085,-72.503, -72.499,-72.4935,-72.4883,-72.4848, -72.4788,-72.4751,-72.4691,-72.4632, -72.4585,-72.4542,-72.449,-72.4436, -72.4403,-72.4349,-72.4302,-72.4268, -72.425,-72.4258,-72.4268,-72.4276, -72.4285,-72.4294,-72.4302,-72.4311, -72.432,-72.4328,-72.4337,-72.4345, -72.4354,-72.4362,-72.4371,-72.438, -72.4388,-72.4397,-72.4405,-72.4414, -72.4422,-72.4431,-72.4439,-72.4447, -72.4456,-72.4494,-72.4527,-72.457, -72.4612,-72.465,-72.4701,-72.4745, -72.4799,-72.4877,-72.4908,-72.4948, -72.4981,-72.5018,-72.5072,-72.514, -72.5193,-72.5231,-72.5292,-72.533, -72.5366,-72.5416,-72.5454,-72.5501, -72.5557,-72.5591,-72.5606,-72.5597, -72.5589,-72.558,-72.5572,-72.5563, -72.5555,-72.5546,-72.5538,-72.5529, -72.5521,-72.5512,-72.5503,-72.5495, -72.5486,-72.5477,-72.5469,-72.546, -72.5453,-72.5444,-72.5436,-72.5427, -72.5418,-72.5409,-72.5401,-72.5364)
FOOTPRINT_POINT_LONGITUDE = (43.0833,43.0866,43.089,43.0922,43.0949 ,43.0973,43.1014,43.1049,43.1075, 43.1111,43.1144,43.1167,43.1206,43.123, 43.1269,43.1306,43.1337,43.1364,43.1398 ,43.1432,43.1454,43.1489,43.1519, 43.1541,43.1635,43.1785,43.1935,43.2085 ,43.2236,43.2387,43.2538,43.2689,43.284 ,43.299,43.3141,43.3292,43.3443,43.3594 ,43.3745,43.3896,43.4047,43.4198, 43.4349,43.45,43.4651,43.4802,43.4953, 43.5104,43.5255,43.5333,43.5312,43.5286 ,43.526,43.5236,43.5205,43.5177,43.5144 ,43.5096,43.5076,43.5051,43.503,43.5008 ,43.4974,43.4932,43.4899,43.4875, 43.4837,43.4813,43.479,43.4759,43.4736, 43.4706,43.4671,43.465,43.4558,43.4406, 43.4254,43.4102,43.395,43.3798,43.3646, 43.3494,43.3342,43.319,43.3038,43.2886, 43.2734,43.2582,43.243,43.2278,43.2126, 43.1974,43.1862,43.171,43.1558,43.1406, 43.1254,43.1103,43.0951,43.0833)
ORBIT_NUMBER = 2188
ORBITAL_ECCENTRICITY = 0.573
ORBITAL_INCLINATION = 86.63
ORBITAL_SEMIMAJOR_AXIS = 8609.46
PERIAPSIS_ALTITUDE = 280.51
PERIAPSIS_ARGUMENT_ANGLE = 333.65
PERIAPSIS_TIME = 2005-09-27T09:31:25.000Z
SPACECRAFT_ORIENTATION = (0.0,1.0,0.0)
^MEX_ORIENTATION_DESC = "MEX_ORIENTATION_DESC.TXT"
SPACECRAFT_POINTING_MODE = ACROSSTRACK
^MEX_POINTING_DESC = "MEX_POINTING_DESC.TXT"
RIGHT_ASCENSION = -1e+32
DECLINATION = -1e+32
OFFSET_ANGLE = 0.28
SPACECRAFT_SOLAR_DISTANCE = 2.11894e+08
TARGET_NAME = MARS
/* CAMERA DATA ELEMENTS */
BUFFER_MODE_ID = DIRECT
EXPOSURE_DURATION = 5.04
INST_CMPRS_NAME = "DISCRETE COSINE TRANSFORMATION (DCT)"
INST_CMPRS_RATIO = 11.6155
INST_CMPRS_QUALITY = 0
INST_CMPRS_QUANTZ_TBL_ID = 0
INSTRUMENT_TEMPERATURE = 14.2424
MISSING_FRAMES = 0
START_BIT = 0
/* RADIOMETRIC DATA ELEMENTS */
BANDWIDTH = 250.0
CENTER_FILTER_WAVELENGTH = 600.0
RADIANCE_OFFSET = -9.99e+31
RADIANCE_SCALING_FACTOR = -9.99e+31
REFLECTANCE_SCALING_FACTOR = -9.99e+31
MEX:REFLECTANCE_OFFSET = -9.99e+31
/* IMAGE OBJECT DEFINITIONS */
OBJECT = IMAGE
  INTERCHANGE_FORMAT = BINARY
  LINES = 1699
  LINE_SAMPLES = 1705
  SAMPLE_TYPE = UNSIGNED_INTEGER
  SAMPLE_BITS = 8
  BANDS = 1
  BAND_STORAGE_TYPE = BAND_SEQUENTIAL
  MAXIMUM = 6741
  MEAN = 5812.71
  MINIMUM = 4817
  STANDARD_DEVIATION = 202.152
END_OBJECT = IMAGE
/* MAP OBJECT DEFINITIONS */
OBJECT = IMAGE_MAP_PROJECTION
  ^DATA_SET_MAP_PROJECTION_CATALOG= "DSMAP.CAT"
  A_AXIS_RADIUS = 3396.19
  B_AXIS_RADIUS = 3396.19
  C_AXIS_RADIUS = 3396.19
  CENTER_LATITUDE = 0.0
  CENTER_LONGITUDE = 43.0
  COORDINATE_SYSTEM_NAME = PLANETOGRAPHIC
  COORDINATE_SYSTEM_TYPE = "BODY-FIXED ROTATING"
  EASTERNMOST_LONGITUDE = 43.5333
  FIRST_STANDARD_PARALLEL = "N/A"
  LINE_FIRST_PIXEL = 1
  LINE_LAST_PIXEL = 1699
  LINE_PROJECTION_OFFSET = -856821.0
  MAP_PROJECTION_ROTATION = 0.0
  MAP_PROJECTION_TYPE = SINUSOIDAL
  MAP_RESOLUTION = 11854.9393024378
  MAP_SCALE = 0.005
  MAXIMUM_LATITUDE = -72.425
  MINIMUM_LATITUDE = -72.56059999999999
  POSITIVE_LONGITUDE_DIRECTION = EAST
  REFERENCE_LATITUDE = "N/A"
  REFERENCE_LONGITUDE = "N/A"
  SAMPLE_FIRST_PIXEL = 1
  SAMPLE_LAST_PIXEL = 1705
  SAMPLE_PROJECTION_OFFSET = -87.0
  SECOND_STANDARD_PARALLEL = "N/A"
  WESTERNMOST_LONGITUDE = 43.0833
END_OBJECT = IMAGE_MAP_PROJECTION
/* The JPEG2000 image data file associated with this label. */
OBJECT = COMPRESSED_FILE
  FILE_NAME = "H2188_0022_SR3.JP2"
  RECORD_TYPE = UNDEFINED
  FILE_RECORDS = UNK
  ENCODING_TYPE = "JP2"
  INTERCHANGE_FORMAT = BINARY
  UNCOMPRESSED_FILE_NAME = "H2188_0022_SR3.IMG"
  REQUIRED_STORAGE_BYTES = "2917255"
  ^DESCRIPTION = "JP2INFO.TXT"
END_OBJECT = COMPRESSED_FILE
END
