PDS_VERSION_ID = PDS3
/* FILE DATA ELEMENTS */
RECORD_TYPE = STREAM
/* POINTERS TO DATA OBJECTS */
^COMPRESSED_FILE = "H2188_0030_SR3.JP2"
/* IDENTIFICATION DATA ELEMENTS */
DATA_SET_ID = "MEX-M-HRSC-5-REFDR-MAPPROJECTED-V3.0"
DATA_SET_NAME = "MARS EXPRESS HRSC MAP PROJECTED REFDR V3.0"
DETECTOR_ID = MEX_HRSC_SRC
EVENT_TYPE = "MARS-REGIONAL-MAPPING-Vo-Im"
INSTRUMENT_HOST_ID = MEX
INSTRUMENT_HOST_NAME = "MARS EXPRESS"
INSTRUMENT_ID = HRSC
INSTRUMENT_NAME = "HIGH RESOLUTION STEREO CAMERA"
MISSION_NAME = "MARS EXPRESS"
MISSION_PHASE_NAME = MR_Phase_7
PROCESSING_LEVEL_ID = 3
PRODUCT_CREATION_TIME = 2016-03-14T11:38:04.000Z
PRODUCT_ID = "H2188_0030_SR3.JP2"
RELEASE_ID = 0027
REVISION_ID = 0000
/* QUALITY DATA ELEMENTS */
DATA_QUALITY_ID = 1
DATA_QUALITY_DESC = "Data calculated based on original SPICE kernels"
/* TIME DATA ELEMENTS */
SPACECRAFT_CLOCK_START_COUNT = "1/0075892368.57950"
SPACECRAFT_CLOCK_STOP_COUNT = "1/0075892862.14299"
IMAGE_TIME = 2005-09-27T09:19:13.923Z
START_TIME = 2005-09-27T09:19:13.921Z
STOP_TIME = 2005-09-27T09:19:13.926Z
/* ORBITAL DATA ELEMENTS */
ASCENDING_NODE_LONGITUDE = 182.34
MAXIMUM_RESOLUTION = 6.711
FOOTPRINT_POINT_LATITUDE = (-71.8814,-71.8781,-71.8717,-71.8644, -71.8598,-71.8546,-71.8506,-71.8475, -71.8436,-71.8382,-71.833,-71.8296, -71.8238,-71.82,-71.8145,-71.8113, -71.8081,-71.8027,-71.7993,-71.7944, -71.7909,-71.7865,-71.7812,-71.7768, -71.7733,-71.7685,-71.7694,-71.7702, -71.771,-71.7718,-71.7726,-71.7734, -71.7742,-71.7751,-71.7759,-71.7767, -71.7775,-71.7783,-71.7791,-71.7799, -71.7807,-71.7815,-71.7823,-71.7831, -71.7839,-71.7847,-71.7855,-71.7863, -71.7871,-71.7879,-71.7887,-71.7956, -71.8001,-71.8057,-71.8099,-71.813, -71.8173,-71.8205,-71.8258,-71.8298, -71.8341,-71.8388,-71.8449,-71.8524, -71.8572,-71.8613,-71.865,-71.8701, -71.8733,-71.8776,-71.8811,-71.8868, -71.8911,-71.8945,-71.9018,-71.901, -71.9002,-71.8994,-71.8986,-71.8978, -71.897,-71.8962,-71.8954,-71.8946, -71.8938,-71.893,-71.8921,-71.8913, -71.8905,-71.8897,-71.8889,-71.8881, -71.8873,-71.8865,-71.8857,-71.8848, -71.884,-71.8832,-71.8823,-71.8814)
FOOTPRINT_POINT_LONGITUDE = (43.4984,43.5004,43.5042,43.5085, 43.5113,43.5144,43.5168,43.5187,43.521, 43.5242,43.5273,43.5292,43.5327,43.535, 43.5382,43.5401,43.542,43.5452,43.5472, 43.5502,43.5522,43.5549,43.558,43.5606, 43.5627,43.5659,43.5802,43.5945,43.6088 ,43.6231,43.6374,43.6518,43.6661, 43.6804,43.6947,43.709,43.7234,43.7377, 43.752,43.7663,43.7807,43.795,43.8093, 43.8236,43.838,43.8523,43.8666,43.8809, 43.8953,43.9096,43.9239,43.9222,43.9196 ,43.9164,43.914,43.9122,43.9098,43.9079 ,43.9049,43.9027,43.9002,43.8975,43.894 ,43.8897,43.8869,43.8846,43.8824, 43.8795,43.8777,43.8752,43.8731,43.8699 ,43.8674,43.8655,43.8609,43.8465,43.832 ,43.8176,43.8032,43.7888,43.7743, 43.7599,43.7455,43.7311,43.7167,43.7022 ,43.6878,43.6734,43.659,43.6446,43.6301 ,43.6157,43.6013,43.5869,43.5725, 43.5581,43.5437,43.5293,43.515,43.4984)
ORBIT_NUMBER = 2188
ORBITAL_ECCENTRICITY = 0.573
ORBITAL_INCLINATION = 86.63
ORBITAL_SEMIMAJOR_AXIS = 8609.46
PERIAPSIS_ALTITUDE = 280.51
PERIAPSIS_ARGUMENT_ANGLE = 333.65
PERIAPSIS_TIME = 2005-09-27T09:31:25.000Z
SPACECRAFT_ORIENTATION = (0.0,1.0,0.0)
^MEX_ORIENTATION_DESC = "MEX_ORIENTATION_DESC.TXT"
SPACECRAFT_POINTING_MODE = ACROSSTRACK
^MEX_POINTING_DESC = "MEX_POINTING_DESC.TXT"
RIGHT_ASCENSION = -1e+32
DECLINATION = -1e+32
OFFSET_ANGLE = 0.28
SPACECRAFT_SOLAR_DISTANCE = 2.11894e+08
TARGET_NAME = MARS
/* CAMERA DATA ELEMENTS */
BUFFER_MODE_ID = DIRECT
EXPOSURE_DURATION = 5.04
INST_CMPRS_NAME = "DISCRETE COSINE TRANSFORMATION (DCT)"
INST_CMPRS_RATIO = 12.6362
INST_CMPRS_QUALITY = 0
INST_CMPRS_QUANTZ_TBL_ID = 0
INSTRUMENT_TEMPERATURE = 14.2424
MISSING_FRAMES = 0
START_BIT = 0
/* RADIOMETRIC DATA ELEMENTS */
BANDWIDTH = 250.0
CENTER_FILTER_WAVELENGTH = 600.0
RADIANCE_OFFSET = -9.99e+31
RADIANCE_SCALING_FACTOR = -9.99e+31
REFLECTANCE_SCALING_FACTOR = -9.99e+31
MEX:REFLECTANCE_OFFSET = -9.99e+31
/* IMAGE OBJECT DEFINITIONS */
OBJECT = IMAGE
  INTERCHANGE_FORMAT = BINARY
  LINES = 1660
  LINE_SAMPLES = 1655
  SAMPLE_TYPE = UNSIGNED_INTEGER
  SAMPLE_BITS = 8
  BANDS = 1
  BAND_STORAGE_TYPE = BAND_SEQUENTIAL
  MAXIMUM = 6413
  MEAN = 5507.72
  MINIMUM = 4702
  STANDARD_DEVIATION = 80.7123
END_OBJECT = IMAGE
/* MAP OBJECT DEFINITIONS */
OBJECT = IMAGE_MAP_PROJECTION
  ^DATA_SET_MAP_PROJECTION_CATALOG= "DSMAP.CAT"
  A_AXIS_RADIUS = 3396.19
  B_AXIS_RADIUS = 3396.19
  C_AXIS_RADIUS = 3396.19
  CENTER_LATITUDE = 0.0
  CENTER_LONGITUDE = 44.0
  COORDINATE_SYSTEM_NAME = PLANETOGRAPHIC
  COORDINATE_SYSTEM_TYPE = "BODY-FIXED ROTATING"
  EASTERNMOST_LONGITUDE = 43.9239
  FIRST_STANDARD_PARALLEL = "N/A"
  LINE_FIRST_PIXEL = 1
  LINE_LAST_PIXEL = 1660
  LINE_PROJECTION_OFFSET = -849086.0
  MAP_PROJECTION_ROTATION = 0.0
  MAP_PROJECTION_TYPE = SINUSOIDAL
  MAP_RESOLUTION = 11854.9393024378
  MAP_SCALE = 0.005
  MAXIMUM_LATITUDE = -71.7685
  MINIMUM_LATITUDE = -71.90179999999999
  POSITIVE_LONGITUDE_DIRECTION = EAST
  REFERENCE_LATITUDE = "N/A"
  REFERENCE_LONGITUDE = "N/A"
  SAMPLE_FIRST_PIXEL = 1
  SAMPLE_LAST_PIXEL = 1655
  SAMPLE_PROJECTION_OFFSET = 2037.0
  SECOND_STANDARD_PARALLEL = "N/A"
  WESTERNMOST_LONGITUDE = 43.4984
END_OBJECT = IMAGE_MAP_PROJECTION
/* The JPEG2000 image data file associated with this label. */
OBJECT = COMPRESSED_FILE
  FILE_NAME = "H2188_0030_SR3.JP2"
  RECORD_TYPE = UNDEFINED
  FILE_RECORDS = UNK
  ENCODING_TYPE = "JP2"
  INTERCHANGE_FORMAT = BINARY
  UNCOMPRESSED_FILE_NAME = "H2188_0030_SR3.IMG"
  REQUIRED_STORAGE_BYTES = "2767160"
  ^DESCRIPTION = "JP2INFO.TXT"
END_OBJECT = COMPRESSED_FILE
END
