PDS_VERSION_ID = PDS3
/* FILE DATA ELEMENTS */
RECORD_TYPE = STREAM
/* POINTERS TO DATA OBJECTS */
^COMPRESSED_FILE = "H2189_0000_S23.JP2"
/* IDENTIFICATION DATA ELEMENTS */
DATA_SET_ID = "MEX-M-HRSC-5-REFDR-MAPPROJECTED-V3.0"
DATA_SET_NAME = "MARS EXPRESS HRSC MAP PROJECTED REFDR V3.0"
DETECTOR_ID = MEX_HRSC_S2
EVENT_TYPE = "MARS-REGIONAL-MAPPING-Gl-Eo-La"
INSTRUMENT_HOST_ID = MEX
INSTRUMENT_HOST_NAME = "MARS EXPRESS"
INSTRUMENT_ID = HRSC
INSTRUMENT_NAME = "HIGH RESOLUTION STEREO CAMERA"
MISSION_NAME = "MARS EXPRESS"
MISSION_PHASE_NAME = MR_Phase_7
PROCESSING_LEVEL_ID = 3
PRODUCT_CREATION_TIME = 2016-03-14T11:38:04.000Z
PRODUCT_ID = "H2189_0000_S23.JP2"
RELEASE_ID = 0027
REVISION_ID = 0000
/* QUALITY DATA ELEMENTS */
DATA_QUALITY_ID = 1
DATA_QUALITY_DESC = "Data calculated based on original SPICE kernels"
/* TIME DATA ELEMENTS */
SPACECRAFT_CLOCK_START_COUNT = "1/0075916212.57933"
SPACECRAFT_CLOCK_STOP_COUNT = "1/0075916861.37161"
START_TIME = 2005-09-27T15:50:20.014Z
STOP_TIME = 2005-09-27T15:57:30.787Z
/* ORBITAL DATA ELEMENTS */
ASCENDING_NODE_LONGITUDE = 182.32
MAXIMUM_RESOLUTION = 92.9
FOOTPRINT_POINT_LATITUDE = (-85.8445,-85.9501,-86.0015,-85.9978, -85.9399,-85.831,-85.6755,-85.4791, -85.2469,-84.9841,-84.6953,-84.3444, -84.0132,-84.2223,-84.5197,-84.8006, -85.0601,-85.2927,-85.4922,-85.6506, -85.7617,-85.8186,-85.816,-85.7496, -85.6232,-85.4891,-85.2614,-85.1273, -84.9815,-84.8243,-84.6546,-84.4773, -84.1893,-83.9886,-83.7794,-83.5623, -83.3365,-83.1059,-82.8678,-82.6235, -82.3747,-82.1197,-81.7249,-81.4526, -81.1836,-80.9076,-80.6256,-80.339, -79.902,-79.9524,-80.055,-80.1319, -80.1945,-80.2481,-80.3192,-80.3461, -80.3621,-80.3707,-80.3692,-80.3591, -80.3291,-80.8084,-81.1259,-81.4392, -81.753,-82.0604,-82.3647,-82.6717, -82.9723,-83.2697,-83.5659,-84.0108, -84.3069,-84.5934,-84.8819,-85.1643, -85.5823,-85.8561,-86.1262,-86.3927, -86.6549,-86.9121,-87.1629,-87.4071, -87.7587,-88.0853,-88.3675,-88.6096, -88.7892,-88.7665,-88.5578,-88.2348, -87.9524,-87.5465,-87.1245,-86.6948, -86.2629,-85.8323,-85.8445)
FOOTPRINT_POINT_LONGITUDE = (121.495,128.091,134.9,141.75,148.464, 154.883,160.888,166.408,171.424,175.945 ,180.001,184.058,187.261,189.821, 193.106,196.826,201.029,205.758,211.048 ,216.839,223.109,229.774,236.645, 243.569,250.195,254.936,260.852,263.625 ,266.255,268.747,271.12,273.334,276.451 ,278.358,280.154,281.843,283.438, 284.926,286.33,287.65,288.886,290.053, 291.685,292.704,293.643,294.537,295.385 ,296.188,297.312,298.777,300.829, 302.495,304.203,305.938,309.036,310.84, 312.431,314.264,316.108,317.728,320.135 ,320.489,320.741,321.016,321.3,321.62, 321.967,322.319,322.717,323.151,323.616 ,324.369,324.919,325.56,326.244,327.022 ,328.364,329.405,330.586,331.934, 333.485,335.289,337.408,339.916,344.645 ,350.995,359.632,11.5635,32.9125, 56.8102,76.3161,89.5361,96.3862,102.936 ,107.491,110.816,113.318,115.25, 121.495)
ORBIT_NUMBER = 2189
ORBITAL_ECCENTRICITY = 0.573
ORBITAL_INCLINATION = 86.63
ORBITAL_SEMIMAJOR_AXIS = 8603.84
PERIAPSIS_ALTITUDE = 280.9
PERIAPSIS_ARGUMENT_ANGLE = 333.48
PERIAPSIS_TIME = 2005-09-27T16:14:35.000Z
SPACECRAFT_ORIENTATION = (0.0,1.0,0.0)
^MEX_ORIENTATION_DESC = "MEX_ORIENTATION_DESC.TXT"
SPACECRAFT_POINTING_MODE = ACROSSTRACK
^MEX_POINTING_DESC = "MEX_POINTING_DESC.TXT"
RIGHT_ASCENSION = -1e+32
DECLINATION = -1e+32
OFFSET_ANGLE = -1.6
SPACECRAFT_SOLAR_DISTANCE = 2.11932e+08
TARGET_NAME = MARS
/* CAMERA DATA ELEMENTS */
DETECTOR_TEMPERATURE = 19.39
FOCAL_PLANE_TEMPERATURE = 9.6028
INST_CMPRS_NAME = "DISCRETE COSINE TRANSFORMATION (DCT)"
INST_CMPRS_RATIO = 9.90925
INST_CMPRS_QUALITY = 0
INST_CMPRS_QUANTZ_TBL_ID = 0
INSTRUMENT_TEMPERATURE = 11.4379
LENS_TEMPERATURE = 9.8067
MACROPIXEL_SIZE = 2
MISSING_FRAMES = 0
PIXEL_SUBSAMPLING_FLAG = N
SIGNAL_CHAIN_ID = 1
/* RADIOMETRIC DATA ELEMENTS */
BANDWIDTH = 178.0
CENTER_FILTER_WAVELENGTH = 679.0
RADIANCE_OFFSET = 3.27232
RADIANCE_SCALING_FACTOR = 0.0557826
REFLECTANCE_SCALING_FACTOR = 0.00132682
MEX:REFLECTANCE_OFFSET = 0.0778341
/* IMAGE OBJECT DEFINITIONS */
OBJECT = IMAGE
  INTERCHANGE_FORMAT = BINARY
  LINES = 15080
  LINE_SAMPLES = 14213
  SAMPLE_TYPE = UNSIGNED_INTEGER
  SAMPLE_BITS = 8
  BANDS = 1
  BAND_STORAGE_TYPE = BAND_SEQUENTIAL
  MAXIMUM = 266
  MEAN = 130.915
  MINIMUM = 42
  STANDARD_DEVIATION = 74.3767
END_OBJECT = IMAGE
/* MAP OBJECT DEFINITIONS */
OBJECT = IMAGE_MAP_PROJECTION
  ^DATA_SET_MAP_PROJECTION_CATALOG= "DSMAP.CAT"
  A_AXIS_RADIUS = 3396.0
  B_AXIS_RADIUS = 3396.0
  C_AXIS_RADIUS = 3396.0
  CENTER_LATITUDE = -90.0
  CENTER_LONGITUDE = 0.0
  COORDINATE_SYSTEM_NAME = PLANETOGRAPHIC
  COORDINATE_SYSTEM_TYPE = "BODY-FIXED ROTATING"
  EASTERNMOST_LONGITUDE = 360.0
  FIRST_STANDARD_PARALLEL = "N/A"
  LINE_FIRST_PIXEL = 1
  LINE_LAST_PIXEL = 15080
  LINE_PROJECTION_OFFSET = 8120.25
  MAP_PROJECTION_ROTATION = 0.0
  MAP_PROJECTION_TYPE = STEREOGRAPHIC
  MAP_RESOLUTION = 1185.42760773333
  MAP_SCALE = 0.05
  MAXIMUM_LATITUDE = -79.902
  MINIMUM_LATITUDE = -90.0
  POSITIVE_LONGITUDE_DIRECTION = EAST
  REFERENCE_LATITUDE = "N/A"
  REFERENCE_LONGITUDE = "N/A"
  SAMPLE_FIRST_PIXEL = 1
  SAMPLE_LAST_PIXEL = 14213
  SAMPLE_PROJECTION_OFFSET = 10159.25
  SECOND_STANDARD_PARALLEL = "N/A"
  WESTERNMOST_LONGITUDE = 0.0
END_OBJECT = IMAGE_MAP_PROJECTION
/* The JPEG2000 image data file associated with this label. */
OBJECT = COMPRESSED_FILE
  FILE_NAME = "H2189_0000_S23.JP2"
  RECORD_TYPE = UNDEFINED
  FILE_RECORDS = UNK
  ENCODING_TYPE = "JP2"
  INTERCHANGE_FORMAT = BINARY
  UNCOMPRESSED_FILE_NAME = "H2189_0000_S23.IMG"
  REQUIRED_STORAGE_BYTES = "214374679"
  ^DESCRIPTION = "JP2INFO.TXT"
END_OBJECT = COMPRESSED_FILE
END
