PDS_VERSION_ID = PDS3
/* FILE DATA ELEMENTS */
RECORD_TYPE = STREAM
/* POINTERS TO DATA OBJECTS */
^COMPRESSED_FILE = "H2191_0009_IR3.JP2"
/* IDENTIFICATION DATA ELEMENTS */
DATA_SET_ID = "MEX-M-HRSC-5-REFDR-MAPPROJECTED-V3.0"
DATA_SET_NAME = "MARS EXPRESS HRSC MAP PROJECTED REFDR V3.0"
DETECTOR_ID = MEX_HRSC_IR
EVENT_TYPE = "MARS-REGIONAL-MAPPING-Im-Mw"
INSTRUMENT_HOST_ID = MEX
INSTRUMENT_HOST_NAME = "MARS EXPRESS"
INSTRUMENT_ID = HRSC
INSTRUMENT_NAME = "HIGH RESOLUTION STEREO CAMERA"
MISSION_NAME = "MARS EXPRESS"
MISSION_PHASE_NAME = MR_Phase_7
PROCESSING_LEVEL_ID = 3
PRODUCT_CREATION_TIME = 2016-03-14T11:38:04.000Z
PRODUCT_ID = "H2191_0009_IR3.JP2"
RELEASE_ID = 0027
REVISION_ID = 0000
/* QUALITY DATA ELEMENTS */
DATA_QUALITY_ID = 1
DATA_QUALITY_DESC = "Data calculated based on original SPICE kernels"
/* TIME DATA ELEMENTS */
SPACECRAFT_CLOCK_START_COUNT = "1/0075965407.56190"
SPACECRAFT_CLOCK_STOP_COUNT = "1/0075965728.54863"
START_TIME = 2005-09-28T05:31:53.570Z
STOP_TIME = 2005-09-28T05:35:28.808Z
/* ORBITAL DATA ELEMENTS */
ASCENDING_NODE_LONGITUDE = 182.28
MAXIMUM_RESOLUTION = 65.6
FOOTPRINT_POINT_LATITUDE = (-64.6003,-64.575,-64.5474,-64.5177, -64.486,-64.4521,-64.0307,-63.7094, -63.2285,-62.913,-62.4421,-62.1332, -61.6703,-61.3659,-61.0616,-60.6112, -60.3185,-60.0118,-59.7293,-59.438, -59.1403,-58.7099,-58.4233,-58.138, -57.858,-57.5816,-57.3024,-57.0236, -56.7523,-56.3456,-56.0676,-55.791, -55.5235,-55.2513,-54.9749,-54.7032, -54.4275,-54.1521,-53.7382,-53.4597, -53.0486,-52.7728,-52.5139,-52.2816, -51.9328,-51.7002,-51.3516,-51.0031, -50.7703,-50.5373,-50.5327,-50.5634, -50.5962,-50.6166,-50.8452,-51.0812, -51.3164,-51.5495,-51.7837,-52.0169, -52.2463,-52.4871,-52.7229,-53.13, -53.4051,-53.6836,-53.9575,-54.2382, -54.6567,-55.0705,-55.3471,-55.6226, -55.898,-56.165,-56.5807,-56.9899, -57.2627,-57.5539,-57.9779,-58.2461, -58.5331,-58.8217,-59.2542,-59.5488, -59.8426,-60.1351,-60.434,-60.7372, -61.0309,-61.3411,-61.6556,-61.9617, -62.4172,-62.8891,-63.2073,-63.5251, -63.8476,-64.1716,-64.6722,-64.6003)
FOOTPRINT_POINT_LONGITUDE = (116.77,116.087,115.412,114.745,114.087 ,113.435,113.234,113.321,113.446, 113.525,113.639,113.711,113.816,113.882 ,113.946,114.038,114.098,114.154,114.21 ,114.263,114.315,114.389,114.437, 114.484,114.528,114.572,114.614,114.655 ,114.695,114.753,114.79,114.826,114.863 ,114.898,114.932,114.966,114.999, 115.031,115.077,115.107,115.152,115.18, 115.207,115.23,115.264,115.285,115.318, 115.349,115.369,115.389,115.913,116.51, 117.186,117.625,117.621,117.627,117.631 ,117.634,117.637,117.64,117.638,117.65, 117.656,117.649,117.649,117.654,117.653 ,117.661,117.67,117.673,117.677,117.68, 117.682,117.675,117.683,117.683,117.684 ,117.699,117.706,117.692,117.694, 117.698,117.703,117.706,117.708,117.709 ,117.71,117.716,117.71,117.717,117.73, 117.73,117.714,117.716,117.717,117.717, 117.715,117.715,117.726,116.77)
ORBIT_NUMBER = 2191
ORBITAL_ECCENTRICITY = 0.573
ORBITAL_INCLINATION = 86.62
ORBITAL_SEMIMAJOR_AXIS = 8609.22
PERIAPSIS_ALTITUDE = 280.31
PERIAPSIS_ARGUMENT_ANGLE = 333.09
PERIAPSIS_TIME = 2005-09-28T05:40:54.000Z
SPACECRAFT_ORIENTATION = (0.0,1.0,0.0)
^MEX_ORIENTATION_DESC = "MEX_ORIENTATION_DESC.TXT"
SPACECRAFT_POINTING_MODE = ACROSSTRACK
^MEX_POINTING_DESC = "MEX_POINTING_DESC.TXT"
RIGHT_ASCENSION = -1e+32
DECLINATION = -1e+32
OFFSET_ANGLE = -1.0
SPACECRAFT_SOLAR_DISTANCE = 2.1201e+08
TARGET_NAME = MARS
/* CAMERA DATA ELEMENTS */
DETECTOR_TEMPERATURE = 20.0017
FOCAL_PLANE_TEMPERATURE = 9.195
INST_CMPRS_NAME = "DISCRETE COSINE TRANSFORMATION (DCT)"
INST_CMPRS_RATIO = 14.7308
INST_CMPRS_QUALITY = 0
INST_CMPRS_QUANTZ_TBL_ID = 0
INSTRUMENT_TEMPERATURE = 14.2925
LENS_TEMPERATURE = 9.6028
MACROPIXEL_SIZE = 4
MISSING_FRAMES = 0
PIXEL_SUBSAMPLING_FLAG = N
SIGNAL_CHAIN_ID = 2
/* RADIOMETRIC DATA ELEMENTS */
BANDWIDTH = 81.0
CENTER_FILTER_WAVELENGTH = 955.5
RADIANCE_OFFSET = 1.29283
RADIANCE_SCALING_FACTOR = 0.00751746
REFLECTANCE_SCALING_FACTOR = 0.000728966
MEX:REFLECTANCE_OFFSET = 0.125365
/* IMAGE OBJECT DEFINITIONS */
OBJECT = IMAGE
  INTERCHANGE_FORMAT = BINARY
  LINES = 16599
  LINE_SAMPLES = 2829
  SAMPLE_TYPE = UNSIGNED_INTEGER
  SAMPLE_BITS = 8
  BANDS = 1
  BAND_STORAGE_TYPE = BAND_SEQUENTIAL
  MAXIMUM = 219
  MEAN = 157.75
  MINIMUM = 83
  STANDARD_DEVIATION = 17.4693
END_OBJECT = IMAGE
/* MAP OBJECT DEFINITIONS */
OBJECT = IMAGE_MAP_PROJECTION
  ^DATA_SET_MAP_PROJECTION_CATALOG= "DSMAP.CAT"
  A_AXIS_RADIUS = 3396.0
  B_AXIS_RADIUS = 3396.0
  C_AXIS_RADIUS = 3396.0
  CENTER_LATITUDE = 0.0
  CENTER_LONGITUDE = 116.0
  COORDINATE_SYSTEM_NAME = PLANETOGRAPHIC
  COORDINATE_SYSTEM_TYPE = "BODY-FIXED ROTATING"
  EASTERNMOST_LONGITUDE = 117.73
  FIRST_STANDARD_PARALLEL = "N/A"
  LINE_FIRST_PIXEL = 1
  LINE_LAST_PIXEL = 16599
  LINE_PROJECTION_OFFSET = -59605.375
  MAP_PROJECTION_ROTATION = 0.0
  MAP_PROJECTION_TYPE = SINUSOIDAL
  MAP_RESOLUTION = 1185.42760773333
  MAP_SCALE = 0.05
  MAXIMUM_LATITUDE = -50.5327
  MINIMUM_LATITUDE = -64.6722
  POSITIVE_LONGITUDE_DIRECTION = EAST
  REFERENCE_LATITUDE = "N/A"
  REFERENCE_LONGITUDE = "N/A"
  SAMPLE_FIRST_PIXEL = 1
  SAMPLE_LAST_PIXEL = 2829
  SAMPLE_PROJECTION_OFFSET = 1575.625
  SECOND_STANDARD_PARALLEL = "N/A"
  WESTERNMOST_LONGITUDE = 113.234
END_OBJECT = IMAGE_MAP_PROJECTION
/* The JPEG2000 image data file associated with this label. */
OBJECT = COMPRESSED_FILE
  FILE_NAME = "H2191_0009_IR3.JP2"
  RECORD_TYPE = UNDEFINED
  FILE_RECORDS = UNK
  ENCODING_TYPE = "JP2"
  INTERCHANGE_FORMAT = BINARY
  UNCOMPRESSED_FILE_NAME = "H2191_0009_IR3.IMG"
  REQUIRED_STORAGE_BYTES = "46981203"
  ^DESCRIPTION = "JP2INFO.TXT"
END_OBJECT = COMPRESSED_FILE
END
