PDS_VERSION_ID = PDS3
/* FILE DATA ELEMENTS */
RECORD_TYPE = STREAM
/* POINTERS TO DATA OBJECTS */
^COMPRESSED_FILE = "H2191_0009_S23.JP2"
/* IDENTIFICATION DATA ELEMENTS */
DATA_SET_ID = "MEX-M-HRSC-5-REFDR-MAPPROJECTED-V3.0"
DATA_SET_NAME = "MARS EXPRESS HRSC MAP PROJECTED REFDR V3.0"
DETECTOR_ID = MEX_HRSC_S2
EVENT_TYPE = "MARS-REGIONAL-MAPPING-Im-Mw"
INSTRUMENT_HOST_ID = MEX
INSTRUMENT_HOST_NAME = "MARS EXPRESS"
INSTRUMENT_ID = HRSC
INSTRUMENT_NAME = "HIGH RESOLUTION STEREO CAMERA"
MISSION_NAME = "MARS EXPRESS"
MISSION_PHASE_NAME = MR_Phase_7
PROCESSING_LEVEL_ID = 3
PRODUCT_CREATION_TIME = 2016-03-14T11:38:04.000Z
PRODUCT_ID = "H2191_0009_S23.JP2"
RELEASE_ID = 0027
REVISION_ID = 0000
/* QUALITY DATA ELEMENTS */
DATA_QUALITY_ID = 1
DATA_QUALITY_DESC = "Data calculated based on original SPICE kernels"
/* TIME DATA ELEMENTS */
SPACECRAFT_CLOCK_START_COUNT = "1/0075965407.56190"
SPACECRAFT_CLOCK_STOP_COUNT = "1/0075965728.54863"
START_TIME = 2005-09-28T05:30:14.943Z
STOP_TIME = 2005-09-28T05:34:27.077Z
/* ORBITAL DATA ELEMENTS */
ASCENDING_NODE_LONGITUDE = 182.28
MAXIMUM_RESOLUTION = 34.8
FOOTPRINT_POINT_LATITUDE = (-64.0071,-64.0119,-64.0105,-64.0044, -63.9936,-63.9783,-63.9586,-63.5691, -63.2554,-62.9427,-62.6339,-62.1706, -61.7125,-61.4096,-61.111,-60.6646, -60.2175,-59.7791,-59.4899,-59.2029, -58.9239,-58.6386,-58.2135,-57.9332, -57.6536,-57.3785,-56.965,-56.6944, -56.2857,-55.8846,-55.6154,-55.3523, -54.9611,-54.6976,-54.3042,-54.0456, -53.7909,-53.5353,-53.2811,-53.0323, -52.7818,-52.5255,-52.2763,-51.7844, -51.5377,-51.2899,-51.0414,-50.7927, -50.4185,-50.1689,-50.1293,-50.1132, -50.103,-50.0908,-50.342,-50.5924, -50.8442,-51.217,-51.4675,-51.8376, -52.0854,-52.4547,-52.7051,-52.9637, -53.2161,-53.4735,-53.7287,-53.9866, -54.2433,-54.5019,-54.7623,-55.0266, -55.2913,-55.5561,-55.8249,-56.099, -56.5044,-56.7796,-57.0536,-57.3326, -57.601,-57.8809,-58.3146,-58.7412, -59.0262,-59.3162,-59.6065,-59.8992, -60.1945,-60.4924,-60.9418,-61.2464, -61.54,-61.8465,-62.1562,-62.4749, -62.7882,-63.2618,-63.5792,-64.0071)
FOOTPRINT_POINT_LONGITUDE = (117.714,116.78,116.002,115.23,114.467, 113.711,112.96,112.874,112.969,113.06, 113.148,113.275,113.395,113.472,113.546 ,113.652,113.755,113.852,113.913, 113.973,114.029,114.085,114.167,114.219 ,114.27,114.318,114.389,114.434,114.501 ,114.563,114.604,114.643,114.699, 114.736,114.791,114.825,114.858,114.891 ,114.922,114.952,114.982,115.013, 115.042,115.096,115.122,115.149,115.174 ,115.199,115.236,115.26,115.894,116.741 ,117.15,117.573,117.577,117.581,117.582 ,117.59,117.591,117.6,117.603,117.614, 117.621,117.615,117.617,117.62,117.627, 117.628,117.637,117.646,117.65,117.654, 117.66,117.664,117.669,117.667,117.676, 117.679,117.683,117.687,117.707,117.713 ,117.704,117.715,117.723,117.729, 117.735,117.743,117.747,117.753,117.761 ,117.764,117.788,117.795,117.8,117.793, 117.801,117.812,117.82,117.714)
ORBIT_NUMBER = 2191
ORBITAL_ECCENTRICITY = 0.573
ORBITAL_INCLINATION = 86.62
ORBITAL_SEMIMAJOR_AXIS = 8609.22
PERIAPSIS_ALTITUDE = 280.31
PERIAPSIS_ARGUMENT_ANGLE = 333.09
PERIAPSIS_TIME = 2005-09-28T05:40:54.000Z
SPACECRAFT_ORIENTATION = (0.0,1.0,0.0)
^MEX_ORIENTATION_DESC = "MEX_ORIENTATION_DESC.TXT"
SPACECRAFT_POINTING_MODE = ACROSSTRACK
^MEX_POINTING_DESC = "MEX_POINTING_DESC.TXT"
RIGHT_ASCENSION = -1e+32
DECLINATION = -1e+32
OFFSET_ANGLE = -1.0
SPACECRAFT_SOLAR_DISTANCE = 2.1201e+08
TARGET_NAME = MARS
/* CAMERA DATA ELEMENTS */
DETECTOR_TEMPERATURE = 21.8368
FOCAL_PLANE_TEMPERATURE = 9.195
INST_CMPRS_NAME = "DISCRETE COSINE TRANSFORMATION (DCT)"
INST_CMPRS_RATIO = 11.8313
INST_CMPRS_QUALITY = 0
INST_CMPRS_QUANTZ_TBL_ID = 0
INSTRUMENT_TEMPERATURE = 14.2925
LENS_TEMPERATURE = 9.6028
MACROPIXEL_SIZE = 2
MISSING_FRAMES = 0
PIXEL_SUBSAMPLING_FLAG = N
SIGNAL_CHAIN_ID = 1
/* RADIOMETRIC DATA ELEMENTS */
BANDWIDTH = 178.0
CENTER_FILTER_WAVELENGTH = 679.0
RADIANCE_OFFSET = 4.92349
RADIANCE_SCALING_FACTOR = 0.0229119
REFLECTANCE_SCALING_FACTOR = 0.000545381
MEX:REFLECTANCE_OFFSET = 0.117196
/* IMAGE OBJECT DEFINITIONS */
OBJECT = IMAGE
  INTERCHANGE_FORMAT = BINARY
  LINES = 33197
  LINE_SAMPLES = 5658
  SAMPLE_TYPE = UNSIGNED_INTEGER
  SAMPLE_BITS = 8
  BANDS = 1
  BAND_STORAGE_TYPE = BAND_SEQUENTIAL
  MAXIMUM = 169
  MEAN = 120.156
  MINIMUM = 71
  STANDARD_DEVIATION = 10.3967
END_OBJECT = IMAGE
/* MAP OBJECT DEFINITIONS */
OBJECT = IMAGE_MAP_PROJECTION
  ^DATA_SET_MAP_PROJECTION_CATALOG= "DSMAP.CAT"
  A_AXIS_RADIUS = 3396.0
  B_AXIS_RADIUS = 3396.0
  C_AXIS_RADIUS = 3396.0
  CENTER_LATITUDE = 0.0
  CENTER_LONGITUDE = 116.0
  COORDINATE_SYSTEM_NAME = PLANETOGRAPHIC
  COORDINATE_SYSTEM_TYPE = "BODY-FIXED ROTATING"
  EASTERNMOST_LONGITUDE = 117.82
  FIRST_STANDARD_PARALLEL = "N/A"
  LINE_FIRST_PIXEL = 1
  LINE_LAST_PIXEL = 33197
  LINE_PROJECTION_OFFSET = -119210.25
  MAP_PROJECTION_ROTATION = 0.0
  MAP_PROJECTION_TYPE = SINUSOIDAL
  MAP_RESOLUTION = 2370.85521546667
  MAP_SCALE = 0.025
  MAXIMUM_LATITUDE = -50.0908
  MINIMUM_LATITUDE = -64.0119
  POSITIVE_LONGITUDE_DIRECTION = EAST
  REFERENCE_LATITUDE = "N/A"
  REFERENCE_LONGITUDE = "N/A"
  SAMPLE_FIRST_PIXEL = 1
  SAMPLE_LAST_PIXEL = 5658
  SAMPLE_PROJECTION_OFFSET = 3151.75
  SECOND_STANDARD_PARALLEL = "N/A"
  WESTERNMOST_LONGITUDE = 112.874
END_OBJECT = IMAGE_MAP_PROJECTION
/* The JPEG2000 image data file associated with this label. */
OBJECT = COMPRESSED_FILE
  FILE_NAME = "H2191_0009_S23.JP2"
  RECORD_TYPE = UNDEFINED
  FILE_RECORDS = UNK
  ENCODING_TYPE = "JP2"
  INTERCHANGE_FORMAT = BINARY
  UNCOMPRESSED_FILE_NAME = "H2191_0009_S23.IMG"
  REQUIRED_STORAGE_BYTES = "187856916"
  ^DESCRIPTION = "JP2INFO.TXT"
END_OBJECT = COMPRESSED_FILE
END
