PDS_VERSION_ID = PDS3
/* FILE DATA ELEMENTS */
RECORD_TYPE = STREAM
/* POINTERS TO DATA OBJECTS */
^COMPRESSED_FILE = "H2192_0009_P13.JP2"
/* IDENTIFICATION DATA ELEMENTS */
DATA_SET_ID = "MEX-M-HRSC-5-REFDR-MAPPROJECTED-V3.0"
DATA_SET_NAME = "MARS EXPRESS HRSC MAP PROJECTED REFDR V3.0"
DETECTOR_ID = MEX_HRSC_P1
EVENT_TYPE = "MARS-REGIONAL-MAPPING-Im-Fl"
INSTRUMENT_HOST_ID = MEX
INSTRUMENT_HOST_NAME = "MARS EXPRESS"
INSTRUMENT_ID = HRSC
INSTRUMENT_NAME = "HIGH RESOLUTION STEREO CAMERA"
MISSION_NAME = "MARS EXPRESS"
MISSION_PHASE_NAME = MR_Phase_7
PROCESSING_LEVEL_ID = 3
PRODUCT_CREATION_TIME = 2016-03-14T11:38:04.000Z
PRODUCT_ID = "H2192_0009_P13.JP2"
RELEASE_ID = 0027
REVISION_ID = 0000
/* QUALITY DATA ELEMENTS */
DATA_QUALITY_ID = 1
DATA_QUALITY_DESC = "Data calculated based on original SPICE kernels"
/* TIME DATA ELEMENTS */
SPACECRAFT_CLOCK_START_COUNT = "1/0075990828.57951"
SPACECRAFT_CLOCK_STOP_COUNT = "1/0075992100.39368"
START_TIME = 2005-09-28T12:36:03.346Z
STOP_TIME = 2005-09-28T12:51:01.388Z
/* ORBITAL DATA ELEMENTS */
ASCENDING_NODE_LONGITUDE = 182.26
MAXIMUM_RESOLUTION = 116.9
FOOTPRINT_POINT_LATITUDE = (14.8557,14.8477,14.8255,15.7008, 16.5664,17.4213,18.2637,19.0998,19.9232 ,20.7364,21.5396,22.3327,23.1175, 23.8902,24.6506,25.4035,26.1458,26.8796 ,27.6033,28.3172,29.0194,29.7172,30.403 ,31.0813,31.7481,32.4082,33.0568, 33.6976,34.3295,34.9513,35.5605,36.1671 ,36.7639,37.3633,37.9448,38.5183, 39.0842,39.6421,40.193,40.7363,41.2725, 41.7974,43.0897,44.091,45.0635,46.011, 46.9351,47.2874,47.306,47.3161,47.3015, 47.2657,47.1842,47.1379,47.06,46.1714, 45.2484,44.0648,43.079,42.0677,41.5511, 41.0267,40.5008,39.6833,39.1375,38.5745 ,38.0072,37.4354,36.8541,36.261,35.6594 ,35.0495,34.4313,33.8042,33.1685,32.523 ,31.8676,31.2037,30.531,29.8496,29.1582 ,28.4577,27.747,27.0263,26.2919,25.5522 ,24.8012,24.0414,23.2707,22.4892, 21.6981,20.8975,20.0879,19.2649,18.4312 ,17.588,16.7335,15.8696,14.9955, 14.8557)
FOOTPRINT_POINT_LONGITUDE = (17.3889,16.6273,15.9241,15.8727, 15.8204,15.7668,15.7112,15.6562,15.599, 15.5407,15.4813,15.4209,15.3601,15.2973 ,15.2322,15.1671,15.1004,15.0332, 14.9646,14.8947,14.8226,14.7517,14.6784 ,14.6046,14.5284,14.4523,14.3735,14.294 ,14.2131,14.1302,14.0438,13.9592, 13.8725,13.7901,13.7012,13.6109,13.5194 ,13.4264,13.3324,13.2368,13.1401, 13.0396,12.7885,12.5802,12.3647,12.1436 ,11.9172,13.277,14.1431,15.4854,17.1132 ,18.4529,20.2697,21.0349,22.1197, 21.8837,21.6599,21.3864,21.1805,20.9805 ,20.8833,20.7882,20.6918,20.5583, 20.4668,20.3821,20.2974,20.2125,20.1302 ,20.0515,19.9747,19.8995,19.8259, 19.7542,19.6841,19.6162,19.5505,19.4861 ,19.4233,19.3617,19.3021,19.2439, 19.1877,19.1332,19.0823,19.0306,18.9812 ,18.9326,18.886,18.8412,18.7975,18.7549 ,18.713,18.6739,18.6364,18.5997,18.5648 ,18.5306,18.4974,17.3889)
ORBIT_NUMBER = 2192
ORBITAL_ECCENTRICITY = 0.573
ORBITAL_INCLINATION = 86.62
ORBITAL_SEMIMAJOR_AXIS = 8607.07
PERIAPSIS_ALTITUDE = 280.75
PERIAPSIS_ARGUMENT_ANGLE = 332.92
PERIAPSIS_TIME = 2005-09-28T12:24:03.000Z
SPACECRAFT_ORIENTATION = (0.0,1.0,0.0)
^MEX_ORIENTATION_DESC = "MEX_ORIENTATION_DESC.TXT"
SPACECRAFT_POINTING_MODE = NADIR
^MEX_POINTING_DESC = "MEX_POINTING_DESC.TXT"
RIGHT_ASCENSION = -1e+32
DECLINATION = -1e+32
OFFSET_ANGLE = -1e+32
SPACECRAFT_SOLAR_DISTANCE = 2.12049e+08
TARGET_NAME = MARS
/* CAMERA DATA ELEMENTS */
DETECTOR_TEMPERATURE = 18.5744
FOCAL_PLANE_TEMPERATURE = 10.6223
INST_CMPRS_NAME = "DISCRETE COSINE TRANSFORMATION (DCT)"
INST_CMPRS_RATIO = 16.1358
INST_CMPRS_QUALITY = 0
INST_CMPRS_QUANTZ_TBL_ID = 0
INSTRUMENT_TEMPERATURE = 12.2535
LENS_TEMPERATURE = 10.8262
MACROPIXEL_SIZE = 4
MISSING_FRAMES = 0
PIXEL_SUBSAMPLING_FLAG = N
SIGNAL_CHAIN_ID = 3
/* RADIOMETRIC DATA ELEMENTS */
BANDWIDTH = 174.0
CENTER_FILTER_WAVELENGTH = 675.0
RADIANCE_OFFSET = 3.33256
RADIANCE_SCALING_FACTOR = 0.0115753
REFLECTANCE_SCALING_FACTOR = 0.000279958
MEX:REFLECTANCE_OFFSET = 0.0806009
/* IMAGE OBJECT DEFINITIONS */
OBJECT = IMAGE
  INTERCHANGE_FORMAT = BINARY
  LINES = 19062
  LINE_SAMPLES = 3326
  SAMPLE_TYPE = UNSIGNED_INTEGER
  SAMPLE_BITS = 8
  BANDS = 1
  BAND_STORAGE_TYPE = BAND_SEQUENTIAL
  MAXIMUM = 265
  MEAN = 107.123
  MINIMUM = 139
  STANDARD_DEVIATION = 112.48
END_OBJECT = IMAGE
/* MAP OBJECT DEFINITIONS */
OBJECT = IMAGE_MAP_PROJECTION
  ^DATA_SET_MAP_PROJECTION_CATALOG= "DSMAP.CAT"
  A_AXIS_RADIUS = 3396.0
  B_AXIS_RADIUS = 3396.0
  C_AXIS_RADIUS = 3396.0
  CENTER_LATITUDE = 0.0
  CENTER_LONGITUDE = 17.0
  COORDINATE_SYSTEM_NAME = PLANETOGRAPHIC
  COORDINATE_SYSTEM_TYPE = "BODY-FIXED ROTATING"
  EASTERNMOST_LONGITUDE = 22.1197
  FIRST_STANDARD_PARALLEL = "N/A"
  LINE_FIRST_PIXEL = 1
  LINE_LAST_PIXEL = 19062
  LINE_PROJECTION_OFFSET = 27610.375
  MAP_PROJECTION_ROTATION = 0.0
  MAP_PROJECTION_TYPE = SINUSOIDAL
  MAP_RESOLUTION = 592.713803866667
  MAP_SCALE = 0.1
  MAXIMUM_LATITUDE = 47.3161
  MINIMUM_LATITUDE = 14.8255
  POSITIVE_LONGITUDE_DIRECTION = EAST
  REFERENCE_LATITUDE = "N/A"
  REFERENCE_LONGITUDE = "N/A"
  SAMPLE_FIRST_PIXEL = 1
  SAMPLE_LAST_PIXEL = 3326
  SAMPLE_PROJECTION_OFFSET = 1645.875
  SECOND_STANDARD_PARALLEL = "N/A"
  WESTERNMOST_LONGITUDE = 11.9172
END_OBJECT = IMAGE_MAP_PROJECTION
/* The JPEG2000 image data file associated with this label. */
OBJECT = COMPRESSED_FILE
  FILE_NAME = "H2192_0009_P13.JP2"
  RECORD_TYPE = UNDEFINED
  FILE_RECORDS = UNK
  ENCODING_TYPE = "JP2"
  INTERCHANGE_FORMAT = BINARY
  UNCOMPRESSED_FILE_NAME = "H2192_0009_P13.IMG"
  REQUIRED_STORAGE_BYTES = "63423494"
  ^DESCRIPTION = "JP2INFO.TXT"
END_OBJECT = COMPRESSED_FILE
END
