PDS_VERSION_ID = PDS3
/* FILE DATA ELEMENTS */
RECORD_TYPE = STREAM
/* POINTERS TO DATA OBJECTS */
^COMPRESSED_FILE = "H2192_0009_RE3.JP2"
/* IDENTIFICATION DATA ELEMENTS */
DATA_SET_ID = "MEX-M-HRSC-5-REFDR-MAPPROJECTED-V3.0"
DATA_SET_NAME = "MARS EXPRESS HRSC MAP PROJECTED REFDR V3.0"
DETECTOR_ID = MEX_HRSC_RED
EVENT_TYPE = "MARS-REGIONAL-MAPPING-Im-Fl"
INSTRUMENT_HOST_ID = MEX
INSTRUMENT_HOST_NAME = "MARS EXPRESS"
INSTRUMENT_ID = HRSC
INSTRUMENT_NAME = "HIGH RESOLUTION STEREO CAMERA"
MISSION_NAME = "MARS EXPRESS"
MISSION_PHASE_NAME = MR_Phase_7
PROCESSING_LEVEL_ID = 3
PRODUCT_CREATION_TIME = 2016-03-14T11:38:04.000Z
PRODUCT_ID = "H2192_0009_RE3.JP2"
RELEASE_ID = 0027
REVISION_ID = 0000
/* QUALITY DATA ELEMENTS */
DATA_QUALITY_ID = 1
DATA_QUALITY_DESC = "Data calculated based on original SPICE kernels"
/* TIME DATA ELEMENTS */
SPACECRAFT_CLOCK_START_COUNT = "1/0075990828.57951"
SPACECRAFT_CLOCK_STOP_COUNT = "1/0075992100.39368"
START_TIME = 2005-09-28T12:34:07.090Z
STOP_TIME = 2005-09-28T12:43:46.358Z
/* ORBITAL DATA ELEMENTS */
ASCENDING_NODE_LONGITUDE = 182.26
MAXIMUM_RESOLUTION = 99
FOOTPRINT_POINT_LATITUDE = (13.9943,13.9896,13.9974,14.6103,15.231 ,16.1863,16.8256,17.8174,18.4836, 19.1654,20.2082,20.9035,21.5947,22.283, 22.9675,23.6483,24.3228,25.0055,25.6738 ,26.3419,27.0055,27.9958,28.6562,29.308 ,29.9587,30.6045,31.2475,32.2124, 32.8408,33.7915,34.7299,35.3541,36.2893 ,37.198,37.8075,38.414,39.0176,39.6179, 40.2144,40.8073,41.7,42.2822,42.8784, 43.4538,44.3201,44.8891,45.742,45.7995, 45.8082,45.8124,45.8033,45.7931,45.2169 ,44.6503,44.0807,43.5075,42.6283, 42.0462,41.4549,40.5679,39.9749,39.0779 ,38.4761,37.8719,37.2731,36.6507, 36.0365,35.4184,34.7985,34.1725,33.5449 ,32.922,32.282,31.6407,31.0014,30.3534, 29.3832,28.7255,27.7457,27.0751,26.4123 ,25.746,25.0757,24.4002,23.7219,23.0404 ,22.3559,21.6678,20.9757,20.2782, 19.5816,18.8943,18.2174,17.5505,16.8934 ,16.2473,15.6112,14.9837,14.3647, 13.9943)
FOOTPRINT_POINT_LONGITUDE = (17.5835,17.0889,16.1479,16.1203,16.092 ,16.0454,16.0165,15.9659,15.9338, 15.8983,15.8423,15.8037,15.7648,15.7251 ,15.685,15.6443,15.6042,15.5586,15.5169 ,15.4732,15.4293,15.3616,15.3136, 15.2672,15.2191,15.1708,15.1216,15.0433 ,14.9949,14.9143,14.834,14.7781,14.6901 ,14.6094,14.5506,14.4908,14.4299,14.368 ,14.3054,14.242,14.1401,14.0754,14.0059 ,13.9393,13.8323,13.7621,13.6516,14.709 ,15.7105,17.2723,18.5851,19.7129,20.28, 20.2011,20.1247,20.0504,19.9414,19.8723 ,19.8023,19.7043,19.6427,19.5532,19.496 ,19.4409,19.3917,19.3345,19.2844, 19.2356,19.189,19.1426,19.0985,19.0592, 19.0153,18.9736,18.9355,18.8963,18.8432 ,18.8064,18.7587,18.7229,18.6927, 18.6633,18.6347,18.6062,18.5789,18.5525 ,18.527,18.5023,18.4781,18.4539,18.432, 18.4111,18.3915,18.3723,18.3542,18.337, 18.3208,18.3052,18.2901,17.5835)
ORBIT_NUMBER = 2192
ORBITAL_ECCENTRICITY = 0.573
ORBITAL_INCLINATION = 86.62
ORBITAL_SEMIMAJOR_AXIS = 8607.07
PERIAPSIS_ALTITUDE = 280.75
PERIAPSIS_ARGUMENT_ANGLE = 332.92
PERIAPSIS_TIME = 2005-09-28T12:24:03.000Z
SPACECRAFT_ORIENTATION = (0.0,1.0,0.0)
^MEX_ORIENTATION_DESC = "MEX_ORIENTATION_DESC.TXT"
SPACECRAFT_POINTING_MODE = NADIR
^MEX_POINTING_DESC = "MEX_POINTING_DESC.TXT"
RIGHT_ASCENSION = -1e+32
DECLINATION = -1e+32
OFFSET_ANGLE = -1e+32
SPACECRAFT_SOLAR_DISTANCE = 2.12049e+08
TARGET_NAME = MARS
/* CAMERA DATA ELEMENTS */
DETECTOR_TEMPERATURE = 19.39
FOCAL_PLANE_TEMPERATURE = 10.6223
INST_CMPRS_NAME = "DISCRETE COSINE TRANSFORMATION (DCT)"
INST_CMPRS_RATIO = 12.2492
INST_CMPRS_QUALITY = 0
INST_CMPRS_QUANTZ_TBL_ID = 0
INSTRUMENT_TEMPERATURE = 12.2535
LENS_TEMPERATURE = 10.8262
MACROPIXEL_SIZE = 4
MISSING_FRAMES = 1
PIXEL_SUBSAMPLING_FLAG = N
SIGNAL_CHAIN_ID = 2
/* RADIOMETRIC DATA ELEMENTS */
BANDWIDTH = 48.0
CENTER_FILTER_WAVELENGTH = 748.0
RADIANCE_OFFSET = 0.96523
RADIANCE_SCALING_FACTOR = 0.00981515
REFLECTANCE_SCALING_FACTOR = 0.00100716
MEX:REFLECTANCE_OFFSET = 0.0990453
/* IMAGE OBJECT DEFINITIONS */
OBJECT = IMAGE
  INTERCHANGE_FORMAT = BINARY
  LINES = 19062
  LINE_SAMPLES = 3326
  SAMPLE_TYPE = UNSIGNED_INTEGER
  SAMPLE_BITS = 8
  BANDS = 1
  BAND_STORAGE_TYPE = BAND_SEQUENTIAL
  MAXIMUM = 315
  MEAN = 181.453
  MINIMUM = 84
  STANDARD_DEVIATION = 63.8017
END_OBJECT = IMAGE
/* MAP OBJECT DEFINITIONS */
OBJECT = IMAGE_MAP_PROJECTION
  ^DATA_SET_MAP_PROJECTION_CATALOG= "DSMAP.CAT"
  A_AXIS_RADIUS = 3396.0
  B_AXIS_RADIUS = 3396.0
  C_AXIS_RADIUS = 3396.0
  CENTER_LATITUDE = 0.0
  CENTER_LONGITUDE = 17.0
  COORDINATE_SYSTEM_NAME = PLANETOGRAPHIC
  COORDINATE_SYSTEM_TYPE = "BODY-FIXED ROTATING"
  EASTERNMOST_LONGITUDE = 20.28
  FIRST_STANDARD_PARALLEL = "N/A"
  LINE_FIRST_PIXEL = 1
  LINE_LAST_PIXEL = 19062
  LINE_PROJECTION_OFFSET = 27610.375
  MAP_PROJECTION_ROTATION = 0.0
  MAP_PROJECTION_TYPE = SINUSOIDAL
  MAP_RESOLUTION = 592.713803866667
  MAP_SCALE = 0.1
  MAXIMUM_LATITUDE = 45.8124
  MINIMUM_LATITUDE = 13.9896
  POSITIVE_LONGITUDE_DIRECTION = EAST
  REFERENCE_LATITUDE = "N/A"
  REFERENCE_LONGITUDE = "N/A"
  SAMPLE_FIRST_PIXEL = 1
  SAMPLE_LAST_PIXEL = 3326
  SAMPLE_PROJECTION_OFFSET = 1645.875
  SECOND_STANDARD_PARALLEL = "N/A"
  WESTERNMOST_LONGITUDE = 13.6516
END_OBJECT = IMAGE_MAP_PROJECTION
/* The JPEG2000 image data file associated with this label. */
OBJECT = COMPRESSED_FILE
  FILE_NAME = "H2192_0009_RE3.JP2"
  RECORD_TYPE = UNDEFINED
  FILE_RECORDS = UNK
  ENCODING_TYPE = "JP2"
  INTERCHANGE_FORMAT = BINARY
  UNCOMPRESSED_FILE_NAME = "H2192_0009_RE3.IMG"
  REQUIRED_STORAGE_BYTES = "63423494"
  ^DESCRIPTION = "JP2INFO.TXT"
END_OBJECT = COMPRESSED_FILE
END
