PDS_VERSION_ID = PDS3
/* FILE DATA ELEMENTS */
RECORD_TYPE = STREAM
/* POINTERS TO DATA OBJECTS */
^COMPRESSED_FILE = "H2195_0001_IR3.JP2"
/* IDENTIFICATION DATA ELEMENTS */
DATA_SET_ID = "MEX-M-HRSC-5-REFDR-MAPPROJECTED-V3.0"
DATA_SET_NAME = "MARS EXPRESS HRSC MAP PROJECTED REFDR V3.0"
DETECTOR_ID = MEX_HRSC_IR
EVENT_TYPE = "MARS-REGIONAL-MAPPING-Vo-Fl-Eo"
INSTRUMENT_HOST_ID = MEX
INSTRUMENT_HOST_NAME = "MARS EXPRESS"
INSTRUMENT_ID = HRSC
INSTRUMENT_NAME = "HIGH RESOLUTION STEREO CAMERA"
MISSION_NAME = "MARS EXPRESS"
MISSION_PHASE_NAME = MR_Phase_7
PROCESSING_LEVEL_ID = 3
PRODUCT_CREATION_TIME = 2016-03-14T11:38:04.000Z
PRODUCT_ID = "H2195_0001_IR3.JP2"
RELEASE_ID = 0027
REVISION_ID = 0000
/* QUALITY DATA ELEMENTS */
DATA_QUALITY_ID = 1
DATA_QUALITY_DESC = "Data calculated based on original SPICE kernels"
/* TIME DATA ELEMENTS */
SPACECRAFT_CLOCK_START_COUNT = "1/0076063032.57975"
SPACECRAFT_CLOCK_STOP_COUNT = "1/0076063297.41324"
START_TIME = 2005-09-29T08:38:23.247Z
STOP_TIME = 2005-09-29T08:41:32.395Z
/* ORBITAL DATA ELEMENTS */
ASCENDING_NODE_LONGITUDE = 182.19
MAXIMUM_RESOLUTION = 60
FOOTPRINT_POINT_LATITUDE = (-8.89906,-8.889,-8.87942,-8.86219, -8.6626,-8.4622,-8.26405,-8.06634, -7.77012,-7.56874,-7.3675,-7.06428, -6.86238,-6.65738,-6.45086,-6.14114, -5.93298,-5.72316,-5.51342,-5.19953, -4.98621,-4.77185,-4.55425,-4.34019, -4.12165,-3.7969,-3.58061,-3.35945, -3.02928,-2.80389,-2.57601,-2.35162, -2.13094,-1.90312,-1.56159,-1.33341, -1.10174,-0.870284,-0.63533,-0.398896, -0.156705,0.0811523,0.313492,0.552918, 0.801628,1.03688,1.28221,1.64948, 1.89814,2.18756,2.18676,2.18068,2.17545 ,2.17031,2.16826,2.03776,1.785,1.53748, 1.29209,1.0469,0.684204,0.44286, 0.209446,-0.0281432,-0.384946,-0.6195, -0.856246,-1.08794,-1.32121,-1.55284, -1.89396,-2.12383,-2.35084,-2.5759, -2.9115,-3.13114,-3.35383,-3.57475, -3.7904,-4.11889,-4.3364,-4.55164, -4.76423,-4.97914,-5.19357,-5.40307, -5.61301,-5.82447,-6.03479,-6.23973, -6.44486,-6.65156,-6.85867,-7.06055, -7.26326,-7.56642,-7.76886,-8.16363, -8.55787,-8.89906)
FOOTPRINT_POINT_LONGITUDE = (83.7292,83.3408,82.9578,82.5887,82.585 ,82.5813,82.5776,82.5737,82.5679, 82.5639,82.5597,82.5535,82.5492,82.5448 ,82.5404,82.5337,82.5291,82.5244, 82.5195,82.5122,82.5072,82.5021,82.4972 ,82.492,82.4866,82.4783,82.4727,82.4669 ,82.4581,82.4524,82.4465,82.4403, 82.4338,82.4273,82.4174,82.4105,82.4037 ,82.3968,82.3897,82.3826,82.3761, 82.3685,82.3604,82.3526,82.3454,82.3368 ,82.3287,82.3162,82.3077,82.3599, 82.7108,82.9674,83.2257,83.534,83.7613, 84.0262,84.0233,84.0182,84.0131,84.0077 ,84.0005,83.9949,83.9871,83.9818, 83.9765,83.9718,83.9686,83.9647,83.9616 ,83.958,83.9518,83.9489,83.9463,83.9432 ,83.937,83.9331,83.931,83.9274,83.9228, 83.92,83.9168,83.9147,83.9113,83.9093, 83.9072,83.9047,83.9023,83.9007,83.8984 ,83.8956,83.8928,83.8908,83.8889, 83.8868,83.8852,83.8818,83.8797,83.8751 ,83.8694,83.7292)
ORBIT_NUMBER = 2195
ORBITAL_ECCENTRICITY = 0.574
ORBITAL_INCLINATION = 86.63
ORBITAL_SEMIMAJOR_AXIS = 8606.39
PERIAPSIS_ALTITUDE = 278.35
PERIAPSIS_ARGUMENT_ANGLE = 332.36
PERIAPSIS_TIME = 2005-09-29T08:33:13.000Z
SPACECRAFT_ORIENTATION = (0.0,1.0,0.0)
^MEX_ORIENTATION_DESC = "MEX_ORIENTATION_DESC.TXT"
SPACECRAFT_POINTING_MODE = ACROSSTRACK
^MEX_POINTING_DESC = "MEX_POINTING_DESC.TXT"
RIGHT_ASCENSION = -1e+32
DECLINATION = -1e+32
OFFSET_ANGLE = -0.57
SPACECRAFT_SOLAR_DISTANCE = 2.12167e+08
TARGET_NAME = MARS
/* CAMERA DATA ELEMENTS */
DETECTOR_TEMPERATURE = 19.1861
FOCAL_PLANE_TEMPERATURE = 9.195
INST_CMPRS_NAME = "DISCRETE COSINE TRANSFORMATION (DCT)"
INST_CMPRS_RATIO = 10.9085
INST_CMPRS_QUALITY = 0
INST_CMPRS_QUANTZ_TBL_ID = 0
INSTRUMENT_TEMPERATURE = 13.4769
LENS_TEMPERATURE = 9.3989
MACROPIXEL_SIZE = 4
MISSING_FRAMES = 0
PIXEL_SUBSAMPLING_FLAG = N
SIGNAL_CHAIN_ID = 2
/* RADIOMETRIC DATA ELEMENTS */
BANDWIDTH = 81.0
CENTER_FILTER_WAVELENGTH = 955.5
RADIANCE_OFFSET = 1.03667
RADIANCE_SCALING_FACTOR = 0.00705217
REFLECTANCE_SCALING_FACTOR = 0.000684867
MEX:REFLECTANCE_OFFSET = 0.100675
/* IMAGE OBJECT DEFINITIONS */
OBJECT = IMAGE
  INTERCHANGE_FORMAT = BINARY
  LINES = 13008
  LINE_SAMPLES = 1979
  SAMPLE_TYPE = UNSIGNED_INTEGER
  SAMPLE_BITS = 8
  BANDS = 1
  BAND_STORAGE_TYPE = BAND_SEQUENTIAL
  MAXIMUM = 140
  MEAN = 85.0082
  MINIMUM = 48
  STANDARD_DEVIATION = 17.1171
END_OBJECT = IMAGE
/* MAP OBJECT DEFINITIONS */
OBJECT = IMAGE_MAP_PROJECTION
  ^DATA_SET_MAP_PROJECTION_CATALOG= "DSMAP.CAT"
  A_AXIS_RADIUS = 3396.0
  B_AXIS_RADIUS = 3396.0
  C_AXIS_RADIUS = 3396.0
  CENTER_LATITUDE = 0.0
  CENTER_LONGITUDE = 83.0
  COORDINATE_SYSTEM_NAME = PLANETOGRAPHIC
  COORDINATE_SYSTEM_TYPE = "BODY-FIXED ROTATING"
  EASTERNMOST_LONGITUDE = 84.0262
  FIRST_STANDARD_PARALLEL = "N/A"
  LINE_FIRST_PIXEL = 1
  LINE_LAST_PIXEL = 13008
  LINE_PROJECTION_OFFSET = 2231.625
  MAP_PROJECTION_ROTATION = 0.0
  MAP_PROJECTION_TYPE = SINUSOIDAL
  MAP_RESOLUTION = 1185.42760773333
  MAP_SCALE = 0.05
  MAXIMUM_LATITUDE = 2.18756
  MINIMUM_LATITUDE = -8.89906
  POSITIVE_LONGITUDE_DIRECTION = EAST
  REFERENCE_LATITUDE = "N/A"
  REFERENCE_LONGITUDE = "N/A"
  SAMPLE_FIRST_PIXEL = 1
  SAMPLE_LAST_PIXEL = 1979
  SAMPLE_PROJECTION_OFFSET = 761.375
  SECOND_STANDARD_PARALLEL = "N/A"
  WESTERNMOST_LONGITUDE = 82.3077
END_OBJECT = IMAGE_MAP_PROJECTION
/* The JPEG2000 image data file associated with this label. */
OBJECT = COMPRESSED_FILE
  FILE_NAME = "H2195_0001_IR3.JP2"
  RECORD_TYPE = UNDEFINED
  FILE_RECORDS = UNK
  ENCODING_TYPE = "JP2"
  INTERCHANGE_FORMAT = BINARY
  UNCOMPRESSED_FILE_NAME = "H2195_0001_IR3.IMG"
  REQUIRED_STORAGE_BYTES = "25762622"
  ^DESCRIPTION = "JP2INFO.TXT"
END_OBJECT = COMPRESSED_FILE
END
