PDS_VERSION_ID = PDS3
/* FILE DATA ELEMENTS */
RECORD_TYPE = STREAM
/* POINTERS TO DATA OBJECTS */
^COMPRESSED_FILE = "H2196_0000_P23.JP2"
/* IDENTIFICATION DATA ELEMENTS */
DATA_SET_ID = "MEX-M-HRSC-5-REFDR-MAPPROJECTED-V3.0"
DATA_SET_NAME = "MARS EXPRESS HRSC MAP PROJECTED REFDR V3.0"
DETECTOR_ID = MEX_HRSC_P2
EVENT_TYPE = "MARS-REGIONAL-MAPPING-Fl-Lc-Pf"
INSTRUMENT_HOST_ID = MEX
INSTRUMENT_HOST_NAME = "MARS EXPRESS"
INSTRUMENT_ID = HRSC
INSTRUMENT_NAME = "HIGH RESOLUTION STEREO CAMERA"
MISSION_NAME = "MARS EXPRESS"
MISSION_PHASE_NAME = MR_Phase_7
PROCESSING_LEVEL_ID = 3
PRODUCT_CREATION_TIME = 2016-03-14T11:38:04.000Z
PRODUCT_ID = "H2196_0000_P23.JP2"
RELEASE_ID = 0027
REVISION_ID = 0000
/* QUALITY DATA ELEMENTS */
DATA_QUALITY_ID = 1
DATA_QUALITY_DESC = "Data calculated based on original SPICE kernels"
/* TIME DATA ELEMENTS */
SPACECRAFT_CLOCK_START_COUNT = "1/0076086294.57153"
SPACECRAFT_CLOCK_STOP_COUNT = "1/0076086590.29629"
START_TIME = 2005-09-29T15:05:25.833Z
STOP_TIME = 2005-09-29T15:08:54.021Z
/* ORBITAL DATA ELEMENTS */
ASCENDING_NODE_LONGITUDE = 182.18
MAXIMUM_RESOLUTION = 75.3
FOOTPRINT_POINT_LATITUDE = (-65.8468,-65.8214,-65.7767,-65.7399, -65.6985,-65.6524,-65.6149,-65.3298, -65.1137,-64.8974,-64.6794,-64.4625, -64.2425,-64.0219,-63.8037,-63.4753, -63.2529,-62.9203,-62.6986,-62.4764, -62.2529,-62.0289,-61.8039,-61.5784, -61.3519,-61.1252,-60.8978,-60.6695, -60.4408,-60.2118,-59.9818,-59.7508, -59.5189,-59.2853,-59.0515,-58.8181, -58.5789,-58.2299,-57.997,-57.7665, -57.54,-57.3132,-57.0858,-56.7517, -56.5289,-56.1937,-55.8713,-55.5484, -55.3323,-55.1151,-54.7897,-54.3652, -54.3334,-54.3519,-54.3731,-54.3905, -54.7209,-55.0438,-55.2624,-55.4804, -55.6979,-55.9199,-56.1418,-56.4735, -56.6989,-56.9247,-57.2631,-57.4925, -57.7216,-57.952,-58.185,-58.534, -58.887,-59.1235,-59.3605,-59.5976, -59.8328,-60.0664,-60.2982,-60.5317, -60.7637,-60.9956,-61.2262,-61.5718, -61.9162,-62.2572,-62.4861,-62.7137, -63.0552,-63.283,-63.5096,-63.7354, -63.9594,-64.1828,-64.4047,-64.738, -65.0687,-65.29,-65.5095,-65.8468)
FOOTPRINT_POINT_LONGITUDE = (343.7,342.897,341.749,340.953,340.162, 339.372,338.782,338.735,338.83,338.923, 339.015,339.105,339.193,339.28,339.366, 339.494,339.575,339.696,339.775,339.854 ,339.93,340.005,340.079,340.152,340.223 ,340.293,340.362,340.43,340.497,340.563 ,340.627,340.691,340.753,340.813, 340.873,340.932,340.988,341.071,341.124 ,341.178,341.23,341.281,341.331,341.403 ,341.45,341.517,341.587,341.654,341.695 ,341.735,341.794,341.869,342.566, 342.999,343.611,344.251,344.61,344.599, 344.592,344.585,344.578,344.571,344.563 ,344.552,344.545,344.536,344.524, 344.516,344.508,344.498,344.489,344.476 ,344.463,344.453,344.442,344.43,344.419 ,344.41,344.401,344.39,344.38,344.369, 344.358,344.342,344.324,344.309,344.296 ,344.283,344.263,344.248,344.233, 344.219,344.205,344.192,344.18,344.159, 344.139,344.123,344.109,343.7)
ORBIT_NUMBER = 2196
ORBITAL_ECCENTRICITY = 0.573
ORBITAL_INCLINATION = 86.63
ORBITAL_SEMIMAJOR_AXIS = 8600.15
PERIAPSIS_ALTITUDE = 279.22
PERIAPSIS_ARGUMENT_ANGLE = 332.18
PERIAPSIS_TIME = 2005-09-29T15:16:13.000Z
SPACECRAFT_ORIENTATION = (0.0,1.0,0.0)
^MEX_ORIENTATION_DESC = "MEX_ORIENTATION_DESC.TXT"
SPACECRAFT_POINTING_MODE = ACROSSTRACK
^MEX_POINTING_DESC = "MEX_POINTING_DESC.TXT"
RIGHT_ASCENSION = -1e+32
DECLINATION = -1e+32
OFFSET_ANGLE = -0.1
SPACECRAFT_SOLAR_DISTANCE = 2.12206e+08
TARGET_NAME = MARS
/* CAMERA DATA ELEMENTS */
DETECTOR_TEMPERATURE = 19.5939
FOCAL_PLANE_TEMPERATURE = 9.3989
INST_CMPRS_NAME = "DISCRETE COSINE TRANSFORMATION (DCT)"
INST_CMPRS_RATIO = 8.83541
INST_CMPRS_QUALITY = 0
INST_CMPRS_QUANTZ_TBL_ID = 0
INSTRUMENT_TEMPERATURE = 11.4379
LENS_TEMPERATURE = 9.6028
MACROPIXEL_SIZE = 4
MISSING_FRAMES = 0
PIXEL_SUBSAMPLING_FLAG = N
SIGNAL_CHAIN_ID = 3
/* RADIOMETRIC DATA ELEMENTS */
BANDWIDTH = 177.0
CENTER_FILTER_WAVELENGTH = 676.5
RADIANCE_OFFSET = 3.43122
RADIANCE_SCALING_FACTOR = 0.0219623
REFLECTANCE_SCALING_FACTOR = 0.00052438
MEX:REFLECTANCE_OFFSET = 0.0819251
/* IMAGE OBJECT DEFINITIONS */
OBJECT = IMAGE
  INTERCHANGE_FORMAT = BINARY
  LINES = 13695
  LINE_SAMPLES = 3320
  SAMPLE_TYPE = UNSIGNED_INTEGER
  SAMPLE_BITS = 8
  BANDS = 1
  BAND_STORAGE_TYPE = BAND_SEQUENTIAL
  MAXIMUM = 233
  MEAN = 169.52
  MINIMUM = 86
  STANDARD_DEVIATION = 15.0701
END_OBJECT = IMAGE
/* MAP OBJECT DEFINITIONS */
OBJECT = IMAGE_MAP_PROJECTION
  ^DATA_SET_MAP_PROJECTION_CATALOG= "DSMAP.CAT"
  A_AXIS_RADIUS = 3396.0
  B_AXIS_RADIUS = 3396.0
  C_AXIS_RADIUS = 3396.0
  CENTER_LATITUDE = 0.0
  CENTER_LONGITUDE = 342.0
  COORDINATE_SYSTEM_NAME = PLANETOGRAPHIC
  COORDINATE_SYSTEM_TYPE = "BODY-FIXED ROTATING"
  EASTERNMOST_LONGITUDE = 344.61
  FIRST_STANDARD_PARALLEL = "N/A"
  LINE_FIRST_PIXEL = 1
  LINE_LAST_PIXEL = 13695
  LINE_PROJECTION_OFFSET = -64574.875
  MAP_PROJECTION_ROTATION = 0.0
  MAP_PROJECTION_TYPE = SINUSOIDAL
  MAP_RESOLUTION = 1185.42760773333
  MAP_SCALE = 0.05
  MAXIMUM_LATITUDE = -54.3334
  MINIMUM_LATITUDE = -65.8468
  POSITIVE_LONGITUDE_DIRECTION = EAST
  REFERENCE_LATITUDE = "N/A"
  REFERENCE_LONGITUDE = "N/A"
  SAMPLE_FIRST_PIXEL = 1
  SAMPLE_LAST_PIXEL = 3320
  SAMPLE_PROJECTION_OFFSET = 1577.875
  SECOND_STANDARD_PARALLEL = "N/A"
  WESTERNMOST_LONGITUDE = 338.735
END_OBJECT = IMAGE_MAP_PROJECTION
/* The JPEG2000 image data file associated with this label. */
OBJECT = COMPRESSED_FILE
  FILE_NAME = "H2196_0000_P23.JP2"
  RECORD_TYPE = UNDEFINED
  FILE_RECORDS = UNK
  ENCODING_TYPE = "JP2"
  INTERCHANGE_FORMAT = BINARY
  UNCOMPRESSED_FILE_NAME = "H2196_0000_P23.IMG"
  REQUIRED_STORAGE_BYTES = "45490640"
  ^DESCRIPTION = "JP2INFO.TXT"
END_OBJECT = COMPRESSED_FILE
END
