PDS_VERSION_ID = PDS3
/* FILE DATA ELEMENTS */
RECORD_TYPE = STREAM
/* POINTERS TO DATA OBJECTS */
^COMPRESSED_FILE = "H2196_0001_RE3.JP2"
/* IDENTIFICATION DATA ELEMENTS */
DATA_SET_ID = "MEX-M-HRSC-5-REFDR-MAPPROJECTED-V3.0"
DATA_SET_NAME = "MARS EXPRESS HRSC MAP PROJECTED REFDR V3.0"
DETECTOR_ID = MEX_HRSC_RED
EVENT_TYPE = "MARS-REGIONAL-MAPPING-Im-Fl-La"
INSTRUMENT_HOST_ID = MEX
INSTRUMENT_HOST_NAME = "MARS EXPRESS"
INSTRUMENT_ID = HRSC
INSTRUMENT_NAME = "HIGH RESOLUTION STEREO CAMERA"
MISSION_NAME = "MARS EXPRESS"
MISSION_PHASE_NAME = MR_Phase_7
PROCESSING_LEVEL_ID = 3
PRODUCT_CREATION_TIME = 2016-03-14T11:38:04.000Z
PRODUCT_ID = "H2196_0001_RE3.JP2"
RELEASE_ID = 0027
REVISION_ID = 0000
/* QUALITY DATA ELEMENTS */
DATA_QUALITY_ID = 1
DATA_QUALITY_DESC = "Data calculated based on original SPICE kernels"
/* TIME DATA ELEMENTS */
SPACECRAFT_CLOCK_START_COUNT = "1/0076087481.57269"
SPACECRAFT_CLOCK_STOP_COUNT = "1/0076087967.49842"
START_TIME = 2005-09-29T15:24:57.994Z
STOP_TIME = 2005-09-29T15:29:07.535Z
/* ORBITAL DATA ELEMENTS */
ASCENDING_NODE_LONGITUDE = 182.18
MAXIMUM_RESOLUTION = 86.8
FOOTPRINT_POINT_LATITUDE = (8.35475,8.34995,8.34475,8.3383,8.35021 ,8.76454,9.32114,9.60109,9.88767, 10.3171,10.602,10.8922,11.1901,11.6286, 12.0784,12.3767,12.6809,12.9857,13.2948 ,13.7621,14.0762,14.389,14.701,15.0127, 15.3241,15.633,15.9437,16.2547,16.5599, 16.8676,17.3302,17.6458,17.9519,18.258, 18.5559,18.8626,19.3162,19.6189,19.9208 ,20.2202,20.5208,20.8317,21.1308, 21.4218,21.7225,22.1723,22.6162,22.9107 ,23.4648,23.4683,23.4687,23.4747, 23.4806,23.4844,23.5,23.1998,22.754, 22.4529,22.1554,21.8582,21.5604,20.9616 ,20.5112,20.2109,19.7593,19.4539, 19.1486,18.8516,18.547,18.0813,17.7713, 17.4657,17.1571,16.8528,16.5465,16.2374 ,15.9251,15.6164,15.2975,14.9872, 14.6758,14.2081,13.8952,13.5823,13.273, 12.9652,12.6606,12.2062,11.9052,11.6063 ,11.3085,11.0203,10.7289,10.4359, 10.1475,9.86403,9.57956,9.29876,8.74249 ,8.35475)
FOOTPRINT_POINT_LONGITUDE = (345.306,344.982,344.609,344.083, 343.481,343.465,343.444,343.434,343.422 ,343.405,343.395,343.383,343.37,343.353 ,343.334,343.322,343.309,343.296, 343.282,343.262,343.247,343.233,343.219 ,343.204,343.19,343.176,343.161,343.145 ,343.132,343.117,343.093,343.074, 343.059,343.043,343.03,343.013,342.989, 342.973,342.957,342.941,342.925,342.904 ,342.887,342.873,342.856,342.828, 342.803,342.786,342.887,343.358,343.745 ,344.214,344.767,345.099,345.63,345.709 ,345.691,345.678,345.667,345.657, 345.646,345.625,345.61,345.601,345.586, 345.576,345.565,345.559,345.55,345.533, 345.523,345.514,345.505,345.498,345.491 ,345.482,345.473,345.466,345.455, 345.447,345.44,345.429,345.422,345.415, 345.408,345.402,345.396,345.386,345.379 ,345.373,345.366,345.362,345.357, 345.349,345.344,345.339,345.333,345.328 ,345.318,345.306)
ORBIT_NUMBER = 2196
ORBITAL_ECCENTRICITY = 0.573
ORBITAL_INCLINATION = 86.63
ORBITAL_SEMIMAJOR_AXIS = 8600.15
PERIAPSIS_ALTITUDE = 279.22
PERIAPSIS_ARGUMENT_ANGLE = 332.18
PERIAPSIS_TIME = 2005-09-29T15:16:13.000Z
SPACECRAFT_ORIENTATION = (0.0,1.0,0.0)
^MEX_ORIENTATION_DESC = "MEX_ORIENTATION_DESC.TXT"
SPACECRAFT_POINTING_MODE = ACROSSTRACK
^MEX_POINTING_DESC = "MEX_POINTING_DESC.TXT"
RIGHT_ASCENSION = -1e+32
DECLINATION = -1e+32
OFFSET_ANGLE = -0.1
SPACECRAFT_SOLAR_DISTANCE = 2.12206e+08
TARGET_NAME = MARS
/* CAMERA DATA ELEMENTS */
DETECTOR_TEMPERATURE = 22.2446
FOCAL_PLANE_TEMPERATURE = 10.0106
INST_CMPRS_NAME = "DISCRETE COSINE TRANSFORMATION (DCT)"
INST_CMPRS_RATIO = 11.5134
INST_CMPRS_QUALITY = 0
INST_CMPRS_QUANTZ_TBL_ID = 0
INSTRUMENT_TEMPERATURE = 14.0886
LENS_TEMPERATURE = 10.6223
MACROPIXEL_SIZE = 4
MISSING_FRAMES = 0
PIXEL_SUBSAMPLING_FLAG = N
SIGNAL_CHAIN_ID = 2
/* RADIOMETRIC DATA ELEMENTS */
BANDWIDTH = 48.0
CENTER_FILTER_WAVELENGTH = 748.0
RADIANCE_OFFSET = 1.26269
RADIANCE_SCALING_FACTOR = 0.008553
REFLECTANCE_SCALING_FACTOR = 0.000878949
MEX:REFLECTANCE_OFFSET = 0.129761
/* IMAGE OBJECT DEFINITIONS */
OBJECT = IMAGE
  INTERCHANGE_FORMAT = BINARY
  LINES = 9052
  LINE_SAMPLES = 1826
  SAMPLE_TYPE = UNSIGNED_INTEGER
  SAMPLE_BITS = 8
  BANDS = 1
  BAND_STORAGE_TYPE = BAND_SEQUENTIAL
  MAXIMUM = 186
  MEAN = 132.866
  MINIMUM = 65
  STANDARD_DEVIATION = 19.1158
END_OBJECT = IMAGE
/* MAP OBJECT DEFINITIONS */
OBJECT = IMAGE_MAP_PROJECTION
  ^DATA_SET_MAP_PROJECTION_CATALOG= "DSMAP.CAT"
  A_AXIS_RADIUS = 3396.0
  B_AXIS_RADIUS = 3396.0
  C_AXIS_RADIUS = 3396.0
  CENTER_LATITUDE = 0.0
  CENTER_LONGITUDE = 344.0
  COORDINATE_SYSTEM_NAME = PLANETOGRAPHIC
  COORDINATE_SYSTEM_TYPE = "BODY-FIXED ROTATING"
  EASTERNMOST_LONGITUDE = 345.709
  FIRST_STANDARD_PARALLEL = "N/A"
  LINE_FIRST_PIXEL = 1
  LINE_LAST_PIXEL = 9052
  LINE_PROJECTION_OFFSET = 14166.875
  MAP_PROJECTION_ROTATION = 0.0
  MAP_PROJECTION_TYPE = SINUSOIDAL
  MAP_RESOLUTION = 592.713803866667
  MAP_SCALE = 0.1
  MAXIMUM_LATITUDE = 23.5
  MINIMUM_LATITUDE = 8.3383
  POSITIVE_LONGITUDE_DIRECTION = EAST
  REFERENCE_LATITUDE = "N/A"
  REFERENCE_LONGITUDE = "N/A"
  SAMPLE_FIRST_PIXEL = 1
  SAMPLE_LAST_PIXEL = 1826
  SAMPLE_PROJECTION_OFFSET = 783.625
  SECOND_STANDARD_PARALLEL = "N/A"
  WESTERNMOST_LONGITUDE = 342.786
END_OBJECT = IMAGE_MAP_PROJECTION
/* The JPEG2000 image data file associated with this label. */
OBJECT = COMPRESSED_FILE
  FILE_NAME = "H2196_0001_RE3.JP2"
  RECORD_TYPE = UNDEFINED
  FILE_RECORDS = UNK
  ENCODING_TYPE = "JP2"
  INTERCHANGE_FORMAT = BINARY
  UNCOMPRESSED_FILE_NAME = "H2196_0001_RE3.IMG"
  REQUIRED_STORAGE_BYTES = "16549038"
  ^DESCRIPTION = "JP2INFO.TXT"
END_OBJECT = COMPRESSED_FILE
END
