PDS_VERSION_ID = PDS3
/* FILE DATA ELEMENTS */
RECORD_TYPE = STREAM
/* POINTERS TO DATA OBJECTS */
^COMPRESSED_FILE = "H2198_0000_GR3.JP2"
/* IDENTIFICATION DATA ELEMENTS */
DATA_SET_ID = "MEX-M-HRSC-5-REFDR-MAPPROJECTED-V3.0"
DATA_SET_NAME = "MARS EXPRESS HRSC MAP PROJECTED REFDR V3.0"
DETECTOR_ID = MEX_HRSC_GREEN
EVENT_TYPE = "MARS-REGIONAL-MAPPING-Vo-Te-Im"
INSTRUMENT_HOST_ID = MEX
INSTRUMENT_HOST_NAME = "MARS EXPRESS"
INSTRUMENT_ID = HRSC
INSTRUMENT_NAME = "HIGH RESOLUTION STEREO CAMERA"
MISSION_NAME = "MARS EXPRESS"
MISSION_PHASE_NAME = MR_Phase_7
PROCESSING_LEVEL_ID = 3
PRODUCT_CREATION_TIME = 2016-03-14T11:38:04.000Z
PRODUCT_ID = "H2198_0000_GR3.JP2"
RELEASE_ID = 0027
REVISION_ID = 0000
/* QUALITY DATA ELEMENTS */
DATA_QUALITY_ID = 1
DATA_QUALITY_DESC = "Data calculated based on original SPICE kernels"
/* TIME DATA ELEMENTS */
SPACECRAFT_CLOCK_START_COUNT = "1/0076134441.57283"
SPACECRAFT_CLOCK_STOP_COUNT = "1/0076134842.64421"
START_TIME = 2005-09-30T04:29:24.342Z
STOP_TIME = 2005-09-30T04:33:30.583Z
/* ORBITAL DATA ELEMENTS */
ASCENDING_NODE_LONGITUDE = 182.13
MAXIMUM_RESOLUTION = 85.2
FOOTPRINT_POINT_LATITUDE = (-76.2915,-76.2326,-76.1858,-76.1088, -76.0215,-75.9494,-75.8445,-75.3458, -74.8422,-74.3343,-73.8221,-73.5644, -73.176,-72.9161,-72.6553,-72.3928, -72.1301,-71.866,-71.6008,-71.3349, -71.0682,-70.8006,-70.5319,-70.2622, -69.9917,-69.7202,-69.4479,-69.1747, -68.9006,-68.6257,-68.3499,-68.0733, -67.7959,-67.5177,-67.2386,-66.959, -66.6781,-66.3967,-66.1145,-65.6897, -65.3969,-65.1172,-64.8373,-64.5619, -64.149,-63.8779,-63.6061,-63.3386, -63.0707,-62.6736,-62.3876,-62.4178, -62.4429,-62.4669,-62.4959,-62.5172, -63.0505,-63.3214,-63.7277,-64.0028, -64.4152,-64.6953,-64.9754,-65.4025, -65.8412,-66.1286,-66.4161,-66.8463, -67.1324,-67.4178,-67.7024,-67.9863, -68.2697,-68.5524,-68.8344,-69.1157, -69.3966,-69.6765,-69.9559,-70.2347, -70.5127,-70.79,-71.0666,-71.3424, -71.6179,-71.8915,-72.1651,-72.438, -72.7106,-72.9818,-73.253,-73.5234, -73.7932,-74.0619,-74.3305,-74.5982, -75.1323,-75.6621,-76.1901,-76.2915)
FOOTPRINT_POINT_LONGITUDE = (144.963,143.284,142.141,140.5,138.884, 137.688,135.909,136.56,137.17,137.74, 138.273,138.527,138.893,139.127,139.353 ,139.576,139.788,139.997,140.199, 140.396,140.586,140.77,140.95,141.126, 141.296,141.462,141.624,141.781,141.934 ,142.083,142.229,142.37,142.507,142.641 ,142.772,142.899,143.023,143.144, 143.262,143.433,143.547,143.653,143.756 ,143.855,143.999,144.09,144.178,144.264 ,144.348,144.468,144.996,145.662, 146.257,146.893,147.799,148.572,148.548 ,148.538,148.519,148.505,148.481, 148.466,148.455,148.442,148.417,148.395 ,148.376,148.35,148.332,148.313,148.293 ,148.272,148.251,148.23,148.207,148.184 ,148.162,148.136,148.112,148.087, 148.059,148.032,148.003,147.972,147.943 ,147.904,147.868,147.832,147.797, 147.755,147.718,147.678,147.637,147.592 ,147.549,147.504,147.415,147.305, 147.195,144.963)
ORBIT_NUMBER = 2198
ORBITAL_ECCENTRICITY = 0.573
ORBITAL_INCLINATION = 86.62
ORBITAL_SEMIMAJOR_AXIS = 8601.83
PERIAPSIS_ALTITUDE = 279.51
PERIAPSIS_ARGUMENT_ANGLE = 331.87
PERIAPSIS_TIME = 2005-09-30T04:42:22.000Z
SPACECRAFT_ORIENTATION = (0.0,1.0,0.0)
^MEX_ORIENTATION_DESC = "MEX_ORIENTATION_DESC.TXT"
SPACECRAFT_POINTING_MODE = ACROSSTRACK
^MEX_POINTING_DESC = "MEX_POINTING_DESC.TXT"
RIGHT_ASCENSION = -1e+32
DECLINATION = -1e+32
OFFSET_ANGLE = -0.55
SPACECRAFT_SOLAR_DISTANCE = 2.12285e+08
TARGET_NAME = MARS
/* CAMERA DATA ELEMENTS */
DETECTOR_TEMPERATURE = 18.5744
FOCAL_PLANE_TEMPERATURE = 9.8067
INST_CMPRS_NAME = "DISCRETE COSINE TRANSFORMATION (DCT)"
INST_CMPRS_RATIO = 14.0111
INST_CMPRS_QUALITY = 0
INST_CMPRS_QUANTZ_TBL_ID = 0
INSTRUMENT_TEMPERATURE = 12.8652
LENS_TEMPERATURE = 10.0106
MACROPIXEL_SIZE = 4
MISSING_FRAMES = 1
PIXEL_SUBSAMPLING_FLAG = N
SIGNAL_CHAIN_ID = 2
/* RADIOMETRIC DATA ELEMENTS */
BANDWIDTH = 88.0
CENTER_FILTER_WAVELENGTH = 538.0
RADIANCE_OFFSET = 1.39369
RADIANCE_SCALING_FACTOR = 0.00511955
REFLECTANCE_SCALING_FACTOR = 0.000198635
MEX:REFLECTANCE_OFFSET = 0.0540742
/* IMAGE OBJECT DEFINITIONS */
OBJECT = IMAGE
  INTERCHANGE_FORMAT = BINARY
  LINES = 8288
  LINE_SAMPLES = 2330
  SAMPLE_TYPE = UNSIGNED_INTEGER
  SAMPLE_BITS = 8
  BANDS = 1
  BAND_STORAGE_TYPE = BAND_SEQUENTIAL
  MAXIMUM = 159
  MEAN = 122.934
  MINIMUM = 79
  STANDARD_DEVIATION = 11.4934
END_OBJECT = IMAGE
/* MAP OBJECT DEFINITIONS */
OBJECT = IMAGE_MAP_PROJECTION
  ^DATA_SET_MAP_PROJECTION_CATALOG= "DSMAP.CAT"
  A_AXIS_RADIUS = 3396.0
  B_AXIS_RADIUS = 3396.0
  C_AXIS_RADIUS = 3396.0
  CENTER_LATITUDE = 0.0
  CENTER_LONGITUDE = 145.0
  COORDINATE_SYSTEM_NAME = PLANETOGRAPHIC
  COORDINATE_SYSTEM_TYPE = "BODY-FIXED ROTATING"
  EASTERNMOST_LONGITUDE = 148.572
  FIRST_STANDARD_PARALLEL = "N/A"
  LINE_FIRST_PIXEL = 1
  LINE_LAST_PIXEL = 8288
  LINE_PROJECTION_OFFSET = -36936.375
  MAP_PROJECTION_ROTATION = 0.0
  MAP_PROJECTION_TYPE = SINUSOIDAL
  MAP_RESOLUTION = 592.713803866667
  MAP_SCALE = 0.1
  MAXIMUM_LATITUDE = -62.3876
  MINIMUM_LATITUDE = -76.2915
  POSITIVE_LONGITUDE_DIRECTION = EAST
  REFERENCE_LATITUDE = "N/A"
  REFERENCE_LONGITUDE = "N/A"
  SAMPLE_FIRST_PIXEL = 1
  SAMPLE_LAST_PIXEL = 2330
  SAMPLE_PROJECTION_OFFSET = 1327.625
  SECOND_STANDARD_PARALLEL = "N/A"
  WESTERNMOST_LONGITUDE = 135.909
END_OBJECT = IMAGE_MAP_PROJECTION
/* The JPEG2000 image data file associated with this label. */
OBJECT = COMPRESSED_FILE
  FILE_NAME = "H2198_0000_GR3.JP2"
  RECORD_TYPE = UNDEFINED
  FILE_RECORDS = UNK
  ENCODING_TYPE = "JP2"
  INTERCHANGE_FORMAT = BINARY
  UNCOMPRESSED_FILE_NAME = "H2198_0000_GR3.IMG"
  REQUIRED_STORAGE_BYTES = "19334340"
  ^DESCRIPTION = "JP2INFO.TXT"
END_OBJECT = COMPRESSED_FILE
END
