PDS_VERSION_ID = PDS3
/* FILE DATA ELEMENTS */
RECORD_TYPE = STREAM
/* POINTERS TO DATA OBJECTS */
^COMPRESSED_FILE = "H2198_0000_P23.JP2"
/* IDENTIFICATION DATA ELEMENTS */
DATA_SET_ID = "MEX-M-HRSC-5-REFDR-MAPPROJECTED-V3.0"
DATA_SET_NAME = "MARS EXPRESS HRSC MAP PROJECTED REFDR V3.0"
DETECTOR_ID = MEX_HRSC_P2
EVENT_TYPE = "MARS-REGIONAL-MAPPING-Vo-Te-Im"
INSTRUMENT_HOST_ID = MEX
INSTRUMENT_HOST_NAME = "MARS EXPRESS"
INSTRUMENT_ID = HRSC
INSTRUMENT_NAME = "HIGH RESOLUTION STEREO CAMERA"
MISSION_NAME = "MARS EXPRESS"
MISSION_PHASE_NAME = MR_Phase_7
PROCESSING_LEVEL_ID = 3
PRODUCT_CREATION_TIME = 2016-03-14T11:38:04.000Z
PRODUCT_ID = "H2198_0000_P23.JP2"
RELEASE_ID = 0027
REVISION_ID = 0000
/* QUALITY DATA ELEMENTS */
DATA_QUALITY_ID = 1
DATA_QUALITY_DESC = "Data calculated based on original SPICE kernels"
/* TIME DATA ELEMENTS */
SPACECRAFT_CLOCK_START_COUNT = "1/0076134441.57283"
SPACECRAFT_CLOCK_STOP_COUNT = "1/0076134842.64421"
START_TIME = 2005-09-30T04:28:08.729Z
STOP_TIME = 2005-09-30T04:32:47.698Z
/* ORBITAL DATA ELEMENTS */
ASCENDING_NODE_LONGITUDE = 182.13
MAXIMUM_RESOLUTION = 94.4
FOOTPRINT_POINT_LATITUDE = (-76.0564,-76.0031,-75.9348,-75.8519, -75.7547,-75.6583,-75.583,-75.2436, -74.7723,-74.2948,-73.6894,-73.1992, -72.9515,-72.702,-72.4491,-72.1951, -71.944,-71.6909,-71.4363,-71.1792, -70.92,-70.6608,-70.4008,-70.1397, -69.8773,-69.6138,-69.3495,-69.0843, -68.8177,-68.5499,-68.2807,-68.0106, -67.7392,-67.4664,-67.0545,-66.78, -66.503,-66.0861,-65.807,-65.5257, -65.2446,-64.9619,-64.5356,-64.2511, -63.9635,-63.6719,-63.2381,-62.9485, -62.6564,-62.3689,-62.1416,-62.1702, -62.1921,-62.2121,-62.2302,-62.2487, -62.5534,-62.9935,-63.2858,-63.5837, -63.8769,-64.1713,-64.4645,-64.7497, -65.0402,-65.4683,-65.7558,-66.0462, -66.3308,-66.7572,-67.0393,-67.3209, -67.7422,-68.1613,-68.4391,-68.7156, -68.9922,-69.2655,-69.6754,-69.9475, -70.2184,-70.489,-70.7577,-71.0262, -71.2936,-71.694,-71.9611,-72.2256, -72.6208,-73.0148,-73.2745,-73.5331, -73.7918,-74.0497,-74.3056,-74.8062, -75.0654,-75.5692,-75.9442,-76.0564)
FOOTPRINT_POINT_LONGITUDE = (146.095,144.226,142.38,140.561,138.772 ,137.23,136.142,136.008,136.612,137.182 ,137.849,138.349,138.589,138.822, 139.049,139.269,139.484,139.693,139.896 ,140.094,140.286,140.474,140.657, 140.835,141.009,141.178,141.343,141.504 ,141.661,141.814,141.963,142.109, 142.251,142.39,142.591,142.722,142.849, 143.035,143.155,143.272,143.386,143.498 ,143.661,143.766,143.869,143.969, 144.116,144.211,144.303,144.392,144.698 ,145.371,145.927,146.567,147.252, 148.102,148.761,148.751,148.749,148.736 ,148.73,148.719,148.709,148.71,148.701, 148.697,148.688,148.671,148.663,148.648 ,148.64,148.63,148.614,148.596,148.585, 148.574,148.561,148.552,148.535,148.522 ,148.51,148.496,148.483,148.469,148.454 ,148.429,148.408,148.39,148.361,148.329 ,148.312,148.294,148.272,148.25,148.229 ,148.21,148.17,148.121,148.083,146.095)
ORBIT_NUMBER = 2198
ORBITAL_ECCENTRICITY = 0.573
ORBITAL_INCLINATION = 86.62
ORBITAL_SEMIMAJOR_AXIS = 8601.83
PERIAPSIS_ALTITUDE = 279.51
PERIAPSIS_ARGUMENT_ANGLE = 331.87
PERIAPSIS_TIME = 2005-09-30T04:42:22.000Z
SPACECRAFT_ORIENTATION = (0.0,1.0,0.0)
^MEX_ORIENTATION_DESC = "MEX_ORIENTATION_DESC.TXT"
SPACECRAFT_POINTING_MODE = ACROSSTRACK
^MEX_POINTING_DESC = "MEX_POINTING_DESC.TXT"
RIGHT_ASCENSION = -1e+32
DECLINATION = -1e+32
OFFSET_ANGLE = -0.55
SPACECRAFT_SOLAR_DISTANCE = 2.12285e+08
TARGET_NAME = MARS
/* CAMERA DATA ELEMENTS */
DETECTOR_TEMPERATURE = 18.9822
FOCAL_PLANE_TEMPERATURE = 9.8067
INST_CMPRS_NAME = "DISCRETE COSINE TRANSFORMATION (DCT)"
INST_CMPRS_RATIO = 7.83111
INST_CMPRS_QUALITY = 0
INST_CMPRS_QUANTZ_TBL_ID = 0
INSTRUMENT_TEMPERATURE = 12.8652
LENS_TEMPERATURE = 10.0106
MACROPIXEL_SIZE = 4
MISSING_FRAMES = 0
PIXEL_SUBSAMPLING_FLAG = N
SIGNAL_CHAIN_ID = 3
/* RADIOMETRIC DATA ELEMENTS */
BANDWIDTH = 177.0
CENTER_FILTER_WAVELENGTH = 676.5
RADIANCE_OFFSET = 3.51545
RADIANCE_SCALING_FACTOR = 0.0210137
REFLECTANCE_SCALING_FACTOR = 0.000502104
MEX:REFLECTANCE_OFFSET = 0.0839986
/* IMAGE OBJECT DEFINITIONS */
OBJECT = IMAGE
  INTERCHANGE_FORMAT = BINARY
  LINES = 8288
  LINE_SAMPLES = 2330
  SAMPLE_TYPE = UNSIGNED_INTEGER
  SAMPLE_BITS = 8
  BANDS = 1
  BAND_STORAGE_TYPE = BAND_SEQUENTIAL
  MAXIMUM = 264
  MEAN = 195.769
  MINIMUM = 100
  STANDARD_DEVIATION = 21.247
END_OBJECT = IMAGE
/* MAP OBJECT DEFINITIONS */
OBJECT = IMAGE_MAP_PROJECTION
  ^DATA_SET_MAP_PROJECTION_CATALOG= "DSMAP.CAT"
  A_AXIS_RADIUS = 3396.0
  B_AXIS_RADIUS = 3396.0
  C_AXIS_RADIUS = 3396.0
  CENTER_LATITUDE = 0.0
  CENTER_LONGITUDE = 145.0
  COORDINATE_SYSTEM_NAME = PLANETOGRAPHIC
  COORDINATE_SYSTEM_TYPE = "BODY-FIXED ROTATING"
  EASTERNMOST_LONGITUDE = 148.761
  FIRST_STANDARD_PARALLEL = "N/A"
  LINE_FIRST_PIXEL = 1
  LINE_LAST_PIXEL = 8288
  LINE_PROJECTION_OFFSET = -36936.375
  MAP_PROJECTION_ROTATION = 0.0
  MAP_PROJECTION_TYPE = SINUSOIDAL
  MAP_RESOLUTION = 592.713803866667
  MAP_SCALE = 0.1
  MAXIMUM_LATITUDE = -62.1416
  MINIMUM_LATITUDE = -76.0564
  POSITIVE_LONGITUDE_DIRECTION = EAST
  REFERENCE_LATITUDE = "N/A"
  REFERENCE_LONGITUDE = "N/A"
  SAMPLE_FIRST_PIXEL = 1
  SAMPLE_LAST_PIXEL = 2330
  SAMPLE_PROJECTION_OFFSET = 1327.625
  SECOND_STANDARD_PARALLEL = "N/A"
  WESTERNMOST_LONGITUDE = 136.008
END_OBJECT = IMAGE_MAP_PROJECTION
/* The JPEG2000 image data file associated with this label. */
OBJECT = COMPRESSED_FILE
  FILE_NAME = "H2198_0000_P23.JP2"
  RECORD_TYPE = UNDEFINED
  FILE_RECORDS = UNK
  ENCODING_TYPE = "JP2"
  INTERCHANGE_FORMAT = BINARY
  UNCOMPRESSED_FILE_NAME = "H2198_0000_P23.IMG"
  REQUIRED_STORAGE_BYTES = "19334340"
  ^DESCRIPTION = "JP2INFO.TXT"
END_OBJECT = COMPRESSED_FILE
END
