PDS_VERSION_ID = PDS3
/* FILE DATA ELEMENTS */
RECORD_TYPE = STREAM
/* POINTERS TO DATA OBJECTS */
^COMPRESSED_FILE = "H2198_0000_RE3.JP2"
/* IDENTIFICATION DATA ELEMENTS */
DATA_SET_ID = "MEX-M-HRSC-5-REFDR-MAPPROJECTED-V3.0"
DATA_SET_NAME = "MARS EXPRESS HRSC MAP PROJECTED REFDR V3.0"
DETECTOR_ID = MEX_HRSC_RED
EVENT_TYPE = "MARS-REGIONAL-MAPPING-Vo-Te-Im"
INSTRUMENT_HOST_ID = MEX
INSTRUMENT_HOST_NAME = "MARS EXPRESS"
INSTRUMENT_ID = HRSC
INSTRUMENT_NAME = "HIGH RESOLUTION STEREO CAMERA"
MISSION_NAME = "MARS EXPRESS"
MISSION_PHASE_NAME = MR_Phase_7
PROCESSING_LEVEL_ID = 3
PRODUCT_CREATION_TIME = 2016-03-14T11:38:04.000Z
PRODUCT_ID = "H2198_0000_RE3.JP2"
RELEASE_ID = 0027
REVISION_ID = 0000
/* QUALITY DATA ELEMENTS */
DATA_QUALITY_ID = 1
DATA_QUALITY_DESC = "Data calculated based on original SPICE kernels"
/* TIME DATA ELEMENTS */
SPACECRAFT_CLOCK_START_COUNT = "1/0076134441.57283"
SPACECRAFT_CLOCK_STOP_COUNT = "1/0076134842.64421"
START_TIME = 2005-09-30T04:27:49.737Z
STOP_TIME = 2005-09-30T04:32:37.601Z
/* ORBITAL DATA ELEMENTS */
ASCENDING_NODE_LONGITUDE = 182.13
MAXIMUM_RESOLUTION = 97.5
FOOTPRINT_POINT_LATITUDE = (-76.006,-75.9541,-75.8861,-75.8022, -75.7029,-75.5808,-75.3931,-74.9307, -74.5794,-74.1064,-73.6268,-73.1415, -72.8959,-72.6485,-72.3973,-72.144, -71.8952,-71.644,-71.3913,-71.1357, -70.8776,-70.6199,-70.3607,-70.1009, -69.8398,-69.5772,-69.3141,-69.0496, -68.7842,-68.5171,-68.2485,-67.9789, -67.7078,-67.4355,-67.0238,-66.7494, -66.4724,-66.1947,-65.9159,-65.4945, -65.213,-64.7868,-64.5023,-64.2168, -63.9278,-63.6341,-63.3438,-63.0534, -62.7598,-62.4655,-62.0862,-62.1205, -62.1449,-62.1712,-62.1963,-62.2091, -62.5131,-62.8116,-63.2537,-63.5551, -63.9982,-64.2931,-64.5847,-65.0142, -65.3069,-65.5892,-65.88,-66.3112, -66.7383,-67.0205,-67.3024,-67.7242, -68.1432,-68.421,-68.6969,-68.9733, -69.2459,-69.6546,-69.9259,-70.1959, -70.4654,-70.733,-71.0004,-71.2667, -71.6656,-71.9316,-72.1947,-72.4578, -72.7182,-72.9798,-73.2375,-73.4935, -73.7506,-74.0066,-74.2601,-74.7542, -75.0111,-75.5105,-75.8802,-76.006)
FOOTPRINT_POINT_LONGITUDE = (146.431,144.507,142.607,140.736, 138.896,136.974,135.638,136.256,136.696 ,137.254,137.782,138.281,138.52,138.753 ,138.981,139.202,139.416,139.626,139.83 ,140.028,140.222,140.411,140.594, 140.774,140.948,141.119,141.285,141.447 ,141.605,141.759,141.91,142.057,142.2, 142.34,142.544,142.676,142.805,142.93, 143.053,143.232,143.348,143.517,143.626 ,143.733,143.837,143.939,144.038, 144.136,144.231,144.324,144.441,145.202 ,145.849,146.745,147.814,148.643, 148.817,148.812,148.81,148.798,148.788, 148.781,148.776,148.777,148.767,148.769 ,148.758,148.745,148.735,148.729, 148.722,148.709,148.697,148.689,148.682 ,148.672,148.666,148.654,148.646, 148.638,148.628,148.62,148.61,148.6, 148.581,148.565,148.553,148.538,148.526 ,148.509,148.497,148.487,148.471, 148.456,148.443,148.437,148.408,148.374 ,148.352,146.431)
ORBIT_NUMBER = 2198
ORBITAL_ECCENTRICITY = 0.573
ORBITAL_INCLINATION = 86.62
ORBITAL_SEMIMAJOR_AXIS = 8601.83
PERIAPSIS_ALTITUDE = 279.51
PERIAPSIS_ARGUMENT_ANGLE = 331.87
PERIAPSIS_TIME = 2005-09-30T04:42:22.000Z
SPACECRAFT_ORIENTATION = (0.0,1.0,0.0)
^MEX_ORIENTATION_DESC = "MEX_ORIENTATION_DESC.TXT"
SPACECRAFT_POINTING_MODE = ACROSSTRACK
^MEX_POINTING_DESC = "MEX_POINTING_DESC.TXT"
RIGHT_ASCENSION = -1e+32
DECLINATION = -1e+32
OFFSET_ANGLE = -0.55
SPACECRAFT_SOLAR_DISTANCE = 2.12285e+08
TARGET_NAME = MARS
/* CAMERA DATA ELEMENTS */
DETECTOR_TEMPERATURE = 18.9822
FOCAL_PLANE_TEMPERATURE = 9.8067
INST_CMPRS_NAME = "DISCRETE COSINE TRANSFORMATION (DCT)"
INST_CMPRS_RATIO = 15.6921
INST_CMPRS_QUALITY = 0
INST_CMPRS_QUANTZ_TBL_ID = 0
INSTRUMENT_TEMPERATURE = 12.8652
LENS_TEMPERATURE = 10.0106
MACROPIXEL_SIZE = 4
MISSING_FRAMES = 0
PIXEL_SUBSAMPLING_FLAG = N
SIGNAL_CHAIN_ID = 2
/* RADIOMETRIC DATA ELEMENTS */
BANDWIDTH = 48.0
CENTER_FILTER_WAVELENGTH = 748.0
RADIANCE_OFFSET = 0.984204
RADIANCE_SCALING_FACTOR = 0.00707598
REFLECTANCE_SCALING_FACTOR = 0.000727691
MEX:REFLECTANCE_OFFSET = 0.101215
/* IMAGE OBJECT DEFINITIONS */
OBJECT = IMAGE
  INTERCHANGE_FORMAT = BINARY
  LINES = 8288
  LINE_SAMPLES = 2330
  SAMPLE_TYPE = UNSIGNED_INTEGER
  SAMPLE_BITS = 8
  BANDS = 1
  BAND_STORAGE_TYPE = BAND_SEQUENTIAL
  MAXIMUM = 174
  MEAN = 119.025
  MINIMUM = 56
  STANDARD_DEVIATION = 13.2415
END_OBJECT = IMAGE
/* MAP OBJECT DEFINITIONS */
OBJECT = IMAGE_MAP_PROJECTION
  ^DATA_SET_MAP_PROJECTION_CATALOG= "DSMAP.CAT"
  A_AXIS_RADIUS = 3396.0
  B_AXIS_RADIUS = 3396.0
  C_AXIS_RADIUS = 3396.0
  CENTER_LATITUDE = 0.0
  CENTER_LONGITUDE = 145.0
  COORDINATE_SYSTEM_NAME = PLANETOGRAPHIC
  COORDINATE_SYSTEM_TYPE = "BODY-FIXED ROTATING"
  EASTERNMOST_LONGITUDE = 148.817
  FIRST_STANDARD_PARALLEL = "N/A"
  LINE_FIRST_PIXEL = 1
  LINE_LAST_PIXEL = 8288
  LINE_PROJECTION_OFFSET = -36936.375
  MAP_PROJECTION_ROTATION = 0.0
  MAP_PROJECTION_TYPE = SINUSOIDAL
  MAP_RESOLUTION = 592.713803866667
  MAP_SCALE = 0.1
  MAXIMUM_LATITUDE = -62.0862
  MINIMUM_LATITUDE = -76.006
  POSITIVE_LONGITUDE_DIRECTION = EAST
  REFERENCE_LATITUDE = "N/A"
  REFERENCE_LONGITUDE = "N/A"
  SAMPLE_FIRST_PIXEL = 1
  SAMPLE_LAST_PIXEL = 2330
  SAMPLE_PROJECTION_OFFSET = 1327.625
  SECOND_STANDARD_PARALLEL = "N/A"
  WESTERNMOST_LONGITUDE = 135.638
END_OBJECT = IMAGE_MAP_PROJECTION
/* The JPEG2000 image data file associated with this label. */
OBJECT = COMPRESSED_FILE
  FILE_NAME = "H2198_0000_RE3.JP2"
  RECORD_TYPE = UNDEFINED
  FILE_RECORDS = UNK
  ENCODING_TYPE = "JP2"
  INTERCHANGE_FORMAT = BINARY
  UNCOMPRESSED_FILE_NAME = "H2198_0000_RE3.IMG"
  REQUIRED_STORAGE_BYTES = "19334340"
  ^DESCRIPTION = "JP2INFO.TXT"
END_OBJECT = COMPRESSED_FILE
END
