PDS_VERSION_ID = PDS3
/* FILE DATA ELEMENTS */
RECORD_TYPE = STREAM
/* POINTERS TO DATA OBJECTS */
^COMPRESSED_FILE = "H2201_0000_P13.JP2"
/* IDENTIFICATION DATA ELEMENTS */
DATA_SET_ID = "MEX-M-HRSC-5-REFDR-MAPPROJECTED-V3.0"
DATA_SET_NAME = "MARS EXPRESS HRSC MAP PROJECTED REFDR V3.0"
DETECTOR_ID = MEX_HRSC_P1
EVENT_TYPE = "MARS-REGIONAL-MAPPING-Vo-Im-Fl"
INSTRUMENT_HOST_ID = MEX
INSTRUMENT_HOST_NAME = "MARS EXPRESS"
INSTRUMENT_ID = HRSC
INSTRUMENT_NAME = "HIGH RESOLUTION STEREO CAMERA"
MISSION_NAME = "MARS EXPRESS"
MISSION_PHASE_NAME = MR_Phase_7
PROCESSING_LEVEL_ID = 3
PRODUCT_CREATION_TIME = 2016-03-14T22:12:55.000Z
PRODUCT_ID = "H2201_0000_P13.JP2"
RELEASE_ID = 0028
REVISION_ID = 0000
/* QUALITY DATA ELEMENTS */
DATA_QUALITY_ID = 1
DATA_QUALITY_DESC = "Data calculated based on original SPICE kernels"
/* TIME DATA ELEMENTS */
SPACECRAFT_CLOCK_START_COUNT = "1/0076207101.57263"
SPACECRAFT_CLOCK_STOP_COUNT = "1/0076207494.40657"
START_TIME = 2005-10-01T00:40:42.991Z
STOP_TIME = 2005-10-01T00:44:46.452Z
/* ORBITAL DATA ELEMENTS */
ASCENDING_NODE_LONGITUDE = 182.07
MAXIMUM_RESOLUTION = 35
FOOTPRINT_POINT_LATITUDE = (-71.1508,-71.1067,-71.0509,-70.9513, -70.7759,-70.4715,-70.1658,-69.8583, -69.3984,-69.0866,-68.7775,-68.4667, -67.9979,-67.6853,-67.3713,-67.0589, -66.741,-66.424,-66.109,-65.7895, -65.4693,-64.9899,-64.6701,-64.3543, -64.0386,-63.7274,-63.2626,-62.9567, -62.5002,-62.0477,-61.7581,-61.4618, -61.1695,-60.8738,-60.5836,-60.2954, -59.8606,-59.5865,-59.307,-59.0251, -58.6076,-58.3315,-57.922,-57.6488, -57.381,-57.1161,-56.8509,-56.5871, -56.3278,-56.0682,-56.0618,-56.0866, -56.1152,-56.1316,-56.4024,-56.6643, -56.9303,-57.3323,-57.7372,-58.011, -58.2837,-58.5596,-58.8379,-59.1157, -59.3973,-59.6863,-59.9697,-60.3992, -60.6888,-61.1296,-61.4245,-61.7234, -62.0241,-62.3262,-62.6323,-63.0932, -63.5623,-63.8736,-64.1892,-64.5093, -64.8296,-65.317,-65.6422,-65.9665, -66.2901,-66.7741,-67.0973,-67.4196, -67.7403,-68.0604,-68.3796,-68.6988, -69.0164,-69.3331,-69.6514,-69.9688, -70.285,-70.6001,-71.0726,-71.1508)
FOOTPRINT_POINT_LONGITUDE = (209.99,208.953,207.794,206.006,204.774 ,204.994,205.207,205.416,205.71,205.906 ,206.09,206.27,206.53,206.696,206.858, 207.011,207.168,207.317,207.457,207.6, 207.738,207.934,208.061,208.183,208.301 ,208.414,208.578,208.681,208.832, 208.975,209.057,209.144,209.229,209.316 ,209.396,209.475,209.593,209.657, 209.724,209.794,209.896,209.959,210.053 ,210.114,210.17,210.224,210.278,210.33, 210.38,210.43,210.949,211.54,212.315, 212.807,213.088,213.075,213.061,213.04, 213.018,213.002,212.986,212.97,212.952, 212.934,212.916,212.901,212.882,212.848 ,212.828,212.795,212.773,212.75,212.726 ,212.702,212.677,212.636,212.597, 212.563,212.532,212.5,212.467,212.414, 212.377,212.339,212.299,212.238,212.196 ,212.153,212.108,212.061,212.013, 211.964,211.912,211.858,211.804,211.749 ,211.691,211.631,211.538,209.99)
ORBIT_NUMBER = 2201
ORBITAL_ECCENTRICITY = 0.573
ORBITAL_INCLINATION = 86.64
ORBITAL_SEMIMAJOR_AXIS = 8600.27
PERIAPSIS_ALTITUDE = 278.68
PERIAPSIS_ARGUMENT_ANGLE = 331.3
PERIAPSIS_TIME = 2005-10-01T00:51:24.000Z
SPACECRAFT_ORIENTATION = (0.0,1.0,0.0)
^MEX_ORIENTATION_DESC = "MEX_ORIENTATION_DESC.TXT"
SPACECRAFT_POINTING_MODE = ACROSSTRACK
^MEX_POINTING_DESC = "MEX_POINTING_DESC.TXT"
RIGHT_ASCENSION = -1e+32
DECLINATION = -1e+32
OFFSET_ANGLE = -0.06
SPACECRAFT_SOLAR_DISTANCE = 2.12405e+08
TARGET_NAME = MARS
/* CAMERA DATA ELEMENTS */
DETECTOR_TEMPERATURE = 17.7588
FOCAL_PLANE_TEMPERATURE = 8.7872
INST_CMPRS_NAME = "DISCRETE COSINE TRANSFORMATION (DCT)"
INST_CMPRS_RATIO = 13.6712
INST_CMPRS_QUALITY = 0
INST_CMPRS_QUANTZ_TBL_ID = 0
INSTRUMENT_TEMPERATURE = 11.4379
LENS_TEMPERATURE = 9.3989
MACROPIXEL_SIZE = 2
MISSING_FRAMES = 0
PIXEL_SUBSAMPLING_FLAG = N
SIGNAL_CHAIN_ID = 3
/* RADIOMETRIC DATA ELEMENTS */
BANDWIDTH = 174.0
CENTER_FILTER_WAVELENGTH = 675.0
RADIANCE_OFFSET = 4.17766
RADIANCE_SCALING_FACTOR = 0.0207063
REFLECTANCE_SCALING_FACTOR = 0.000502473
MEX:REFLECTANCE_OFFSET = 0.101378
/* IMAGE OBJECT DEFINITIONS */
OBJECT = IMAGE
  INTERCHANGE_FORMAT = BINARY
  LINES = 36168
  LINE_SAMPLES = 7912
  SAMPLE_TYPE = UNSIGNED_INTEGER
  SAMPLE_BITS = 8
  BANDS = 1
  BAND_STORAGE_TYPE = BAND_SEQUENTIAL
  MAXIMUM = 178
  MEAN = 127.98
  MINIMUM = 58
  STANDARD_DEVIATION = 9.86329
END_OBJECT = IMAGE
/* MAP OBJECT DEFINITIONS */
OBJECT = IMAGE_MAP_PROJECTION
  ^DATA_SET_MAP_PROJECTION_CATALOG= "DSMAP.CAT"
  A_AXIS_RADIUS = 3396.0
  B_AXIS_RADIUS = 3396.0
  C_AXIS_RADIUS = 3396.0
  CENTER_LATITUDE = 0.0
  CENTER_LONGITUDE = 211.0
  COORDINATE_SYSTEM_NAME = PLANETOGRAPHIC
  COORDINATE_SYSTEM_TYPE = "BODY-FIXED ROTATING"
  EASTERNMOST_LONGITUDE = 213.088
  FIRST_STANDARD_PARALLEL = "N/A"
  LINE_FIRST_PIXEL = 1
  LINE_LAST_PIXEL = 36168
  LINE_PROJECTION_OFFSET = -132906.75
  MAP_PROJECTION_ROTATION = 0.0
  MAP_PROJECTION_TYPE = SINUSOIDAL
  MAP_RESOLUTION = 2370.85521546667
  MAP_SCALE = 0.025
  MAXIMUM_LATITUDE = -56.0618
  MINIMUM_LATITUDE = -71.1508
  POSITIVE_LONGITUDE_DIRECTION = EAST
  REFERENCE_LATITUDE = "N/A"
  REFERENCE_LONGITUDE = "N/A"
  SAMPLE_FIRST_PIXEL = 1
  SAMPLE_LAST_PIXEL = 7912
  SAMPLE_PROJECTION_OFFSET = 5065.25
  SECOND_STANDARD_PARALLEL = "N/A"
  WESTERNMOST_LONGITUDE = 204.774
END_OBJECT = IMAGE_MAP_PROJECTION
/* The JPEG2000 image data file associated with this label. */
OBJECT = COMPRESSED_FILE
  FILE_NAME = "H2201_0000_P13.JP2"
  RECORD_TYPE = UNDEFINED
  FILE_RECORDS = UNK
  ENCODING_TYPE = "JP2"
  INTERCHANGE_FORMAT = BINARY
  UNCOMPRESSED_FILE_NAME = "H2201_0000_P13.IMG"
  REQUIRED_STORAGE_BYTES = "286192864"
  ^DESCRIPTION = "JP2INFO.TXT"
END_OBJECT = COMPRESSED_FILE
END
