PDS_VERSION_ID = PDS3
/* FILE DATA ELEMENTS */
RECORD_TYPE = STREAM
/* POINTERS TO DATA OBJECTS */
^COMPRESSED_FILE = "H2205_0000_BL3.JP2"
/* IDENTIFICATION DATA ELEMENTS */
DATA_SET_ID = "MEX-M-HRSC-5-REFDR-MAPPROJECTED-V3.0"
DATA_SET_NAME = "MARS EXPRESS HRSC MAP PROJECTED REFDR V3.0"
DETECTOR_ID = MEX_HRSC_BLUE
EVENT_TYPE = "MARS-REGIONAL-MAPPING-Im-Fl-Eo"
INSTRUMENT_HOST_ID = MEX
INSTRUMENT_HOST_NAME = "MARS EXPRESS"
INSTRUMENT_ID = HRSC
INSTRUMENT_NAME = "HIGH RESOLUTION STEREO CAMERA"
MISSION_NAME = "MARS EXPRESS"
MISSION_PHASE_NAME = MR_Phase_7
PROCESSING_LEVEL_ID = 3
PRODUCT_CREATION_TIME = 2016-03-14T22:12:55.000Z
PRODUCT_ID = "H2205_0000_BL3.JP2"
RELEASE_ID = 0028
REVISION_ID = 0000
/* QUALITY DATA ELEMENTS */
DATA_QUALITY_ID = 1
DATA_QUALITY_DESC = "Data calculated based on original SPICE kernels"
/* TIME DATA ELEMENTS */
SPACECRAFT_CLOCK_START_COUNT = "1/0076303796.57964"
SPACECRAFT_CLOCK_STOP_COUNT = "1/0076304210.56169"
START_TIME = 2005-10-02T03:31:26.615Z
STOP_TIME = 2005-10-02T03:36:05.689Z
/* ORBITAL DATA ELEMENTS */
ASCENDING_NODE_LONGITUDE = 181.98
MAXIMUM_RESOLUTION = 75.2
FOOTPRINT_POINT_LATITUDE = (-73.92,-73.8958,-73.8628,-73.8212, -73.7714,-73.7135,-73.6084,-73.2767, -72.9439,-72.6093,-72.2729,-71.935, -71.5955,-71.2544,-70.9115,-70.5672, -70.0528,-69.7126,-69.3752,-69.0394, -68.7079,-68.2135,-67.7244,-67.241, -66.763,-66.4467,-66.1326,-65.8216, -65.5109,-65.2045,-64.8986,-64.596, -64.1441,-63.8462,-63.5512,-63.2562, -62.9654,-62.6736,-62.3869,-61.9585, -61.6768,-61.2544,-60.9739,-60.6961, -60.4215,-60.0108,-59.7403,-59.4693, -59.2036,-58.6723,-58.2418,-58.2645, -58.2769,-58.2841,-58.2896,-58.5562, -58.9537,-59.2221,-59.49,-59.8986, -60.1708,-60.4478,-60.8633,-61.1448, -61.426,-61.853,-62.1384,-62.4278, -62.7177,-63.0115,-63.3056,-63.6026, -63.9007,-64.2021,-64.5042,-64.811, -65.2728,-65.5833,-65.898,-66.3721, -66.6881,-67.0099,-67.4995,-67.826, -68.156,-68.4895,-68.8251,-69.3342, -69.6758,-70.0216,-70.3696,-70.7202, -71.0728,-71.4242,-71.7743,-72.1233, -72.4699,-72.9885,-73.506,-73.92)
FOOTPRINT_POINT_LONGITUDE = (181.247,179.859,178.487,177.132, 175.795,174.476,172.834,173.109,173.373 ,173.627,173.871,174.106,174.332,174.55 ,174.76,174.963,175.25,175.431,175.603, 175.769,175.926,176.15,176.36,176.557, 176.743,176.86,176.974,177.082,177.187, 177.288,177.386,177.479,177.615,177.7, 177.783,177.863,177.94,178.015,178.087, 178.191,178.256,178.353,178.416,178.476 ,178.534,178.618,178.671,178.724, 178.774,178.871,179.29,180.192,180.845, 181.356,181.904,182.13,182.132,182.133, 182.134,182.135,182.137,182.136,182.136 ,182.137,182.137,182.137,182.137, 182.138,182.137,182.136,182.136,182.137 ,182.137,182.137,182.138,182.136, 182.136,182.135,182.129,182.128,182.151 ,182.154,182.127,182.134,182.136, 182.135,182.132,182.127,182.128,182.124 ,182.126,182.125,182.121,182.117, 182.113,182.107,182.113,182.109,182.084 ,181.247)
ORBIT_NUMBER = 2205
ORBITAL_ECCENTRICITY = 0.573
ORBITAL_INCLINATION = 86.63
ORBITAL_SEMIMAJOR_AXIS = 8596.81
PERIAPSIS_ALTITUDE = 278.96
PERIAPSIS_ARGUMENT_ANGLE = 330.61
PERIAPSIS_TIME = 2005-10-02T03:43:41.000Z
SPACECRAFT_ORIENTATION = (0.0,1.0,0.0)
^MEX_ORIENTATION_DESC = "MEX_ORIENTATION_DESC.TXT"
SPACECRAFT_POINTING_MODE = ACROSSTRACK
^MEX_POINTING_DESC = "MEX_POINTING_DESC.TXT"
RIGHT_ASCENSION = -1e+32
DECLINATION = -1e+32
OFFSET_ANGLE = -1.1
SPACECRAFT_SOLAR_DISTANCE = 2.12566e+08
TARGET_NAME = MARS
/* CAMERA DATA ELEMENTS */
DETECTOR_TEMPERATURE = 18.7783
FOCAL_PLANE_TEMPERATURE = 50.9945
INST_CMPRS_NAME = "DISCRETE COSINE TRANSFORMATION (DCT)"
INST_CMPRS_RATIO = 18.2405
INST_CMPRS_QUALITY = 0
INST_CMPRS_QUANTZ_TBL_ID = 0
INSTRUMENT_TEMPERATURE = 11.6418
LENS_TEMPERATURE = 9.3989
MACROPIXEL_SIZE = 4
MISSING_FRAMES = 0
PIXEL_SUBSAMPLING_FLAG = N
SIGNAL_CHAIN_ID = 2
/* RADIOMETRIC DATA ELEMENTS */
BANDWIDTH = 76.0
CENTER_FILTER_WAVELENGTH = 444.0
RADIANCE_OFFSET = 0.659793
RADIANCE_SCALING_FACTOR = 0.00145361
REFLECTANCE_SCALING_FACTOR = 6.74816e-05
MEX:REFLECTANCE_OFFSET = 0.0306299
/* IMAGE OBJECT DEFINITIONS */
OBJECT = IMAGE
  INTERCHANGE_FORMAT = BINARY
  LINES = 18599
  LINE_SAMPLES = 3733
  SAMPLE_TYPE = UNSIGNED_INTEGER
  SAMPLE_BITS = 8
  BANDS = 1
  BAND_STORAGE_TYPE = BAND_SEQUENTIAL
  MAXIMUM = 160
  MEAN = 116.816
  MINIMUM = 85
  STANDARD_DEVIATION = 6.29186
END_OBJECT = IMAGE
/* MAP OBJECT DEFINITIONS */
OBJECT = IMAGE_MAP_PROJECTION
  ^DATA_SET_MAP_PROJECTION_CATALOG= "DSMAP.CAT"
  A_AXIS_RADIUS = 3396.0
  B_AXIS_RADIUS = 3396.0
  C_AXIS_RADIUS = 3396.0
  CENTER_LATITUDE = 0.0
  CENTER_LONGITUDE = 180.0
  COORDINATE_SYSTEM_NAME = PLANETOGRAPHIC
  COORDINATE_SYSTEM_TYPE = "BODY-FIXED ROTATING"
  EASTERNMOST_LONGITUDE = 182.154
  FIRST_STANDARD_PARALLEL = "N/A"
  LINE_FIRST_PIXEL = 1
  LINE_LAST_PIXEL = 18599
  LINE_PROJECTION_OFFSET = -69010.125
  MAP_PROJECTION_ROTATION = 0.0
  MAP_PROJECTION_TYPE = SINUSOIDAL
  MAP_RESOLUTION = 1185.42760773333
  MAP_SCALE = 0.05
  MAXIMUM_LATITUDE = -58.2418
  MINIMUM_LATITUDE = -73.92
  POSITIVE_LONGITUDE_DIRECTION = EAST
  REFERENCE_LATITUDE = "N/A"
  REFERENCE_LONGITUDE = "N/A"
  SAMPLE_FIRST_PIXEL = 1
  SAMPLE_LAST_PIXEL = 3733
  SAMPLE_PROJECTION_OFFSET = 2380.125
  SECOND_STANDARD_PARALLEL = "N/A"
  WESTERNMOST_LONGITUDE = 172.834
END_OBJECT = IMAGE_MAP_PROJECTION
/* The JPEG2000 image data file associated with this label. */
OBJECT = COMPRESSED_FILE
  FILE_NAME = "H2205_0000_BL3.JP2"
  RECORD_TYPE = UNDEFINED
  FILE_RECORDS = UNK
  ENCODING_TYPE = "JP2"
  INTERCHANGE_FORMAT = BINARY
  UNCOMPRESSED_FILE_NAME = "H2205_0000_BL3.IMG"
  REQUIRED_STORAGE_BYTES = "69452465"
  ^DESCRIPTION = "JP2INFO.TXT"
END_OBJECT = COMPRESSED_FILE
END
