PDS_VERSION_ID = PDS3
/* FILE DATA ELEMENTS */
RECORD_TYPE = STREAM
/* POINTERS TO DATA OBJECTS */
^COMPRESSED_FILE = "H2205_0000_P13.JP2"
/* IDENTIFICATION DATA ELEMENTS */
DATA_SET_ID = "MEX-M-HRSC-5-REFDR-MAPPROJECTED-V3.0"
DATA_SET_NAME = "MARS EXPRESS HRSC MAP PROJECTED REFDR V3.0"
DETECTOR_ID = MEX_HRSC_P1
EVENT_TYPE = "MARS-REGIONAL-MAPPING-Im-Fl-Eo"
INSTRUMENT_HOST_ID = MEX
INSTRUMENT_HOST_NAME = "MARS EXPRESS"
INSTRUMENT_ID = HRSC
INSTRUMENT_NAME = "HIGH RESOLUTION STEREO CAMERA"
MISSION_NAME = "MARS EXPRESS"
MISSION_PHASE_NAME = MR_Phase_7
PROCESSING_LEVEL_ID = 3
PRODUCT_CREATION_TIME = 2016-03-14T22:12:55.000Z
PRODUCT_ID = "H2205_0000_P13.JP2"
RELEASE_ID = 0028
REVISION_ID = 0000
/* QUALITY DATA ELEMENTS */
DATA_QUALITY_ID = 1
DATA_QUALITY_DESC = "Data calculated based on original SPICE kernels"
/* TIME DATA ELEMENTS */
SPACECRAFT_CLOCK_START_COUNT = "1/0076303796.57964"
SPACECRAFT_CLOCK_STOP_COUNT = "1/0076304210.56169"
START_TIME = 2005-10-02T03:32:29.397Z
STOP_TIME = 2005-10-02T03:36:41.989Z
/* ORBITAL DATA ELEMENTS */
ASCENDING_NODE_LONGITUDE = 181.98
MAXIMUM_RESOLUTION = 36.3
FOOTPRINT_POINT_LATITUDE = (-73.7957,-73.7576,-73.7125,-73.6608, -73.6027,-73.5383,-73.5469,-73.1822, -72.6382,-72.2801,-71.9236,-71.5693, -71.2201,-70.6983,-70.1829,-69.842, -69.5037,-69.1724,-68.8354,-68.5066, -68.0158,-67.691,-67.3701,-67.0489, -66.7329,-66.262,-65.9504,-65.4885, -65.1816,-64.8796,-64.5766,-64.1315, -63.8345,-63.5422,-63.1038,-62.8153, -62.5275,-62.2439,-61.9582,-61.6737, -61.3962,-61.1231,-60.7132,-60.4393, -60.1671,-59.8988,-59.6299,-59.363, -59.0992,-58.8356,-58.573,-58.3147, -58.2022,-58.2418,-58.2675,-58.2893, -58.6923,-58.9561,-59.2217,-59.6192, -59.8898,-60.296,-60.5695,-60.8445, -61.1199,-61.3993,-61.6796,-61.9603, -62.2463,-62.6745,-62.9653,-63.2557, -63.6979,-63.9935,-64.2932,-64.594, -64.8956,-65.2018,-65.6652,-65.9725, -66.2871,-66.6099,-66.9321,-67.252, -67.5675,-68.0605,-68.3905,-68.7232, -69.056,-69.5654,-69.9075,-70.4279, -70.9533,-71.4846,-71.8417,-72.2079, -72.7565,-73.3064,-73.6796,-73.7957)
FOOTPRINT_POINT_LONGITUDE = (180.592,179.288,178.001,176.734, 175.486,174.254,173.274,173.556,173.953 ,174.199,174.433,174.656,174.866, 175.164,175.441,175.615,175.781,175.938 ,176.091,176.236,176.442,176.573, 176.698,176.819,176.934,177.098,177.203 ,177.352,177.448,177.54,177.628,177.755 ,177.836,177.914,178.027,178.098, 178.168,178.235,178.3,178.363,178.424, 178.484,178.57,178.625,178.678,178.73, 178.78,178.829,178.876,178.922,178.967, 179.01,179.598,180.463,181.081,181.679, 182.053,182.052,182.051,182.049,182.048 ,182.047,182.044,182.041,182.039, 182.036,182.033,182.031,182.028,182.023 ,182.019,182.015,182.011,182.007, 182.004,182.0,181.993,181.989,181.983, 181.97,181.966,181.979,181.98,181.973, 181.944,181.941,181.934,181.924,181.911 ,181.899,181.887,181.875,181.858, 181.835,181.818,181.813,181.788,181.743 ,181.716,180.592)
ORBIT_NUMBER = 2205
ORBITAL_ECCENTRICITY = 0.573
ORBITAL_INCLINATION = 86.63
ORBITAL_SEMIMAJOR_AXIS = 8596.81
PERIAPSIS_ALTITUDE = 278.96
PERIAPSIS_ARGUMENT_ANGLE = 330.61
PERIAPSIS_TIME = 2005-10-02T03:43:41.000Z
SPACECRAFT_ORIENTATION = (0.0,1.0,0.0)
^MEX_ORIENTATION_DESC = "MEX_ORIENTATION_DESC.TXT"
SPACECRAFT_POINTING_MODE = ACROSSTRACK
^MEX_POINTING_DESC = "MEX_POINTING_DESC.TXT"
RIGHT_ASCENSION = -1e+32
DECLINATION = -1e+32
OFFSET_ANGLE = -1.1
SPACECRAFT_SOLAR_DISTANCE = 2.12566e+08
TARGET_NAME = MARS
/* CAMERA DATA ELEMENTS */
DETECTOR_TEMPERATURE = 17.7588
FOCAL_PLANE_TEMPERATURE = 50.9945
INST_CMPRS_NAME = "DISCRETE COSINE TRANSFORMATION (DCT)"
INST_CMPRS_RATIO = 11.4449
INST_CMPRS_QUALITY = 0
INST_CMPRS_QUANTZ_TBL_ID = 0
INSTRUMENT_TEMPERATURE = 11.6418
LENS_TEMPERATURE = 9.3989
MACROPIXEL_SIZE = 2
MISSING_FRAMES = 0
PIXEL_SUBSAMPLING_FLAG = N
SIGNAL_CHAIN_ID = 3
/* RADIOMETRIC DATA ELEMENTS */
BANDWIDTH = 174.0
CENTER_FILTER_WAVELENGTH = 675.0
RADIANCE_OFFSET = 3.82959
RADIANCE_SCALING_FACTOR = 0.0210967
REFLECTANCE_SCALING_FACTOR = 0.000512722
MEX:REFLECTANCE_OFFSET = 0.093072
/* IMAGE OBJECT DEFINITIONS */
OBJECT = IMAGE
  INTERCHANGE_FORMAT = BINARY
  LINES = 37197
  LINE_SAMPLES = 7466
  SAMPLE_TYPE = UNSIGNED_INTEGER
  SAMPLE_BITS = 8
  BANDS = 1
  BAND_STORAGE_TYPE = BAND_SEQUENTIAL
  MAXIMUM = 206
  MEAN = 154.486
  MINIMUM = 80
  STANDARD_DEVIATION = 15.5519
END_OBJECT = IMAGE
/* MAP OBJECT DEFINITIONS */
OBJECT = IMAGE_MAP_PROJECTION
  ^DATA_SET_MAP_PROJECTION_CATALOG= "DSMAP.CAT"
  A_AXIS_RADIUS = 3396.0
  B_AXIS_RADIUS = 3396.0
  C_AXIS_RADIUS = 3396.0
  CENTER_LATITUDE = 0.0
  CENTER_LONGITUDE = 180.0
  COORDINATE_SYSTEM_NAME = PLANETOGRAPHIC
  COORDINATE_SYSTEM_TYPE = "BODY-FIXED ROTATING"
  EASTERNMOST_LONGITUDE = 182.053
  FIRST_STANDARD_PARALLEL = "N/A"
  LINE_FIRST_PIXEL = 1
  LINE_LAST_PIXEL = 37197
  LINE_PROJECTION_OFFSET = -138019.75
  MAP_PROJECTION_ROTATION = 0.0
  MAP_PROJECTION_TYPE = SINUSOIDAL
  MAP_RESOLUTION = 2370.85521546667
  MAP_SCALE = 0.025
  MAXIMUM_LATITUDE = -58.2022
  MINIMUM_LATITUDE = -73.7957
  POSITIVE_LONGITUDE_DIRECTION = EAST
  REFERENCE_LATITUDE = "N/A"
  REFERENCE_LONGITUDE = "N/A"
  SAMPLE_FIRST_PIXEL = 1
  SAMPLE_LAST_PIXEL = 7466
  SAMPLE_PROJECTION_OFFSET = 4760.75
  SECOND_STANDARD_PARALLEL = "N/A"
  WESTERNMOST_LONGITUDE = 173.274
END_OBJECT = IMAGE_MAP_PROJECTION
/* The JPEG2000 image data file associated with this label. */
OBJECT = COMPRESSED_FILE
  FILE_NAME = "H2205_0000_P13.JP2"
  RECORD_TYPE = UNDEFINED
  FILE_RECORDS = UNK
  ENCODING_TYPE = "JP2"
  INTERCHANGE_FORMAT = BINARY
  UNCOMPRESSED_FILE_NAME = "H2205_0000_P13.IMG"
  REQUIRED_STORAGE_BYTES = "277742666"
  ^DESCRIPTION = "JP2INFO.TXT"
END_OBJECT = COMPRESSED_FILE
END
