PDS_VERSION_ID = PDS3
/* FILE DATA ELEMENTS */
RECORD_TYPE = STREAM
/* POINTERS TO DATA OBJECTS */
^COMPRESSED_FILE = "H2206_0000_RE3.JP2"
/* IDENTIFICATION DATA ELEMENTS */
DATA_SET_ID = "MEX-M-HRSC-5-REFDR-MAPPROJECTED-V3.0"
DATA_SET_NAME = "MARS EXPRESS HRSC MAP PROJECTED REFDR V3.0"
DETECTOR_ID = MEX_HRSC_RED
EVENT_TYPE = "MARS-REGIONAL-MAPPING-Im-Pf-Mw"
INSTRUMENT_HOST_ID = MEX
INSTRUMENT_HOST_NAME = "MARS EXPRESS"
INSTRUMENT_ID = HRSC
INSTRUMENT_NAME = "HIGH RESOLUTION STEREO CAMERA"
MISSION_NAME = "MARS EXPRESS"
MISSION_PHASE_NAME = MR_Phase_7
PROCESSING_LEVEL_ID = 3
PRODUCT_CREATION_TIME = 2016-03-14T22:12:55.000Z
PRODUCT_ID = "H2206_0000_RE3.JP2"
RELEASE_ID = 0028
REVISION_ID = 0000
/* QUALITY DATA ELEMENTS */
DATA_QUALITY_ID = 1
DATA_QUALITY_DESC = "Data calculated based on original SPICE kernels"
/* TIME DATA ELEMENTS */
SPACECRAFT_CLOCK_START_COUNT = "1/0076328030.57159"
SPACECRAFT_CLOCK_STOP_COUNT = "1/0076328366.54200"
START_TIME = 2005-10-02T10:14:15.067Z
STOP_TIME = 2005-10-02T10:18:04.686Z
/* ORBITAL DATA ELEMENTS */
ASCENDING_NODE_LONGITUDE = 181.96
MAXIMUM_RESOLUTION = 174.9
FOOTPRINT_POINT_LATITUDE = (-71.9025,-71.8905,-71.8683,-71.8372, -71.7973,-71.7488,-71.692,-71.5511, -71.3027,-71.0523,-70.8,-70.5442, -70.1613,-69.9073,-69.6569,-69.4083, -69.0346,-68.663,-68.4115,-68.168, -67.8049,-67.5639,-67.3247,-67.0877, -66.8518,-66.6216,-66.3852,-66.1503, -65.9118,-65.6813,-65.4537,-65.2247, -64.8837,-64.6585,-64.4338,-64.2142, -63.9902,-63.7689,-63.5441,-63.3235, -63.1044,-62.8881,-62.6713,-62.456, -62.2422,-62.0281,-61.7111,-61.2923, -61.0777,-60.8693,-60.4566,-60.0526, -60.0683,-60.0867,-60.0981,-60.1099, -60.4284,-60.8395,-61.1533,-61.5714, -61.785,-61.9988,-62.2158,-62.4355, -62.7639,-62.9832,-63.2022,-63.4242, -63.6458,-63.8702,-64.0945,-64.4343, -64.776,-65.0054,-65.2375,-65.5781, -65.8116,-66.0469,-66.2919,-66.5297, -66.7695,-67.1333,-67.3762,-67.622, -67.8661,-68.1109,-68.3592,-68.6076, -68.9776,-69.2333,-69.4861,-69.7413, -69.9991,-70.258,-70.52,-70.7813, -71.1726,-71.4338,-71.6923,-71.9025)
FOOTPRINT_POINT_LONGITUDE = (83.2773,82.1625,80.9009,79.6504, 78.4134,77.1902,75.9792,75.0657,75.2442 ,75.4183,75.5881,75.7541,75.9936, 76.1466,76.2939,76.4361,76.6415,76.8371 ,76.9634,77.0843,77.2589,77.3711, 77.4796,77.5848,77.687,77.7853,77.8822, 77.976,78.0683,78.1565,78.2424,78.326, 78.4473,78.5254,78.6016,78.675,78.7475, 78.8178,78.8871,78.954,79.0194,79.0827, 79.1448,79.2053,79.2642,79.3221,79.4056 ,79.5126,79.5654,79.6161,79.7138, 79.8062,80.3432,81.1634,81.7839,82.5817 ,83.4779,83.4869,83.4875,83.4935, 83.4943,83.4942,83.4912,83.4862,83.4823 ,83.4821,83.4825,83.4825,83.4821,83.482 ,83.4817,83.4815,83.4811,83.4812, 83.4782,83.49,83.4918,83.4895,83.4754, 83.4738,83.4731,83.4675,83.4646,83.4614 ,83.4618,83.4647,83.4631,83.4628, 83.4741,83.4691,83.4707,83.4712,83.4699 ,83.4685,83.4641,83.465,83.4657,83.4629 ,83.4634,83.2773)
ORBIT_NUMBER = 2206
ORBITAL_ECCENTRICITY = 0.574
ORBITAL_INCLINATION = 86.64
ORBITAL_SEMIMAJOR_AXIS = 8603.27
PERIAPSIS_ALTITUDE = 277.86
PERIAPSIS_ARGUMENT_ANGLE = 330.41
PERIAPSIS_TIME = 2005-10-02T10:26:42.000Z
SPACECRAFT_ORIENTATION = (0.0,1.0,0.0)
^MEX_ORIENTATION_DESC = "MEX_ORIENTATION_DESC.TXT"
SPACECRAFT_POINTING_MODE = ACROSSTRACK
^MEX_POINTING_DESC = "MEX_POINTING_DESC.TXT"
RIGHT_ASCENSION = -1e+32
DECLINATION = -1e+32
OFFSET_ANGLE = -0.85
SPACECRAFT_SOLAR_DISTANCE = 2.12607e+08
TARGET_NAME = MARS
/* CAMERA DATA ELEMENTS */
DETECTOR_TEMPERATURE = 19.1861
FOCAL_PLANE_TEMPERATURE = 9.3989
INST_CMPRS_NAME = "DISCRETE COSINE TRANSFORMATION (DCT)"
INST_CMPRS_RATIO = 16.6561
INST_CMPRS_QUALITY = 0
INST_CMPRS_QUANTZ_TBL_ID = 0
INSTRUMENT_TEMPERATURE = 11.4379
LENS_TEMPERATURE = 9.8067
MACROPIXEL_SIZE = 8
MISSING_FRAMES = 0
PIXEL_SUBSAMPLING_FLAG = N
SIGNAL_CHAIN_ID = 2
/* RADIOMETRIC DATA ELEMENTS */
BANDWIDTH = 48.0
CENTER_FILTER_WAVELENGTH = 748.0
RADIANCE_OFFSET = 1.20274
RADIANCE_SCALING_FACTOR = 0.00521025
REFLECTANCE_SCALING_FACTOR = 0.000537443
MEX:REFLECTANCE_OFFSET = 0.124064
/* IMAGE OBJECT DEFINITIONS */
OBJECT = IMAGE
  INTERCHANGE_FORMAT = BINARY
  LINES = 3486
  LINE_SAMPLES = 874
  SAMPLE_TYPE = UNSIGNED_INTEGER
  SAMPLE_BITS = 8
  BANDS = 1
  BAND_STORAGE_TYPE = BAND_SEQUENTIAL
  MAXIMUM = 185
  MEAN = 132.245
  MINIMUM = 86
  STANDARD_DEVIATION = 12.1846
END_OBJECT = IMAGE
/* MAP OBJECT DEFINITIONS */
OBJECT = IMAGE_MAP_PROJECTION
  ^DATA_SET_MAP_PROJECTION_CATALOG= "DSMAP.CAT"
  A_AXIS_RADIUS = 3396.0
  B_AXIS_RADIUS = 3396.0
  C_AXIS_RADIUS = 3396.0
  CENTER_LATITUDE = 0.0
  CENTER_LONGITUDE = 81.0
  COORDINATE_SYSTEM_NAME = PLANETOGRAPHIC
  COORDINATE_SYSTEM_TYPE = "BODY-FIXED ROTATING"
  EASTERNMOST_LONGITUDE = 83.4943
  FIRST_STANDARD_PARALLEL = "N/A"
  LINE_FIRST_PIXEL = 1
  LINE_LAST_PIXEL = 3486
  LINE_PROJECTION_OFFSET = -17786.5625
  MAP_PROJECTION_ROTATION = 0.0
  MAP_PROJECTION_TYPE = SINUSOIDAL
  MAP_RESOLUTION = 296.356901933333
  MAP_SCALE = 0.2
  MAXIMUM_LATITUDE = -60.0526
  MINIMUM_LATITUDE = -71.9025
  POSITIVE_LONGITUDE_DIRECTION = EAST
  REFERENCE_LATITUDE = "N/A"
  REFERENCE_LONGITUDE = "N/A"
  SAMPLE_FIRST_PIXEL = 1
  SAMPLE_LAST_PIXEL = 874
  SAMPLE_PROJECTION_OFFSET = 525.6875
  SECOND_STANDARD_PARALLEL = "N/A"
  WESTERNMOST_LONGITUDE = 75.06570000000001
END_OBJECT = IMAGE_MAP_PROJECTION
/* The JPEG2000 image data file associated with this label. */
OBJECT = COMPRESSED_FILE
  FILE_NAME = "H2206_0000_RE3.JP2"
  RECORD_TYPE = UNDEFINED
  FILE_RECORDS = UNK
  ENCODING_TYPE = "JP2"
  INTERCHANGE_FORMAT = BINARY
  UNCOMPRESSED_FILE_NAME = "H2206_0000_RE3.IMG"
  REQUIRED_STORAGE_BYTES = "3065118"
  ^DESCRIPTION = "JP2INFO.TXT"
END_OBJECT = COMPRESSED_FILE
END
