PDS_VERSION_ID = PDS3
/* FILE DATA ELEMENTS */
RECORD_TYPE = STREAM
/* POINTERS TO DATA OBJECTS */
^COMPRESSED_FILE = "H2206_0002_IR3.JP2"
/* IDENTIFICATION DATA ELEMENTS */
DATA_SET_ID = "MEX-M-HRSC-5-REFDR-MAPPROJECTED-V3.0"
DATA_SET_NAME = "MARS EXPRESS HRSC MAP PROJECTED REFDR V3.0"
DETECTOR_ID = MEX_HRSC_IR
EVENT_TYPE = "MARS-REGIONAL-MAPPING-Vo-Fl-Eo"
INSTRUMENT_HOST_ID = MEX
INSTRUMENT_HOST_NAME = "MARS EXPRESS"
INSTRUMENT_ID = HRSC
INSTRUMENT_NAME = "HIGH RESOLUTION STEREO CAMERA"
MISSION_NAME = "MARS EXPRESS"
MISSION_PHASE_NAME = MR_Phase_7
PROCESSING_LEVEL_ID = 3
PRODUCT_CREATION_TIME = 2016-03-14T22:12:55.000Z
PRODUCT_ID = "H2206_0002_IR3.JP2"
RELEASE_ID = 0028
REVISION_ID = 0000
/* QUALITY DATA ELEMENTS */
DATA_QUALITY_ID = 1
DATA_QUALITY_DESC = "Data calculated based on original SPICE kernels"
/* TIME DATA ELEMENTS */
SPACECRAFT_CLOCK_START_COUNT = "1/0076329170.57163"
SPACECRAFT_CLOCK_STOP_COUNT = "1/0076329424.15569"
START_TIME = 2005-10-02T10:34:10.961Z
STOP_TIME = 2005-10-02T10:36:57.617Z
/* ORBITAL DATA ELEMENTS */
ASCENDING_NODE_LONGITUDE = 181.96
MAXIMUM_RESOLUTION = 149.6
FOOTPRINT_POINT_LATITUDE = (-2.64199,-2.63441,-2.62709,-2.6201, -2.61345,-2.60708,-2.42326,-2.09708, -1.92863,-1.76058,-1.43358,-1.26347, -1.09138,-0.917875,-0.752315,-0.581971, -0.407718,-0.235638,-0.065141,0.107906, 0.276975,0.447439,0.710728,0.887565, 1.06571,1.33104,1.51038,1.68942,1.95962 ,2.14205,2.32332,2.60056,2.78816,3.0654 ,3.24544,3.42998,3.61837,3.81319, 4.00314,4.28501,4.47327,4.66431,4.85967 ,5.15131,5.44314,5.7377,5.93585,6.13487 ,6.33587,6.47047,6.46556,6.45798, 6.45114,6.44407,6.43544,6.42513,6.12262 ,5.92368,5.72421,5.42784,5.23077, 4.93814,4.74347,4.54935,4.2614,4.06903, 3.88721,3.6913,3.50296,3.31857,3.13884, 2.94972,2.67249,2.48871,2.31323,2.12576 ,1.94334,1.76219,1.58293,1.40354, 1.22488,1.04944,0.874563,0.698779, 0.43095,0.257314,0.0889192,-0.083954, -0.341007,-0.594308,-0.770134,-0.940432 ,-1.11025,-1.28022,-1.53292,-1.86471, -2.03221,-2.19935,-2.52653,-2.64199)
FOOTPRINT_POINT_LONGITUDE = (83.4097,83.167,82.9262,82.6876,82.4511 ,82.2164,81.9997,81.9899,81.9848, 81.9797,81.9697,81.9644,81.959,81.9535, 81.9482,81.9427,81.9371,81.9315,81.9258 ,81.9201,81.9144,81.9085,81.8996, 81.8934,81.8873,81.8779,81.8716,81.8652 ,81.8554,81.8488,81.8421,81.8319,81.825 ,81.8145,81.8073,81.8,81.7927,81.7854, 81.7779,81.7664,81.7586,81.7508,81.7429 ,81.7308,81.7184,81.7058,81.6972, 81.6887,81.6799,81.7878,82.1012,82.5348 ,82.8529,83.1731,83.5158,83.7935, 83.7855,83.7803,83.7751,83.7674,83.7624 ,83.755,83.7502,83.7456,83.7386,83.734, 83.7242,83.7242,83.7188,83.7128,83.703, 83.7002,83.6944,83.6895,83.6798,83.6798 ,83.676,83.6719,83.6681,83.6642,83.6594 ,83.6548,83.6497,83.645,83.6431,83.6392 ,83.6311,83.6266,83.6216,83.6132, 83.6136,83.6117,83.6092,83.6066,83.6026 ,83.5961,83.5938,83.5921,83.5867, 83.4097)
ORBIT_NUMBER = 2206
ORBITAL_ECCENTRICITY = 0.574
ORBITAL_INCLINATION = 86.64
ORBITAL_SEMIMAJOR_AXIS = 8603.27
PERIAPSIS_ALTITUDE = 277.86
PERIAPSIS_ARGUMENT_ANGLE = 330.41
PERIAPSIS_TIME = 2005-10-02T10:26:42.000Z
SPACECRAFT_ORIENTATION = (0.0,1.0,0.0)
^MEX_ORIENTATION_DESC = "MEX_ORIENTATION_DESC.TXT"
SPACECRAFT_POINTING_MODE = ACROSSTRACK
^MEX_POINTING_DESC = "MEX_POINTING_DESC.TXT"
RIGHT_ASCENSION = -1e+32
DECLINATION = -1e+32
OFFSET_ANGLE = -0.85
SPACECRAFT_SOLAR_DISTANCE = 2.12607e+08
TARGET_NAME = MARS
/* CAMERA DATA ELEMENTS */
DETECTOR_TEMPERATURE = 20.6134
FOCAL_PLANE_TEMPERATURE = 10.0106
INST_CMPRS_NAME = "DISCRETE COSINE TRANSFORMATION (DCT)"
INST_CMPRS_RATIO = 9.77372
INST_CMPRS_QUALITY = 0
INST_CMPRS_QUANTZ_TBL_ID = 0
INSTRUMENT_TEMPERATURE = 15.1081
LENS_TEMPERATURE = 10.4184
MACROPIXEL_SIZE = 8
MISSING_FRAMES = 0
PIXEL_SUBSAMPLING_FLAG = N
SIGNAL_CHAIN_ID = 2
/* RADIOMETRIC DATA ELEMENTS */
BANDWIDTH = 81.0
CENTER_FILTER_WAVELENGTH = 955.5
RADIANCE_OFFSET = 1.2281
RADIANCE_SCALING_FACTOR = 0.0065867
REFLECTANCE_SCALING_FACTOR = 0.00064232
MEX:REFLECTANCE_OFFSET = 0.119762
/* IMAGE OBJECT DEFINITIONS */
OBJECT = IMAGE
  INTERCHANGE_FORMAT = BINARY
  LINES = 5408
  LINE_SAMPLES = 1197
  SAMPLE_TYPE = UNSIGNED_INTEGER
  SAMPLE_BITS = 8
  BANDS = 1
  BAND_STORAGE_TYPE = BAND_SEQUENTIAL
  MAXIMUM = 164
  MEAN = 116.197
  MINIMUM = 67
  STANDARD_DEVIATION = 12.5719
END_OBJECT = IMAGE
/* MAP OBJECT DEFINITIONS */
OBJECT = IMAGE_MAP_PROJECTION
  ^DATA_SET_MAP_PROJECTION_CATALOG= "DSMAP.CAT"
  A_AXIS_RADIUS = 3396.0
  B_AXIS_RADIUS = 3396.0
  C_AXIS_RADIUS = 3396.0
  CENTER_LATITUDE = 0.0
  CENTER_LONGITUDE = 83.0
  COORDINATE_SYSTEM_NAME = PLANETOGRAPHIC
  COORDINATE_SYSTEM_TYPE = "BODY-FIXED ROTATING"
  EASTERNMOST_LONGITUDE = 83.79349999999999
  FIRST_STANDARD_PARALLEL = "N/A"
  LINE_FIRST_PIXEL = 1
  LINE_LAST_PIXEL = 5408
  LINE_PROJECTION_OFFSET = 3854.0625
  MAP_PROJECTION_ROTATION = 0.0
  MAP_PROJECTION_TYPE = SINUSOIDAL
  MAP_RESOLUTION = 592.713803866667
  MAP_SCALE = 0.1
  MAXIMUM_LATITUDE = 6.47047
  MINIMUM_LATITUDE = -2.64199
  POSITIVE_LONGITUDE_DIRECTION = EAST
  REFERENCE_LATITUDE = "N/A"
  REFERENCE_LONGITUDE = "N/A"
  SAMPLE_FIRST_PIXEL = 1
  SAMPLE_LAST_PIXEL = 1197
  SAMPLE_PROJECTION_OFFSET = 745.3125
  SECOND_STANDARD_PARALLEL = "N/A"
  WESTERNMOST_LONGITUDE = 81.6799
END_OBJECT = IMAGE_MAP_PROJECTION
/* The JPEG2000 image data file associated with this label. */
OBJECT = COMPRESSED_FILE
  FILE_NAME = "H2206_0002_IR3.JP2"
  RECORD_TYPE = UNDEFINED
  FILE_RECORDS = UNK
  ENCODING_TYPE = "JP2"
  INTERCHANGE_FORMAT = BINARY
  UNCOMPRESSED_FILE_NAME = "H2206_0002_IR3.IMG"
  REQUIRED_STORAGE_BYTES = "6491331"
  ^DESCRIPTION = "JP2INFO.TXT"
END_OBJECT = COMPRESSED_FILE
END
