PDS_VERSION_ID = PDS3
/* FILE DATA ELEMENTS */
RECORD_TYPE = STREAM
/* POINTERS TO DATA OBJECTS */
^COMPRESSED_FILE = "H2208_0000_GR3.JP2"
/* IDENTIFICATION DATA ELEMENTS */
DATA_SET_ID = "MEX-M-HRSC-5-REFDR-MAPPROJECTED-V3.0"
DATA_SET_NAME = "MARS EXPRESS HRSC MAP PROJECTED REFDR V3.0"
DETECTOR_ID = MEX_HRSC_GREEN
EVENT_TYPE = "MARS-REGIONAL-MAPPING-Vo-Gl"
INSTRUMENT_HOST_ID = MEX
INSTRUMENT_HOST_NAME = "MARS EXPRESS"
INSTRUMENT_ID = HRSC
INSTRUMENT_NAME = "HIGH RESOLUTION STEREO CAMERA"
MISSION_NAME = "MARS EXPRESS"
MISSION_PHASE_NAME = MR_Phase_7
PROCESSING_LEVEL_ID = 3
PRODUCT_CREATION_TIME = 2016-03-14T22:12:55.000Z
PRODUCT_ID = "H2208_0000_GR3.JP2"
RELEASE_ID = 0028
REVISION_ID = 0000
/* QUALITY DATA ELEMENTS */
DATA_QUALITY_ID = 1
DATA_QUALITY_DESC = "Data calculated based on original SPICE kernels"
/* TIME DATA ELEMENTS */
SPACECRAFT_CLOCK_START_COUNT = "1/0076377525.57302"
SPACECRAFT_CLOCK_STOP_COUNT = "1/0076377833.16927"
START_TIME = 2005-10-02T23:59:58.846Z
STOP_TIME = 2005-10-03T00:03:00.842Z
/* ORBITAL DATA ELEMENTS */
ASCENDING_NODE_LONGITUDE = 181.92
MAXIMUM_RESOLUTION = 68.6
FOOTPRINT_POINT_LATITUDE = (-2.11943,-2.12078,-2.12225,-2.12346, -2.125,-2.00766,-1.78863,-1.57007, -1.35165,-1.13357,-0.915819,-0.698507, -0.481553,-0.264945,-0.0487599,0.166975 ,0.382289,0.597435,0.812069,1.02661, 1.24052,1.56081,1.77393,1.98665,2.19906 ,2.41107,2.62281,2.83423,3.04532, 3.25603,3.46632,3.67654,3.88621,4.09567 ,4.30476,4.51345,4.75825,4.96618,5.1737 ,5.3809,5.58773,5.79421,6.00027,6.2059, 6.41124,6.8208,7.22885,7.63541,8.0404, 8.4439,8.45566,8.4592,8.46221,8.46419, 8.46668,8.46973,8.36959,7.96533,7.55956 ,7.15217,6.74341,6.33312,6.12736, 5.92115,5.71471,5.50785,5.30065,5.09333 ,4.8855,4.53648,4.32726,4.1177,3.80372, 3.59429,3.38453,3.17428,2.96372,2.7531, 2.542,2.33071,2.11884,1.90644,1.69346, 1.47998,1.26602,1.05177,0.837239, 0.622306,0.406933,0.190951,-0.0254424, -0.242537,-0.460142,-0.678195,-0.896317 ,-1.22423,-1.44301,-1.66207,-1.88148, -2.11943)
FOOTPRINT_POINT_LONGITUDE = (246.036,245.795,245.538,245.325, 245.055,244.696,244.69,244.684,244.678, 244.672,244.665,244.659,244.652,244.645 ,244.638,244.631,244.624,244.617, 244.609,244.602,244.594,244.583,244.575 ,244.567,244.559,244.551,244.543, 244.536,244.528,244.52,244.512,244.504, 244.496,244.488,244.48,244.472,244.463, 244.455,244.446,244.438,244.43,244.422, 244.413,244.405,244.396,244.379,244.362 ,244.344,244.326,244.308,244.656, 244.966,245.256,245.469,245.76,246.167, 246.384,246.375,246.366,246.357,246.348 ,246.34,246.335,246.332,246.327,246.323 ,246.319,246.314,246.31,246.303,246.3, 246.297,246.289,246.284,246.279,246.273 ,246.268,246.262,246.257,246.251, 246.246,246.241,246.237,246.232,246.229 ,246.225,246.221,246.217,246.213,246.21 ,246.207,246.205,246.204,246.202,246.2, 246.197,246.195,246.193,246.191, 246.036)
ORBIT_NUMBER = 2208
ORBITAL_ECCENTRICITY = 0.574
ORBITAL_INCLINATION = 86.63
ORBITAL_SEMIMAJOR_AXIS = 8605.47
PERIAPSIS_ALTITUDE = 277.97
PERIAPSIS_ARGUMENT_ANGLE = 330.04
PERIAPSIS_TIME = 2005-10-02T23:52:45.000Z
SPACECRAFT_ORIENTATION = (0.0,1.0,0.0)
^MEX_ORIENTATION_DESC = "MEX_ORIENTATION_DESC.TXT"
SPACECRAFT_POINTING_MODE = NADIR
^MEX_POINTING_DESC = "MEX_POINTING_DESC.TXT"
RIGHT_ASCENSION = -1e+32
DECLINATION = -1e+32
OFFSET_ANGLE = -1e+32
SPACECRAFT_SOLAR_DISTANCE = 2.12688e+08
TARGET_NAME = MARS
/* CAMERA DATA ELEMENTS */
DETECTOR_TEMPERATURE = 18.1666
FOCAL_PLANE_TEMPERATURE = 8.9911
INST_CMPRS_NAME = "DISCRETE COSINE TRANSFORMATION (DCT)"
INST_CMPRS_RATIO = 19.565
INST_CMPRS_QUALITY = 0
INST_CMPRS_QUANTZ_TBL_ID = 0
INSTRUMENT_TEMPERATURE = 11.234
LENS_TEMPERATURE = 8.9911
MACROPIXEL_SIZE = 4
MISSING_FRAMES = 6
PIXEL_SUBSAMPLING_FLAG = N
SIGNAL_CHAIN_ID = 2
/* RADIOMETRIC DATA ELEMENTS */
BANDWIDTH = 88.0
CENTER_FILTER_WAVELENGTH = 538.0
RADIANCE_OFFSET = 2.71784
RADIANCE_SCALING_FACTOR = 0.00639493
REFLECTANCE_SCALING_FACTOR = 0.000249065
MEX:REFLECTANCE_OFFSET = 0.105852
/* IMAGE OBJECT DEFINITIONS */
OBJECT = IMAGE
  INTERCHANGE_FORMAT = BINARY
  LINES = 11978
  LINE_SAMPLES = 2500
  SAMPLE_TYPE = UNSIGNED_INTEGER
  SAMPLE_BITS = 8
  BANDS = 1
  BAND_STORAGE_TYPE = BAND_SEQUENTIAL
  MAXIMUM = 109
  MEAN = 86.2824
  MINIMUM = 55
  STANDARD_DEVIATION = 4.76857
END_OBJECT = IMAGE
/* MAP OBJECT DEFINITIONS */
OBJECT = IMAGE_MAP_PROJECTION
  ^DATA_SET_MAP_PROJECTION_CATALOG= "DSMAP.CAT"
  A_AXIS_RADIUS = 3396.0
  B_AXIS_RADIUS = 3396.0
  C_AXIS_RADIUS = 3396.0
  CENTER_LATITUDE = 0.0
  CENTER_LONGITUDE = 245.0
  COORDINATE_SYSTEM_NAME = PLANETOGRAPHIC
  COORDINATE_SYSTEM_TYPE = "BODY-FIXED ROTATING"
  EASTERNMOST_LONGITUDE = 246.384
  FIRST_STANDARD_PARALLEL = "N/A"
  LINE_FIRST_PIXEL = 1
  LINE_LAST_PIXEL = 11978
  LINE_PROJECTION_OFFSET = 10046.125
  MAP_PROJECTION_ROTATION = 0.0
  MAP_PROJECTION_TYPE = SINUSOIDAL
  MAP_RESOLUTION = 1185.42760773333
  MAP_SCALE = 0.05
  MAXIMUM_LATITUDE = 8.46973
  MINIMUM_LATITUDE = -2.125
  POSITIVE_LONGITUDE_DIRECTION = EAST
  REFERENCE_LATITUDE = "N/A"
  REFERENCE_LONGITUDE = "N/A"
  SAMPLE_FIRST_PIXEL = 1
  SAMPLE_LAST_PIXEL = 2500
  SAMPLE_PROJECTION_OFFSET = 842.625
  SECOND_STANDARD_PARALLEL = "N/A"
  WESTERNMOST_LONGITUDE = 244.308
END_OBJECT = IMAGE_MAP_PROJECTION
/* The JPEG2000 image data file associated with this label. */
OBJECT = COMPRESSED_FILE
  FILE_NAME = "H2208_0000_GR3.JP2"
  RECORD_TYPE = UNDEFINED
  FILE_RECORDS = UNK
  ENCODING_TYPE = "JP2"
  INTERCHANGE_FORMAT = BINARY
  UNCOMPRESSED_FILE_NAME = "H2208_0000_GR3.IMG"
  REQUIRED_STORAGE_BYTES = "29965000"
  ^DESCRIPTION = "JP2INFO.TXT"
END_OBJECT = COMPRESSED_FILE
END
