PDS_VERSION_ID = PDS3
/* FILE DATA ELEMENTS */
RECORD_TYPE = STREAM
/* POINTERS TO DATA OBJECTS */
^COMPRESSED_FILE = "H2208_0000_P13.JP2"
/* IDENTIFICATION DATA ELEMENTS */
DATA_SET_ID = "MEX-M-HRSC-5-REFDR-MAPPROJECTED-V3.0"
DATA_SET_NAME = "MARS EXPRESS HRSC MAP PROJECTED REFDR V3.0"
DETECTOR_ID = MEX_HRSC_P1
EVENT_TYPE = "MARS-REGIONAL-MAPPING-Vo-Gl"
INSTRUMENT_HOST_ID = MEX
INSTRUMENT_HOST_NAME = "MARS EXPRESS"
INSTRUMENT_ID = HRSC
INSTRUMENT_NAME = "HIGH RESOLUTION STEREO CAMERA"
MISSION_NAME = "MARS EXPRESS"
MISSION_PHASE_NAME = MR_Phase_7
PROCESSING_LEVEL_ID = 3
PRODUCT_CREATION_TIME = 2016-03-14T22:12:55.000Z
PRODUCT_ID = "H2208_0000_P13.JP2"
RELEASE_ID = 0028
REVISION_ID = 0000
/* QUALITY DATA ELEMENTS */
DATA_QUALITY_ID = 1
DATA_QUALITY_DESC = "Data calculated based on original SPICE kernels"
/* TIME DATA ELEMENTS */
SPACECRAFT_CLOCK_START_COUNT = "1/0076377525.57302"
SPACECRAFT_CLOCK_STOP_COUNT = "1/0076377833.16927"
START_TIME = 2005-10-02T23:59:59.590Z
STOP_TIME = 2005-10-03T00:03:32.968Z
/* ORBITAL DATA ELEMENTS */
ASCENDING_NODE_LONGITUDE = 181.92
MAXIMUM_RESOLUTION = 35.4
FOOTPRINT_POINT_LATITUDE = (-3.32173,-3.32325,-3.32563,-3.32729, -3.29375,-3.04507,-2.67254,-2.42503, -2.17782,-1.9316,-1.68613,-1.44144, -1.07449,-0.830823,-0.588009,-0.345937, -0.104789,0.135292,0.374256,0.733089, 1.09057,1.4468,1.68269,1.91856,2.27047, 2.50507,2.85616,3.08943,3.43875,3.67136 ,3.9029,4.13473,4.36566,4.59606,4.82593 ,5.05512,5.28373,5.51193,5.73958, 5.96646,6.19267,6.4185,6.64352,6.86822, 7.09242,7.31571,7.53856,7.98234,8.4237, 8.44961,8.45544,8.46109,8.46463,8.46701 ,8.4682,8.02658,7.58249,7.35948,7.13604 ,6.91173,6.68704,6.46165,6.23575, 5.89516,5.66778,5.32529,5.09717,4.8688, 4.63962,4.40812,4.17561,3.82884,3.59987 ,3.37093,3.13929,2.90872,2.67949, 2.44865,2.10082,1.86725,1.51321,1.2756, 1.03758,0.799357,0.559696,0.319425, 0.0772459,-0.166448,-0.412599,-0.659767 ,-0.906314,-1.15298,-1.39975,-1.77045, -2.01776,-2.26544,-2.51291,-2.76101, -3.00958,-3.32173)
FOOTPRINT_POINT_LONGITUDE = (246.07,245.772,245.37,245.132,244.697, 244.69,244.68,244.673,244.666,244.659, 244.651,244.643,244.632,244.624,244.616 ,244.608,244.6,244.591,244.582,244.569, 244.556,244.543,244.533,244.524,244.509 ,244.5,244.486,244.476,244.462,244.453, 244.443,244.434,244.424,244.414,244.405 ,244.395,244.385,244.375,244.365, 244.355,244.345,244.335,244.325,244.314 ,244.304,244.293,244.283,244.261,244.24 ,244.516,244.901,245.371,245.799, 246.141,246.448,246.436,246.424,246.418 ,246.413,246.407,246.402,246.396,246.39 ,246.383,246.377,246.369,246.364, 246.358,246.353,246.348,246.343,246.335 ,246.329,246.322,246.316,246.309, 246.302,246.295,246.285,246.278,246.27, 246.265,246.261,246.256,246.251,246.246 ,246.243,246.239,246.237,246.235, 246.232,246.23,246.227,246.222,246.219, 246.215,246.212,246.208,246.205,246.07)
ORBIT_NUMBER = 2208
ORBITAL_ECCENTRICITY = 0.574
ORBITAL_INCLINATION = 86.63
ORBITAL_SEMIMAJOR_AXIS = 8605.47
PERIAPSIS_ALTITUDE = 277.97
PERIAPSIS_ARGUMENT_ANGLE = 330.04
PERIAPSIS_TIME = 2005-10-02T23:52:45.000Z
SPACECRAFT_ORIENTATION = (0.0,1.0,0.0)
^MEX_ORIENTATION_DESC = "MEX_ORIENTATION_DESC.TXT"
SPACECRAFT_POINTING_MODE = NADIR
^MEX_POINTING_DESC = "MEX_POINTING_DESC.TXT"
RIGHT_ASCENSION = -1e+32
DECLINATION = -1e+32
OFFSET_ANGLE = -1e+32
SPACECRAFT_SOLAR_DISTANCE = 2.12688e+08
TARGET_NAME = MARS
/* CAMERA DATA ELEMENTS */
DETECTOR_TEMPERATURE = 17.351
FOCAL_PLANE_TEMPERATURE = 8.9911
INST_CMPRS_NAME = "DISCRETE COSINE TRANSFORMATION (DCT)"
INST_CMPRS_RATIO = 14.3253
INST_CMPRS_QUALITY = 0
INST_CMPRS_QUANTZ_TBL_ID = 0
INSTRUMENT_TEMPERATURE = 11.234
LENS_TEMPERATURE = 8.9911
MACROPIXEL_SIZE = 2
MISSING_FRAMES = 0
PIXEL_SUBSAMPLING_FLAG = N
SIGNAL_CHAIN_ID = 3
/* RADIOMETRIC DATA ELEMENTS */
BANDWIDTH = 174.0
CENTER_FILTER_WAVELENGTH = 675.0
RADIANCE_OFFSET = 8.98652
RADIANCE_SCALING_FACTOR = 0.0228839
REFLECTANCE_SCALING_FACTOR = 0.000556804
MEX:REFLECTANCE_OFFSET = 0.218657
/* IMAGE OBJECT DEFINITIONS */
OBJECT = IMAGE
  INTERCHANGE_FORMAT = BINARY
  LINES = 23956
  LINE_SAMPLES = 5000
  SAMPLE_TYPE = UNSIGNED_INTEGER
  SAMPLE_BITS = 8
  BANDS = 1
  BAND_STORAGE_TYPE = BAND_SEQUENTIAL
  MAXIMUM = 134
  MEAN = 106.306
  MINIMUM = 59
  STANDARD_DEVIATION = 5.83056
END_OBJECT = IMAGE
/* MAP OBJECT DEFINITIONS */
OBJECT = IMAGE_MAP_PROJECTION
  ^DATA_SET_MAP_PROJECTION_CATALOG= "DSMAP.CAT"
  A_AXIS_RADIUS = 3396.0
  B_AXIS_RADIUS = 3396.0
  C_AXIS_RADIUS = 3396.0
  CENTER_LATITUDE = 0.0
  CENTER_LONGITUDE = 245.0
  COORDINATE_SYSTEM_NAME = PLANETOGRAPHIC
  COORDINATE_SYSTEM_TYPE = "BODY-FIXED ROTATING"
  EASTERNMOST_LONGITUDE = 246.448
  FIRST_STANDARD_PARALLEL = "N/A"
  LINE_FIRST_PIXEL = 1
  LINE_LAST_PIXEL = 23956
  LINE_PROJECTION_OFFSET = 20092.75
  MAP_PROJECTION_ROTATION = 0.0
  MAP_PROJECTION_TYPE = SINUSOIDAL
  MAP_RESOLUTION = 2370.85521546667
  MAP_SCALE = 0.025
  MAXIMUM_LATITUDE = 8.4682
  MINIMUM_LATITUDE = -3.32729
  POSITIVE_LONGITUDE_DIRECTION = EAST
  REFERENCE_LATITUDE = "N/A"
  REFERENCE_LONGITUDE = "N/A"
  SAMPLE_FIRST_PIXEL = 1
  SAMPLE_LAST_PIXEL = 5000
  SAMPLE_PROJECTION_OFFSET = 1685.75
  SECOND_STANDARD_PARALLEL = "N/A"
  WESTERNMOST_LONGITUDE = 244.24
END_OBJECT = IMAGE_MAP_PROJECTION
/* The JPEG2000 image data file associated with this label. */
OBJECT = COMPRESSED_FILE
  FILE_NAME = "H2208_0000_P13.JP2"
  RECORD_TYPE = UNDEFINED
  FILE_RECORDS = UNK
  ENCODING_TYPE = "JP2"
  INTERCHANGE_FORMAT = BINARY
  UNCOMPRESSED_FILE_NAME = "H2208_0000_P13.IMG"
  REQUIRED_STORAGE_BYTES = "119805000"
  ^DESCRIPTION = "JP2INFO.TXT"
END_OBJECT = COMPRESSED_FILE
END
