PDS_VERSION_ID = PDS3
/* FILE DATA ELEMENTS */
RECORD_TYPE = STREAM
/* POINTERS TO DATA OBJECTS */
^COMPRESSED_FILE = "H2208_0000_P23.JP2"
/* IDENTIFICATION DATA ELEMENTS */
DATA_SET_ID = "MEX-M-HRSC-5-REFDR-MAPPROJECTED-V3.0"
DATA_SET_NAME = "MARS EXPRESS HRSC MAP PROJECTED REFDR V3.0"
DETECTOR_ID = MEX_HRSC_P2
EVENT_TYPE = "MARS-REGIONAL-MAPPING-Vo-Gl"
INSTRUMENT_HOST_ID = MEX
INSTRUMENT_HOST_NAME = "MARS EXPRESS"
INSTRUMENT_ID = HRSC
INSTRUMENT_NAME = "HIGH RESOLUTION STEREO CAMERA"
MISSION_NAME = "MARS EXPRESS"
MISSION_PHASE_NAME = MR_Phase_7
PROCESSING_LEVEL_ID = 3
PRODUCT_CREATION_TIME = 2016-03-14T22:12:55.000Z
PRODUCT_ID = "H2208_0000_P23.JP2"
RELEASE_ID = 0028
REVISION_ID = 0000
/* QUALITY DATA ELEMENTS */
DATA_QUALITY_ID = 1
DATA_QUALITY_DESC = "Data calculated based on original SPICE kernels"
/* TIME DATA ELEMENTS */
SPACECRAFT_CLOCK_START_COUNT = "1/0076377525.57302"
SPACECRAFT_CLOCK_STOP_COUNT = "1/0076377833.16927"
START_TIME = 2005-10-02T23:59:59.643Z
STOP_TIME = 2005-10-03T00:02:14.080Z
/* ORBITAL DATA ELEMENTS */
ASCENDING_NODE_LONGITUDE = 181.92
MAXIMUM_RESOLUTION = 35.2
FOOTPRINT_POINT_LATITUDE = (0.048504,0.0465368,0.0450303,0.0431688 ,0.0418114,0.0406077,0.173096,0.345955, 0.518359,0.690547,0.863235,1.03492, 1.20725,1.37884,1.551,1.72299,1.98088, 2.15275,2.40977,2.58104,2.75192,2.92248 ,3.09278,3.26317,3.4334,3.60374,3.77318 ,3.94242,4.19553,4.36428,4.5329,4.70138 ,4.86962,5.03778,5.20585,5.37365, 5.54126,5.70864,5.87605,6.04352,6.29438 ,6.46119,6.71115,6.87753,7.12689, 7.45904,7.7906,8.12149,8.45169,8.46406, 8.4671,8.4688,8.4717,8.47384,8.47612, 8.47864,8.48159,8.06802,7.73662,7.48752 ,7.32137,7.1553,6.98858,6.82196,6.65507 ,6.48811,6.32093,6.0703,5.90331,5.65172 ,5.484,5.31596,5.14749,4.97758,4.80937, 4.63996,4.38822,4.22031,4.0518,3.88058, 3.70858,3.53707,3.27841,3.106,2.93328, 2.75946,2.49895,2.32466,2.15,1.97648, 1.71733,1.54473,1.2867,1.11457,0.855546 ,0.682829,0.510538,0.338518,0.167275, 0.048504)
FOOTPRINT_POINT_LONGITUDE = (245.972,245.763,245.584,245.33,245.106 ,244.868,244.666,244.661,244.656,244.65 ,244.645,244.639,244.634,244.628, 244.623,244.617,244.608,244.602,244.593 ,244.587,244.581,244.576,244.57,244.564 ,244.558,244.552,244.546,244.54,244.531 ,244.526,244.52,244.514,244.508,244.502 ,244.496,244.49,244.484,244.478,244.471 ,244.465,244.456,244.449,244.44,244.433 ,244.424,244.411,244.398,244.384, 244.371,244.596,244.954,245.141,245.423 ,245.611,245.8,246.025,246.315,246.307, 246.301,246.296,246.294,246.291,246.288 ,246.285,246.282,246.279,246.276, 246.272,246.27,246.266,246.263,246.26, 246.257,246.254,246.252,246.249,246.245 ,246.243,246.241,246.238,246.234, 246.231,246.225,246.221,246.218,246.214 ,246.208,246.204,246.2,246.196,246.192, 246.189,246.185,246.182,246.178,246.176 ,246.173,246.171,246.169,245.972)
ORBIT_NUMBER = 2208
ORBITAL_ECCENTRICITY = 0.574
ORBITAL_INCLINATION = 86.63
ORBITAL_SEMIMAJOR_AXIS = 8605.47
PERIAPSIS_ALTITUDE = 277.97
PERIAPSIS_ARGUMENT_ANGLE = 330.04
PERIAPSIS_TIME = 2005-10-02T23:52:45.000Z
SPACECRAFT_ORIENTATION = (0.0,1.0,0.0)
^MEX_ORIENTATION_DESC = "MEX_ORIENTATION_DESC.TXT"
SPACECRAFT_POINTING_MODE = NADIR
^MEX_POINTING_DESC = "MEX_POINTING_DESC.TXT"
RIGHT_ASCENSION = -1e+32
DECLINATION = -1e+32
OFFSET_ANGLE = -1e+32
SPACECRAFT_SOLAR_DISTANCE = 2.12688e+08
TARGET_NAME = MARS
/* CAMERA DATA ELEMENTS */
DETECTOR_TEMPERATURE = 18.7783
FOCAL_PLANE_TEMPERATURE = 8.9911
INST_CMPRS_NAME = "DISCRETE COSINE TRANSFORMATION (DCT)"
INST_CMPRS_RATIO = 7.6119
INST_CMPRS_QUALITY = 0
INST_CMPRS_QUANTZ_TBL_ID = 0
INSTRUMENT_TEMPERATURE = 11.234
LENS_TEMPERATURE = 8.9911
MACROPIXEL_SIZE = 2
MISSING_FRAMES = 0
PIXEL_SUBSAMPLING_FLAG = N
SIGNAL_CHAIN_ID = 3
/* RADIOMETRIC DATA ELEMENTS */
BANDWIDTH = 177.0
CENTER_FILTER_WAVELENGTH = 676.5
RADIANCE_OFFSET = 10.9917
RADIANCE_SCALING_FACTOR = 0.0193073
REFLECTANCE_SCALING_FACTOR = 0.000463091
MEX:REFLECTANCE_OFFSET = 0.263639
/* IMAGE OBJECT DEFINITIONS */
OBJECT = IMAGE
  INTERCHANGE_FORMAT = BINARY
  LINES = 23956
  LINE_SAMPLES = 5000
  SAMPLE_TYPE = UNSIGNED_INTEGER
  SAMPLE_BITS = 8
  BANDS = 1
  BAND_STORAGE_TYPE = BAND_SEQUENTIAL
  MAXIMUM = 146
  MEAN = 116.67
  MINIMUM = 81
  STANDARD_DEVIATION = 6.66683
END_OBJECT = IMAGE
/* MAP OBJECT DEFINITIONS */
OBJECT = IMAGE_MAP_PROJECTION
  ^DATA_SET_MAP_PROJECTION_CATALOG= "DSMAP.CAT"
  A_AXIS_RADIUS = 3396.0
  B_AXIS_RADIUS = 3396.0
  C_AXIS_RADIUS = 3396.0
  CENTER_LATITUDE = 0.0
  CENTER_LONGITUDE = 245.0
  COORDINATE_SYSTEM_NAME = PLANETOGRAPHIC
  COORDINATE_SYSTEM_TYPE = "BODY-FIXED ROTATING"
  EASTERNMOST_LONGITUDE = 246.315
  FIRST_STANDARD_PARALLEL = "N/A"
  LINE_FIRST_PIXEL = 1
  LINE_LAST_PIXEL = 23956
  LINE_PROJECTION_OFFSET = 20092.75
  MAP_PROJECTION_ROTATION = 0.0
  MAP_PROJECTION_TYPE = SINUSOIDAL
  MAP_RESOLUTION = 2370.85521546667
  MAP_SCALE = 0.025
  MAXIMUM_LATITUDE = 8.481590000000001
  MINIMUM_LATITUDE = 0.040608
  POSITIVE_LONGITUDE_DIRECTION = EAST
  REFERENCE_LATITUDE = "N/A"
  REFERENCE_LONGITUDE = "N/A"
  SAMPLE_FIRST_PIXEL = 1
  SAMPLE_LAST_PIXEL = 5000
  SAMPLE_PROJECTION_OFFSET = 1685.75
  SECOND_STANDARD_PARALLEL = "N/A"
  WESTERNMOST_LONGITUDE = 244.371
END_OBJECT = IMAGE_MAP_PROJECTION
/* The JPEG2000 image data file associated with this label. */
OBJECT = COMPRESSED_FILE
  FILE_NAME = "H2208_0000_P23.JP2"
  RECORD_TYPE = UNDEFINED
  FILE_RECORDS = UNK
  ENCODING_TYPE = "JP2"
  INTERCHANGE_FORMAT = BINARY
  UNCOMPRESSED_FILE_NAME = "H2208_0000_P23.IMG"
  REQUIRED_STORAGE_BYTES = "119805000"
  ^DESCRIPTION = "JP2INFO.TXT"
END_OBJECT = COMPRESSED_FILE
END
