PDS_VERSION_ID = PDS3
/* FILE DATA ELEMENTS */
RECORD_TYPE = STREAM
/* POINTERS TO DATA OBJECTS */
^COMPRESSED_FILE = "H2209_0004_SR3.JP2"
/* IDENTIFICATION DATA ELEMENTS */
DATA_SET_ID = "MEX-M-HRSC-5-REFDR-MAPPROJECTED-V3.0"
DATA_SET_NAME = "MARS EXPRESS HRSC MAP PROJECTED REFDR V3.0"
DETECTOR_ID = MEX_HRSC_SRC
EVENT_TYPE = "MARS-REGIONAL-MAPPING-Vo-Te-Gl"
INSTRUMENT_HOST_ID = MEX
INSTRUMENT_HOST_NAME = "MARS EXPRESS"
INSTRUMENT_ID = HRSC
INSTRUMENT_NAME = "HIGH RESOLUTION STEREO CAMERA"
MISSION_NAME = "MARS EXPRESS"
MISSION_PHASE_NAME = MR_Phase_7
PROCESSING_LEVEL_ID = 3
PRODUCT_CREATION_TIME = 2016-03-14T22:12:55.000Z
PRODUCT_ID = "H2209_0004_SR3.JP2"
RELEASE_ID = 0028
REVISION_ID = 0000
/* QUALITY DATA ELEMENTS */
DATA_QUALITY_ID = 1
DATA_QUALITY_DESC = "Data calculated based on original SPICE kernels"
/* TIME DATA ELEMENTS */
SPACECRAFT_CLOCK_START_COUNT = "1/0076400447.56199"
SPACECRAFT_CLOCK_STOP_COUNT = "1/0076400914.03344"
IMAGE_TIME = 2005-10-03T06:24:34.324Z
START_TIME = 2005-10-03T06:24:34.322Z
STOP_TIME = 2005-10-03T06:24:34.327Z
/* ORBITAL DATA ELEMENTS */
ASCENDING_NODE_LONGITUDE = 181.89
MAXIMUM_RESOLUTION = 6.154
FOOTPRINT_POINT_LATITUDE = (-71.8967,-71.894,-71.8898,-71.885, -71.882,-71.8787,-71.8752,-71.8706, -71.8645,-71.8603,-71.8557,-71.8497, -71.8452,-71.8421,-71.8365,-71.8314, -71.8279,-71.8219,-71.8159,-71.8102, -71.8062,-71.8024,-71.7979,-71.795, -71.7958,-71.7967,-71.7975,-71.7984, -71.7992,-71.8,-71.8009,-71.8017, -71.8026,-71.8034,-71.8042,-71.8051, -71.8059,-71.8067,-71.8076,-71.8084, -71.8092,-71.8101,-71.8109,-71.8117, -71.8125,-71.8134,-71.8142,-71.815, -71.8164,-71.8191,-71.8241,-71.8294, -71.8356,-71.84,-71.8433,-71.848, -71.8516,-71.8565,-71.8623,-71.8657, -71.8696,-71.873,-71.8761,-71.8807, -71.8834,-71.887,-71.8917,-71.8945, -71.8974,-71.902,-71.907,-71.9101, -71.915,-71.9181,-71.9181,-71.9172, -71.9164,-71.9156,-71.9147,-71.9139, -71.9131,-71.9123,-71.9114,-71.9106, -71.9098,-71.9089,-71.9081,-71.9073, -71.9064,-71.9056,-71.9047,-71.9039, -71.9031,-71.9022,-71.9014,-71.9005, -71.8997,-71.8988,-71.898,-71.8967)
FOOTPRINT_POINT_LONGITUDE = (139.229,139.231,139.234,139.237, 139.239,139.241,139.244,139.247,139.251 ,139.254,139.257,139.261,139.264, 139.266,139.269,139.273,139.275,139.279 ,139.283,139.287,139.289,139.292, 139.295,139.304,139.317,139.33,139.343, 139.356,139.37,139.383,139.396,139.409, 139.422,139.435,139.448,139.461,139.475 ,139.488,139.501,139.514,139.527,139.54 ,139.553,139.566,139.579,139.593, 139.606,139.619,139.63,139.629,139.625, 139.622,139.618,139.615,139.613,139.61, 139.608,139.604,139.601,139.599,139.596 ,139.594,139.592,139.589,139.587, 139.585,139.582,139.58,139.578,139.575, 139.572,139.57,139.567,139.565,139.554, 139.541,139.528,139.514,139.501,139.488 ,139.475,139.462,139.448,139.435, 139.422,139.409,139.396,139.383,139.369 ,139.356,139.343,139.33,139.317,139.303 ,139.29,139.277,139.264,139.251,139.238 ,139.229)
ORBIT_NUMBER = 2209
ORBITAL_ECCENTRICITY = 0.573
ORBITAL_INCLINATION = 86.62
ORBITAL_SEMIMAJOR_AXIS = 8599.18
PERIAPSIS_ALTITUDE = 279.11
PERIAPSIS_ARGUMENT_ANGLE = 329.92
PERIAPSIS_TIME = 2005-10-03T06:35:50.000Z
SPACECRAFT_ORIENTATION = (0.0,1.0,0.0)
^MEX_ORIENTATION_DESC = "MEX_ORIENTATION_DESC.TXT"
SPACECRAFT_POINTING_MODE = ACROSSTRACK
^MEX_POINTING_DESC = "MEX_POINTING_DESC.TXT"
RIGHT_ASCENSION = -1e+32
DECLINATION = -1e+32
OFFSET_ANGLE = 0.6
SPACECRAFT_SOLAR_DISTANCE = 2.12729e+08
TARGET_NAME = MARS
/* CAMERA DATA ELEMENTS */
BUFFER_MODE_ID = BUFFER_8
EXPOSURE_DURATION = 5.04
INST_CMPRS_NAME = NONE
INST_CMPRS_RATIO = 1.0
INST_CMPRS_QUALITY = -2147483648
INST_CMPRS_QUANTZ_TBL_ID = -2147483648
INSTRUMENT_TEMPERATURE = 5.15152
MISSING_FRAMES = 0
START_BIT = 0
/* RADIOMETRIC DATA ELEMENTS */
BANDWIDTH = 250.0
CENTER_FILTER_WAVELENGTH = 600.0
RADIANCE_OFFSET = -9.99e+31
RADIANCE_SCALING_FACTOR = -9.99e+31
REFLECTANCE_SCALING_FACTOR = -9.99e+31
MEX:REFLECTANCE_OFFSET = -9.99e+31
/* IMAGE OBJECT DEFINITIONS */
OBJECT = IMAGE
  INTERCHANGE_FORMAT = BINARY
  LINES = 1553
  LINE_SAMPLES = 1571
  SAMPLE_TYPE = UNSIGNED_INTEGER
  SAMPLE_BITS = 8
  BANDS = 1
  BAND_STORAGE_TYPE = BAND_SEQUENTIAL
  MAXIMUM = 5923
  MEAN = 5430.8
  MINIMUM = 4473
  STANDARD_DEVIATION = 117.234
END_OBJECT = IMAGE
/* MAP OBJECT DEFINITIONS */
OBJECT = IMAGE_MAP_PROJECTION
  ^DATA_SET_MAP_PROJECTION_CATALOG= "DSMAP.CAT"
  A_AXIS_RADIUS = 3396.19
  B_AXIS_RADIUS = 3396.19
  C_AXIS_RADIUS = 3396.19
  CENTER_LATITUDE = 0.0
  CENTER_LONGITUDE = 139.0
  COORDINATE_SYSTEM_NAME = PLANETOGRAPHIC
  COORDINATE_SYSTEM_TYPE = "BODY-FIXED ROTATING"
  EASTERNMOST_LONGITUDE = 139.63
  FIRST_STANDARD_PARALLEL = "N/A"
  LINE_FIRST_PIXEL = 1
  LINE_LAST_PIXEL = 1553
  LINE_PROJECTION_OFFSET = -849113.0
  MAP_PROJECTION_ROTATION = 0.0
  MAP_PROJECTION_TYPE = SINUSOIDAL
  MAP_RESOLUTION = 11854.9393024378
  MAP_SCALE = 0.005
  MAXIMUM_LATITUDE = -71.795
  MINIMUM_LATITUDE = -71.9181
  POSITIVE_LONGITUDE_DIRECTION = EAST
  REFERENCE_LATITUDE = "N/A"
  REFERENCE_LONGITUDE = "N/A"
  SAMPLE_FIRST_PIXEL = 1
  SAMPLE_LAST_PIXEL = 1571
  SAMPLE_PROJECTION_OFFSET = -575.0
  SECOND_STANDARD_PARALLEL = "N/A"
  WESTERNMOST_LONGITUDE = 139.229
END_OBJECT = IMAGE_MAP_PROJECTION
/* The JPEG2000 image data file associated with this label. */
OBJECT = COMPRESSED_FILE
  FILE_NAME = "H2209_0004_SR3.JP2"
  RECORD_TYPE = UNDEFINED
  FILE_RECORDS = UNK
  ENCODING_TYPE = "JP2"
  INTERCHANGE_FORMAT = BINARY
  UNCOMPRESSED_FILE_NAME = "H2209_0004_SR3.IMG"
  REQUIRED_STORAGE_BYTES = "2458615"
  ^DESCRIPTION = "JP2INFO.TXT"
END_OBJECT = COMPRESSED_FILE
END
