PDS_VERSION_ID = PDS3
/* FILE DATA ELEMENTS */
RECORD_TYPE = STREAM
/* POINTERS TO DATA OBJECTS */
^COMPRESSED_FILE = "H2210_0000_BL3.JP2"
/* IDENTIFICATION DATA ELEMENTS */
DATA_SET_ID = "MEX-M-HRSC-5-REFDR-MAPPROJECTED-V3.0"
DATA_SET_NAME = "MARS EXPRESS HRSC MAP PROJECTED REFDR V3.0"
DETECTOR_ID = MEX_HRSC_BLUE
EVENT_TYPE = "MARS-REGIONAL-MAPPING-Vo-Im"
INSTRUMENT_HOST_ID = MEX
INSTRUMENT_HOST_NAME = "MARS EXPRESS"
INSTRUMENT_ID = HRSC
INSTRUMENT_NAME = "HIGH RESOLUTION STEREO CAMERA"
MISSION_NAME = "MARS EXPRESS"
MISSION_PHASE_NAME = MR_Phase_7
PROCESSING_LEVEL_ID = 3
PRODUCT_CREATION_TIME = 2016-03-14T22:12:55.000Z
PRODUCT_ID = "H2210_0000_BL3.JP2"
RELEASE_ID = 0028
REVISION_ID = 0000
/* QUALITY DATA ELEMENTS */
DATA_QUALITY_ID = 1
DATA_QUALITY_DESC = "Data calculated based on original SPICE kernels"
/* TIME DATA ELEMENTS */
SPACECRAFT_CLOCK_START_COUNT = "1/0076424886.57150"
SPACECRAFT_CLOCK_STOP_COUNT = "1/0076425300.14650"
START_TIME = 2005-10-03T13:09:10.933Z
STOP_TIME = 2005-10-03T13:14:29.872Z
/* ORBITAL DATA ELEMENTS */
ASCENDING_NODE_LONGITUDE = 181.87
MAXIMUM_RESOLUTION = 55.5
FOOTPRINT_POINT_LATITUDE = (-66.3302,-66.2623,-66.1782,-66.1307, -66.0795,-65.8066,-65.3669,-64.9254, -64.4811,-63.8102,-63.3624,-62.9197, -62.4822,-61.8322,-61.1923,-60.5615, -59.9408,-59.3278,-58.9224,-58.5238, -58.1262,-57.7343,-57.3438,-56.9585, -56.5752,-56.1966,-55.8188,-55.4473, -55.0749,-54.528,-54.1631,-53.8062, -53.4485,-53.0942,-52.7443,-52.2178, -51.8662,-51.5134,-51.1597,-50.628, -50.2736,-49.917,-49.5594,-49.0311, -48.7322,-48.4302,-48.1288,-47.827, -47.525,-47.2222,-47.0155,-47.051, -47.2257,-47.5299,-47.8336,-48.1378, -48.4399,-48.7437,-49.0456,-49.3835, -49.7429,-50.1015,-50.4595,-50.8177, -51.1743,-51.5302,-51.8855,-52.2402, -52.5942,-52.9476,-53.3,-53.8396, -54.1993,-54.7493,-55.1167,-55.491, -55.8661,-56.4374,-56.8195,-57.2091, -57.5985,-57.9948,-58.5935,-58.9972, -59.4061,-60.0252,-60.4426,-60.8658, -61.2912,-61.7225,-62.1586,-62.5976, -63.0423,-63.493,-63.9479,-64.4048, -65.0872,-65.5399,-65.9904,-66.3302)
FOOTPRINT_POINT_LONGITUDE = (46.339,44.9516,43.5165,42.7982,42.0779 ,41.7257,41.946,42.1601,42.3642,42.6558 ,42.8405,43.019,43.1853,43.4192,43.6392 ,43.8438,44.0379,44.2176,44.3326, 44.4414,44.5465,44.6478,44.7438,44.8369 ,44.9271,45.0124,45.0964,45.1755, 45.2526,45.3625,45.4337,45.5014,45.5678 ,45.6311,45.6927,45.7818,45.8408, 45.8971,45.9515,46.0316,46.0869,46.1357 ,46.1826,46.2526,46.2971,46.3314, 46.3688,46.4056,46.4425,46.4779,46.8586 ,47.6322,48.2893,48.2758,48.2621,48.248 ,48.234,48.2192,48.2046,48.1877,48.1694 ,48.1509,48.1319,48.1121,48.0923, 48.0722,48.0515,48.0303,48.0087,47.9866 ,47.9641,47.9286,47.9044,47.866,47.8395 ,47.8118,47.7832,47.7382,47.7071, 47.6745,47.641,47.6063,47.5514,47.5131, 47.4729,47.41,47.3661,47.3197,47.272, 47.2217,47.1689,47.1141,47.0561,46.9949 ,46.9305,46.8641,46.759,46.6856,46.61, 46.339)
ORBIT_NUMBER = 2210
ORBITAL_ECCENTRICITY = 0.573
ORBITAL_INCLINATION = 86.63
ORBITAL_SEMIMAJOR_AXIS = 8601.89
PERIAPSIS_ALTITUDE = 278.47
PERIAPSIS_ARGUMENT_ANGLE = 329.73
PERIAPSIS_TIME = 2005-10-03T13:18:51.000Z
SPACECRAFT_ORIENTATION = (0.0,1.0,0.0)
^MEX_ORIENTATION_DESC = "MEX_ORIENTATION_DESC.TXT"
SPACECRAFT_POINTING_MODE = ACROSSTRACK
^MEX_POINTING_DESC = "MEX_POINTING_DESC.TXT"
RIGHT_ASCENSION = -1e+32
DECLINATION = -1e+32
OFFSET_ANGLE = 0.55
SPACECRAFT_SOLAR_DISTANCE = 2.1277e+08
TARGET_NAME = MARS
/* CAMERA DATA ELEMENTS */
DETECTOR_TEMPERATURE = 18.5744
FOCAL_PLANE_TEMPERATURE = 9.3989
INST_CMPRS_NAME = "DISCRETE COSINE TRANSFORMATION (DCT)"
INST_CMPRS_RATIO = 21.6896
INST_CMPRS_QUALITY = 0
INST_CMPRS_QUANTZ_TBL_ID = 0
INSTRUMENT_TEMPERATURE = 11.6418
LENS_TEMPERATURE = 9.8067
MACROPIXEL_SIZE = 4
MISSING_FRAMES = 0
PIXEL_SUBSAMPLING_FLAG = N
SIGNAL_CHAIN_ID = 2
/* RADIOMETRIC DATA ELEMENTS */
BANDWIDTH = 76.0
CENTER_FILTER_WAVELENGTH = 444.0
RADIANCE_OFFSET = 0.717064
RADIANCE_SCALING_FACTOR = 0.00222001
REFLECTANCE_SCALING_FACTOR = 0.000103259
MEX:REFLECTANCE_OFFSET = 0.0333526
/* IMAGE OBJECT DEFINITIONS */
OBJECT = IMAGE
  INTERCHANGE_FORMAT = BINARY
  LINES = 22878
  LINE_SAMPLES = 3976
  SAMPLE_TYPE = UNSIGNED_INTEGER
  SAMPLE_BITS = 8
  BANDS = 1
  BAND_STORAGE_TYPE = BAND_SEQUENTIAL
  MAXIMUM = 138
  MEAN = 107.855
  MINIMUM = 68
  STANDARD_DEVIATION = 11.2598
END_OBJECT = IMAGE
/* MAP OBJECT DEFINITIONS */
OBJECT = IMAGE_MAP_PROJECTION
  ^DATA_SET_MAP_PROJECTION_CATALOG= "DSMAP.CAT"
  A_AXIS_RADIUS = 3396.0
  B_AXIS_RADIUS = 3396.0
  C_AXIS_RADIUS = 3396.0
  CENTER_LATITUDE = 0.0
  CENTER_LONGITUDE = 46.0
  COORDINATE_SYSTEM_NAME = PLANETOGRAPHIC
  COORDINATE_SYSTEM_TYPE = "BODY-FIXED ROTATING"
  EASTERNMOST_LONGITUDE = 48.2893
  FIRST_STANDARD_PARALLEL = "N/A"
  LINE_FIRST_PIXEL = 1
  LINE_LAST_PIXEL = 22878
  LINE_PROJECTION_OFFSET = -55717.125
  MAP_PROJECTION_ROTATION = 0.0
  MAP_PROJECTION_TYPE = SINUSOIDAL
  MAP_RESOLUTION = 1185.42760773333
  MAP_SCALE = 0.05
  MAXIMUM_LATITUDE = -47.0155
  MINIMUM_LATITUDE = -66.3302
  POSITIVE_LONGITUDE_DIRECTION = EAST
  REFERENCE_LATITUDE = "N/A"
  REFERENCE_LONGITUDE = "N/A"
  SAMPLE_FIRST_PIXEL = 1
  SAMPLE_LAST_PIXEL = 3976
  SAMPLE_PROJECTION_OFFSET = 2128.625
  SECOND_STANDARD_PARALLEL = "N/A"
  WESTERNMOST_LONGITUDE = 41.7257
END_OBJECT = IMAGE_MAP_PROJECTION
/* The JPEG2000 image data file associated with this label. */
OBJECT = COMPRESSED_FILE
  FILE_NAME = "H2210_0000_BL3.JP2"
  RECORD_TYPE = UNDEFINED
  FILE_RECORDS = UNK
  ENCODING_TYPE = "JP2"
  INTERCHANGE_FORMAT = BINARY
  UNCOMPRESSED_FILE_NAME = "H2210_0000_BL3.IMG"
  REQUIRED_STORAGE_BYTES = "90986784"
  ^DESCRIPTION = "JP2INFO.TXT"
END_OBJECT = COMPRESSED_FILE
END
