PDS_VERSION_ID = PDS3
/* FILE DATA ELEMENTS */
RECORD_TYPE = STREAM
/* POINTERS TO DATA OBJECTS */
^COMPRESSED_FILE = "H2210_0000_S23.JP2"
/* IDENTIFICATION DATA ELEMENTS */
DATA_SET_ID = "MEX-M-HRSC-5-REFDR-MAPPROJECTED-V3.0"
DATA_SET_NAME = "MARS EXPRESS HRSC MAP PROJECTED REFDR V3.0"
DETECTOR_ID = MEX_HRSC_S2
EVENT_TYPE = "MARS-REGIONAL-MAPPING-Vo-Im"
INSTRUMENT_HOST_ID = MEX
INSTRUMENT_HOST_NAME = "MARS EXPRESS"
INSTRUMENT_ID = HRSC
INSTRUMENT_NAME = "HIGH RESOLUTION STEREO CAMERA"
MISSION_NAME = "MARS EXPRESS"
MISSION_PHASE_NAME = MR_Phase_7
PROCESSING_LEVEL_ID = 3
PRODUCT_CREATION_TIME = 2016-03-14T22:12:55.000Z
PRODUCT_ID = "H2210_0000_S23.JP2"
RELEASE_ID = 0028
REVISION_ID = 0000
/* QUALITY DATA ELEMENTS */
DATA_QUALITY_ID = 1
DATA_QUALITY_DESC = "Data calculated based on original SPICE kernels"
/* TIME DATA ELEMENTS */
SPACECRAFT_CLOCK_START_COUNT = "1/0076424886.57150"
SPACECRAFT_CLOCK_STOP_COUNT = "1/0076425300.14650"
START_TIME = 2005-10-03T13:08:13.963Z
STOP_TIME = 2005-10-03T13:14:01.840Z
/* ORBITAL DATA ELEMENTS */
ASCENDING_NODE_LONGITUDE = 181.87
MAXIMUM_RESOLUTION = 30.7
FOOTPRINT_POINT_LATITUDE = (-66.4788,-66.4329,-66.3816,-66.3247, -66.2621,-66.1939,-66.0179,-65.6237, -65.2259,-64.6239,-64.2213,-63.8072, -63.3993,-62.9877,-62.5637,-62.15, -61.7265,-61.3006,-60.8742,-60.4526, -60.0343,-59.6181,-59.2056,-58.7998, -58.3956,-57.994,-57.5993,-57.0086, -56.6187,-56.2341,-55.8511,-55.4725, -55.0954,-54.7228,-54.1688,-53.6203, -53.2594,-52.8992,-52.5454,-52.1894, -51.8433,-51.4935,-50.9749,-50.6313, -50.291,-49.7721,-49.4211,-49.073, -48.5562,-48.2006,-47.8492,-47.4983, -47.0133,-47.0655,-47.0989,-47.3999, -47.7538,-48.1124,-48.4604,-48.8188, -49.1692,-49.5192,-50.0428,-50.3894, -50.7403,-51.0859,-51.4302,-51.7818, -52.3095,-52.6693,-53.0278,-53.5732, -53.937,-54.3074,-54.6778,-55.0541, -55.6233,-56.007,-56.395,-56.7847, -57.18,-57.7769,-58.3813,-58.9933, -59.6154,-60.0325,-60.6692,-61.0971, -61.5301,-62.1775,-62.6066,-63.0332, -63.4586,-63.8823,-64.2993,-64.9257, -65.3435,-65.7553,-66.1636,-66.4788)
FOOTPRINT_POINT_LONGITUDE = (46.3574,45.5221,44.687,43.8525,43.0192 ,42.1856,41.3285,41.5428,41.75,42.0488, 42.2416,42.4233,42.6046,42.7798,42.9438 ,43.1106,43.268,43.4209,43.5704,43.7123 ,43.8482,43.9779,44.1023,44.2218, 44.3364,44.4464,44.552,44.7015,44.7976, 44.8887,44.9773,45.0623,45.1438,45.2231 ,45.3359,45.4437,45.5121,45.5786, 45.6427,45.7047,45.7661,45.8235,45.9062 ,45.959,46.0136,46.0891,46.1354,46.1834 ,46.2585,46.3005,46.3451,46.3898, 46.7659,47.4107,48.3376,48.3255,48.3113 ,48.2961,48.2818,48.2658,48.2505, 48.2348,48.2106,48.1944,48.1769,48.1598 ,48.1426,48.1246,48.0967,48.0771, 48.0571,48.026,48.0047,47.9827,47.9599, 47.9364,47.8994,47.8736,47.8468,47.8192 ,47.7905,47.7459,47.699,47.6497,47.5971 ,47.5609,47.5032,47.4633,47.4217, 47.3565,47.3113,47.2651,47.2169,47.167, 47.1181,47.0391,46.9827,46.9268,46.87, 46.3574)
ORBIT_NUMBER = 2210
ORBITAL_ECCENTRICITY = 0.573
ORBITAL_INCLINATION = 86.63
ORBITAL_SEMIMAJOR_AXIS = 8601.89
PERIAPSIS_ALTITUDE = 278.47
PERIAPSIS_ARGUMENT_ANGLE = 329.73
PERIAPSIS_TIME = 2005-10-03T13:18:51.000Z
SPACECRAFT_ORIENTATION = (0.0,1.0,0.0)
^MEX_ORIENTATION_DESC = "MEX_ORIENTATION_DESC.TXT"
SPACECRAFT_POINTING_MODE = ACROSSTRACK
^MEX_POINTING_DESC = "MEX_POINTING_DESC.TXT"
RIGHT_ASCENSION = -1e+32
DECLINATION = -1e+32
OFFSET_ANGLE = 0.55
SPACECRAFT_SOLAR_DISTANCE = 2.1277e+08
TARGET_NAME = MARS
/* CAMERA DATA ELEMENTS */
DETECTOR_TEMPERATURE = 18.9822
FOCAL_PLANE_TEMPERATURE = 9.3989
INST_CMPRS_NAME = "DISCRETE COSINE TRANSFORMATION (DCT)"
INST_CMPRS_RATIO = 12.0821
INST_CMPRS_QUALITY = 0
INST_CMPRS_QUANTZ_TBL_ID = 0
INSTRUMENT_TEMPERATURE = 11.6418
LENS_TEMPERATURE = 9.8067
MACROPIXEL_SIZE = 2
MISSING_FRAMES = 0
PIXEL_SUBSAMPLING_FLAG = N
SIGNAL_CHAIN_ID = 1
/* RADIOMETRIC DATA ELEMENTS */
BANDWIDTH = 178.0
CENTER_FILTER_WAVELENGTH = 679.0
RADIANCE_OFFSET = 5.55905
RADIANCE_SCALING_FACTOR = 0.0220694
REFLECTANCE_SCALING_FACTOR = 0.000529096
MEX:REFLECTANCE_OFFSET = 0.133274
/* IMAGE OBJECT DEFINITIONS */
OBJECT = IMAGE
  INTERCHANGE_FORMAT = BINARY
  LINES = 45755
  LINE_SAMPLES = 7951
  SAMPLE_TYPE = UNSIGNED_INTEGER
  SAMPLE_BITS = 8
  BANDS = 1
  BAND_STORAGE_TYPE = BAND_SEQUENTIAL
  MAXIMUM = 168
  MEAN = 124.149
  MINIMUM = 60
  STANDARD_DEVIATION = 13.3699
END_OBJECT = IMAGE
/* MAP OBJECT DEFINITIONS */
OBJECT = IMAGE_MAP_PROJECTION
  ^DATA_SET_MAP_PROJECTION_CATALOG= "DSMAP.CAT"
  A_AXIS_RADIUS = 3396.0
  B_AXIS_RADIUS = 3396.0
  C_AXIS_RADIUS = 3396.0
  CENTER_LATITUDE = 0.0
  CENTER_LONGITUDE = 46.0
  COORDINATE_SYSTEM_NAME = PLANETOGRAPHIC
  COORDINATE_SYSTEM_TYPE = "BODY-FIXED ROTATING"
  EASTERNMOST_LONGITUDE = 48.3376
  FIRST_STANDARD_PARALLEL = "N/A"
  LINE_FIRST_PIXEL = 1
  LINE_LAST_PIXEL = 45755
  LINE_PROJECTION_OFFSET = -111433.75
  MAP_PROJECTION_ROTATION = 0.0
  MAP_PROJECTION_TYPE = SINUSOIDAL
  MAP_RESOLUTION = 2370.85521546667
  MAP_SCALE = 0.025
  MAXIMUM_LATITUDE = -47.0133
  MINIMUM_LATITUDE = -66.47880000000001
  POSITIVE_LONGITUDE_DIRECTION = EAST
  REFERENCE_LATITUDE = "N/A"
  REFERENCE_LONGITUDE = "N/A"
  SAMPLE_FIRST_PIXEL = 1
  SAMPLE_LAST_PIXEL = 7951
  SAMPLE_PROJECTION_OFFSET = 4257.75
  SECOND_STANDARD_PARALLEL = "N/A"
  WESTERNMOST_LONGITUDE = 41.3285
END_OBJECT = IMAGE_MAP_PROJECTION
/* The JPEG2000 image data file associated with this label. */
OBJECT = COMPRESSED_FILE
  FILE_NAME = "H2210_0000_S23.JP2"
  RECORD_TYPE = UNDEFINED
  FILE_RECORDS = UNK
  ENCODING_TYPE = "JP2"
  INTERCHANGE_FORMAT = BINARY
  UNCOMPRESSED_FILE_NAME = "H2210_0000_S23.IMG"
  REQUIRED_STORAGE_BYTES = "363829809"
  ^DESCRIPTION = "JP2INFO.TXT"
END_OBJECT = COMPRESSED_FILE
END
