PDS_VERSION_ID = PDS3
/* FILE DATA ELEMENTS */
RECORD_TYPE = STREAM
/* POINTERS TO DATA OBJECTS */
^COMPRESSED_FILE = "H2211_0000_P13.JP2"
/* IDENTIFICATION DATA ELEMENTS */
DATA_SET_ID = "MEX-M-HRSC-5-REFDR-MAPPROJECTED-V3.0"
DATA_SET_NAME = "MARS EXPRESS HRSC MAP PROJECTED REFDR V3.0"
DETECTOR_ID = MEX_HRSC_P1
EVENT_TYPE = "MARS-REGIONAL-MAPPING-Fl-Lc-La"
INSTRUMENT_HOST_ID = MEX
INSTRUMENT_HOST_NAME = "MARS EXPRESS"
INSTRUMENT_ID = HRSC
INSTRUMENT_NAME = "HIGH RESOLUTION STEREO CAMERA"
MISSION_NAME = "MARS EXPRESS"
MISSION_PHASE_NAME = MR_Phase_7
PROCESSING_LEVEL_ID = 3
PRODUCT_CREATION_TIME = 2016-03-14T22:12:55.000Z
PRODUCT_ID = "H2211_0000_P13.JP2"
RELEASE_ID = 0028
REVISION_ID = 0000
/* QUALITY DATA ELEMENTS */
DATA_QUALITY_ID = 1
DATA_QUALITY_DESC = "Data calculated based on original SPICE kernels"
/* TIME DATA ELEMENTS */
SPACECRAFT_CLOCK_START_COUNT = "1/0076449841.57292"
SPACECRAFT_CLOCK_STOP_COUNT = "1/0076450245.30762"
START_TIME = 2005-10-03T20:04:52.373Z
STOP_TIME = 2005-10-03T20:10:31.970Z
/* ORBITAL DATA ELEMENTS */
ASCENDING_NODE_LONGITUDE = 181.85
MAXIMUM_RESOLUTION = 24.9
FOOTPRINT_POINT_LATITUDE = (-19.7188,-19.7148,-19.7124,-19.3716, -19.0203,-18.4912,-18.1361,-17.7868, -17.4362,-17.0782,-16.7305,-16.3675, -16.0118,-15.6507,-15.2815,-14.9099, -14.5392,-14.1683,-13.7885,-13.4068, -12.8429,-12.4628,-12.0629,-11.686, -11.3101,-10.9357,-10.5633,-10.1659, -9.72217,-9.2812,-8.84723,-8.20349, -7.76498,-7.32783,-6.89656,-6.45073, -6.00085,-5.55946,-5.11059,-4.66063, -4.20341,-3.50955,-2.80524,-2.08915, -1.60638,-1.11478,-0.62516,-0.13765, 0.347958,0.830903,0.877208,0.879245, 0.877985,0.876336,0.395258,-0.090741, -0.578463,-1.06818,-1.5603,-2.04336, -2.76105,-3.47069,-3.93321,-4.39189, -5.0741,-5.52412,-5.96438,-6.41595, -6.85834,-7.50808,-7.94763,-8.38644, -8.80814,-9.24566,-9.68744,-10.3488, -10.7216,-11.0957,-11.4714,-11.8587, -12.4363,-12.8113,-13.1915,-13.5625, -13.943,-14.3218,-14.8844,-15.4438, -15.8098,-16.3519,-16.7125,-17.067, -17.5936,-17.944,-18.2942,-18.6483, -19.0022,-19.355,-19.6966,-19.7188)
FOOTPRINT_POINT_LONGITUDE = (311.194,310.846,310.365,310.364, 310.363,310.361,310.359,310.357,310.355 ,310.353,310.345,310.343,310.338, 310.336,310.332,310.328,310.324,310.321 ,310.316,310.312,310.303,310.298, 310.301,310.295,310.289,310.283,310.276 ,310.269,310.261,310.253,310.242, 310.223,310.214,310.205,310.194,310.188 ,310.181,310.17,310.158,310.146,310.134 ,310.114,310.093,310.072,310.056,310.04 ,310.024,310.008,309.991,309.974, 310.603,311.065,311.375,311.743,311.733 ,311.725,311.717,311.708,311.7,311.692, 311.68,311.672,311.663,311.656,311.648, 311.642,311.635,311.636,311.636,311.626 ,311.622,311.618,311.601,311.594, 311.589,311.581,311.577,311.573,311.569 ,311.572,311.574,311.568,311.565, 311.555,311.552,311.55,311.55,311.546, 311.542,311.538,311.534,311.525,311.514 ,311.511,311.506,311.502,311.499, 311.496,311.493,311.194)
ORBIT_NUMBER = 2211
ORBITAL_ECCENTRICITY = 0.573
ORBITAL_INCLINATION = 86.63
ORBITAL_SEMIMAJOR_AXIS = 8596.9
PERIAPSIS_ALTITUDE = 278.76
PERIAPSIS_ARGUMENT_ANGLE = 329.56
PERIAPSIS_TIME = 2005-10-03T20:01:55.000Z
SPACECRAFT_ORIENTATION = (0.0,1.0,0.0)
^MEX_ORIENTATION_DESC = "MEX_ORIENTATION_DESC.TXT"
SPACECRAFT_POINTING_MODE = ACROSSTRACK
^MEX_POINTING_DESC = "MEX_POINTING_DESC.TXT"
RIGHT_ASCENSION = -1e+32
DECLINATION = -1e+32
OFFSET_ANGLE = -0.18
SPACECRAFT_SOLAR_DISTANCE = 2.12811e+08
TARGET_NAME = MARS
/* CAMERA DATA ELEMENTS */
DETECTOR_TEMPERATURE = 17.5549
FOCAL_PLANE_TEMPERATURE = 9.195
INST_CMPRS_NAME = "DISCRETE COSINE TRANSFORMATION (DCT)"
INST_CMPRS_RATIO = 14.8311
INST_CMPRS_QUALITY = 0
INST_CMPRS_QUANTZ_TBL_ID = 0
INSTRUMENT_TEMPERATURE = 11.6418
LENS_TEMPERATURE = 9.6028
MACROPIXEL_SIZE = 2
MISSING_FRAMES = 1
PIXEL_SUBSAMPLING_FLAG = N
SIGNAL_CHAIN_ID = 3
/* RADIOMETRIC DATA ELEMENTS */
BANDWIDTH = 174.0
CENTER_FILTER_WAVELENGTH = 675.0
RADIANCE_OFFSET = 5.34489
RADIANCE_SCALING_FACTOR = 0.0264423
REFLECTANCE_SCALING_FACTOR = 0.000644128
MEX:REFLECTANCE_OFFSET = 0.1302
/* IMAGE OBJECT DEFINITIONS */
OBJECT = IMAGE
  INTERCHANGE_FORMAT = BINARY
  LINES = 48886
  LINE_SAMPLES = 4122
  SAMPLE_TYPE = UNSIGNED_INTEGER
  SAMPLE_BITS = 8
  BANDS = 1
  BAND_STORAGE_TYPE = BAND_SEQUENTIAL
  MAXIMUM = 157
  MEAN = 94.0387
  MINIMUM = 51
  STANDARD_DEVIATION = 11.714
END_OBJECT = IMAGE
/* MAP OBJECT DEFINITIONS */
OBJECT = IMAGE_MAP_PROJECTION
  ^DATA_SET_MAP_PROJECTION_CATALOG= "DSMAP.CAT"
  A_AXIS_RADIUS = 3396.0
  B_AXIS_RADIUS = 3396.0
  C_AXIS_RADIUS = 3396.0
  CENTER_LATITUDE = 0.0
  CENTER_LONGITUDE = 311.0
  COORDINATE_SYSTEM_NAME = PLANETOGRAPHIC
  COORDINATE_SYSTEM_TYPE = "BODY-FIXED ROTATING"
  EASTERNMOST_LONGITUDE = 311.743
  FIRST_STANDARD_PARALLEL = "N/A"
  LINE_FIRST_PIXEL = 1
  LINE_LAST_PIXEL = 48886
  LINE_PROJECTION_OFFSET = 2139.25
  MAP_PROJECTION_ROTATION = 0.0
  MAP_PROJECTION_TYPE = SINUSOIDAL
  MAP_RESOLUTION = 2370.85521546667
  MAP_SCALE = 0.025
  MAXIMUM_LATITUDE = 0.879245
  MINIMUM_LATITUDE = -19.7188
  POSITIVE_LONGITUDE_DIRECTION = EAST
  REFERENCE_LATITUDE = "N/A"
  REFERENCE_LONGITUDE = "N/A"
  SAMPLE_FIRST_PIXEL = 1
  SAMPLE_LAST_PIXEL = 4122
  SAMPLE_PROJECTION_OFFSET = 2372.75
  SECOND_STANDARD_PARALLEL = "N/A"
  WESTERNMOST_LONGITUDE = 309.974
END_OBJECT = IMAGE_MAP_PROJECTION
/* The JPEG2000 image data file associated with this label. */
OBJECT = COMPRESSED_FILE
  FILE_NAME = "H2211_0000_P13.JP2"
  RECORD_TYPE = UNDEFINED
  FILE_RECORDS = UNK
  ENCODING_TYPE = "JP2"
  INTERCHANGE_FORMAT = BINARY
  UNCOMPRESSED_FILE_NAME = "H2211_0000_P13.IMG"
  REQUIRED_STORAGE_BYTES = "201532824"
  ^DESCRIPTION = "JP2INFO.TXT"
END_OBJECT = COMPRESSED_FILE
END
