PDS_VERSION_ID = PDS3
/* FILE DATA ELEMENTS */
RECORD_TYPE = STREAM
/* POINTERS TO DATA OBJECTS */
^COMPRESSED_FILE = "H2217_0000_P23.JP2"
/* IDENTIFICATION DATA ELEMENTS */
DATA_SET_ID = "MEX-M-HRSC-5-REFDR-MAPPROJECTED-V3.0"
DATA_SET_NAME = "MARS EXPRESS HRSC MAP PROJECTED REFDR V3.0"
DETECTOR_ID = MEX_HRSC_P2
EVENT_TYPE = "MARS-REGIONAL-MAPPING-Fl-Pf-Mw"
INSTRUMENT_HOST_ID = MEX
INSTRUMENT_HOST_NAME = "MARS EXPRESS"
INSTRUMENT_ID = HRSC
INSTRUMENT_NAME = "HIGH RESOLUTION STEREO CAMERA"
MISSION_NAME = "MARS EXPRESS"
MISSION_PHASE_NAME = MR_Phase_8
PROCESSING_LEVEL_ID = 3
PRODUCT_CREATION_TIME = 2016-03-14T22:12:55.000Z
PRODUCT_ID = "H2217_0000_P23.JP2"
RELEASE_ID = 0028
REVISION_ID = 0000
/* QUALITY DATA ELEMENTS */
DATA_QUALITY_ID = 1
DATA_QUALITY_DESC = "Data calculated based on original SPICE kernels"
/* TIME DATA ELEMENTS */
SPACECRAFT_CLOCK_START_COUNT = "1/0076593979.56194"
SPACECRAFT_CLOCK_STOP_COUNT = "1/0076594526.38525"
START_TIME = 2005-10-05T12:07:06.122Z
STOP_TIME = 2005-10-05T12:14:33.968Z
/* ORBITAL DATA ELEMENTS */
ASCENDING_NODE_LONGITUDE = 181.72
MAXIMUM_RESOLUTION = 33
FOOTPRINT_POINT_LATITUDE = (-76.9381,-76.8477,-76.7479,-76.6339, -76.506,-76.1776,-75.704,-75.222, -74.4905,-74.0013,-73.4997,-72.9915, -72.4781,-71.9607,-71.4339,-70.9066, -70.3732,-69.8331,-69.287,-68.7505, -68.217,-67.6866,-67.1653,-66.6499, -66.1397,-65.6351,-65.136,-64.643, -64.1552,-63.6728,-63.1945,-62.7216, -62.2535,-61.7904,-61.3333,-60.8796, -60.429,-59.9859,-59.327,-58.6763, -58.0354,-57.6134,-57.196,-56.7837, -56.3798,-55.9673,-55.5563,-55.1564, -54.7602,-54.1785,-53.2058,-52.8147, -52.8783,-52.9072,-53.2977,-54.076, -54.6663,-55.0676,-55.4652,-56.0777, -56.693,-57.1069,-57.5264,-58.1666, -58.592,-59.028,-59.4678,-59.9101, -60.3586,-60.8102,-61.2678,-61.9667, -62.436,-62.9115,-63.3925,-63.8787, -64.3721,-64.8699,-65.3736,-65.884, -66.3998,-66.9195,-67.7204,-68.2577, -68.8027,-69.3552,-69.9137,-70.476, -71.0302,-71.5827,-72.1352,-72.6769, -73.491,-74.0284,-74.5588,-75.085, -75.6082,-76.1306,-76.6381,-76.9381)
FOOTPRINT_POINT_LONGITUDE = (75.7209,73.7323,71.8869,70.0699, 68.2846,65.2733,66.0654,66.8082,67.8414 ,68.4838,69.0855,69.6525,70.1881, 70.6953,71.1722,71.6271,72.0575,72.4643 ,72.8489,73.2104,73.5462,73.8579, 74.1523,74.4287,74.688,74.9318,75.1613, 75.3781,75.5827,75.776,75.9584,76.1318, 76.2966,76.4531,76.6015,76.7426,76.8769 ,77.0057,77.1867,77.3544,77.5116, 77.6119,77.7074,77.8001,77.8934,77.972, 78.0475,78.1241,78.1992,78.3098,78.4677 ,78.713,79.9336,80.6974,80.8445,80.8029 ,80.7702,80.7476,80.7264,80.6891, 80.6528,80.6272,80.6018,80.5571,80.53, 80.4991,80.4654,80.4325,80.3976,80.3612 ,80.3222,80.258,80.2161,80.171,80.123, 80.0726,80.0177,79.9616,79.9024,79.8391 ,79.7732,79.7064,79.5866,79.5057, 79.4182,79.3252,79.2267,79.1183,79.0103 ,78.8926,78.7616,78.6346,78.413,78.2544 ,78.0915,77.9185,77.7314,77.5238, 77.3282,75.7209)
ORBIT_NUMBER = 2217
ORBITAL_ECCENTRICITY = 0.573
ORBITAL_INCLINATION = 86.64
ORBITAL_SEMIMAJOR_AXIS = 8600.89
PERIAPSIS_ALTITUDE = 279.15
PERIAPSIS_ARGUMENT_ANGLE = 328.46
PERIAPSIS_TIME = 2005-10-05T12:20:26.000Z
SPACECRAFT_ORIENTATION = (0.0,1.0,0.0)
^MEX_ORIENTATION_DESC = "MEX_ORIENTATION_DESC.TXT"
SPACECRAFT_POINTING_MODE = ACROSSTRACK
^MEX_POINTING_DESC = "MEX_POINTING_DESC.TXT"
RIGHT_ASCENSION = -1e+32
DECLINATION = -1e+32
OFFSET_ANGLE = 0.18
SPACECRAFT_SOLAR_DISTANCE = 2.13059e+08
TARGET_NAME = MARS
/* CAMERA DATA ELEMENTS */
DETECTOR_TEMPERATURE = 18.9822
FOCAL_PLANE_TEMPERATURE = 8.9911
INST_CMPRS_NAME = "DISCRETE COSINE TRANSFORMATION (DCT)"
INST_CMPRS_RATIO = 7.86443
INST_CMPRS_QUALITY = 0
INST_CMPRS_QUANTZ_TBL_ID = 0
INSTRUMENT_TEMPERATURE = 11.4379
LENS_TEMPERATURE = 9.3989
MACROPIXEL_SIZE = 2
MISSING_FRAMES = 0
PIXEL_SUBSAMPLING_FLAG = N
SIGNAL_CHAIN_ID = 3
/* RADIOMETRIC DATA ELEMENTS */
BANDWIDTH = 177.0
CENTER_FILTER_WAVELENGTH = 676.5
RADIANCE_OFFSET = 3.56744
RADIANCE_SCALING_FACTOR = 0.0279799
REFLECTANCE_SCALING_FACTOR = 0.000673439
MEX:REFLECTANCE_OFFSET = 0.0858635
/* IMAGE OBJECT DEFINITIONS */
OBJECT = IMAGE
  INTERCHANGE_FORMAT = BINARY
  LINES = 56947
  LINE_SAMPLES = 10868
  SAMPLE_TYPE = UNSIGNED_INTEGER
  SAMPLE_BITS = 8
  BANDS = 1
  BAND_STORAGE_TYPE = BAND_SEQUENTIAL
  MAXIMUM = 236
  MEAN = 145.097
  MINIMUM = 68
  STANDARD_DEVIATION = 25.0189
END_OBJECT = IMAGE
/* MAP OBJECT DEFINITIONS */
OBJECT = IMAGE_MAP_PROJECTION
  ^DATA_SET_MAP_PROJECTION_CATALOG= "DSMAP.CAT"
  A_AXIS_RADIUS = 3396.0
  B_AXIS_RADIUS = 3396.0
  C_AXIS_RADIUS = 3396.0
  CENTER_LATITUDE = 0.0
  CENTER_LONGITUDE = 78.0
  COORDINATE_SYSTEM_NAME = PLANETOGRAPHIC
  COORDINATE_SYSTEM_TYPE = "BODY-FIXED ROTATING"
  EASTERNMOST_LONGITUDE = 80.8445
  FIRST_STANDARD_PARALLEL = "N/A"
  LINE_FIRST_PIXEL = 1
  LINE_LAST_PIXEL = 56947
  LINE_PROJECTION_OFFSET = -125249.75
  MAP_PROJECTION_ROTATION = 0.0
  MAP_PROJECTION_TYPE = SINUSOIDAL
  MAP_RESOLUTION = 2370.85521546667
  MAP_SCALE = 0.025
  MAXIMUM_LATITUDE = -52.8147
  MINIMUM_LATITUDE = -76.93810000000001
  POSITIVE_LONGITUDE_DIRECTION = EAST
  REFERENCE_LATITUDE = "N/A"
  REFERENCE_LONGITUDE = "N/A"
  SAMPLE_FIRST_PIXEL = 1
  SAMPLE_LAST_PIXEL = 10868
  SAMPLE_PROJECTION_OFFSET = 6846.25
  SECOND_STANDARD_PARALLEL = "N/A"
  WESTERNMOST_LONGITUDE = 65.27330000000001
END_OBJECT = IMAGE_MAP_PROJECTION
/* The JPEG2000 image data file associated with this label. */
OBJECT = COMPRESSED_FILE
  FILE_NAME = "H2217_0000_P23.JP2"
  RECORD_TYPE = UNDEFINED
  FILE_RECORDS = UNK
  ENCODING_TYPE = "JP2"
  INTERCHANGE_FORMAT = BINARY
  UNCOMPRESSED_FILE_NAME = "H2217_0000_P23.IMG"
  REQUIRED_STORAGE_BYTES = "618932600"
  ^DESCRIPTION = "JP2INFO.TXT"
END_OBJECT = COMPRESSED_FILE
END
