PDS_VERSION_ID = PDS3
/* FILE DATA ELEMENTS */
RECORD_TYPE = STREAM
/* POINTERS TO DATA OBJECTS */
^COMPRESSED_FILE = "H2220_0000_P23.JP2"
/* IDENTIFICATION DATA ELEMENTS */
DATA_SET_ID = "MEX-M-HRSC-5-REFDR-MAPPROJECTED-V3.0"
DATA_SET_NAME = "MARS EXPRESS HRSC MAP PROJECTED REFDR V3.0"
DETECTOR_ID = MEX_HRSC_P2
EVENT_TYPE = "MARS-REGIONAL-MAPPING-Te-Im"
INSTRUMENT_HOST_ID = MEX
INSTRUMENT_HOST_NAME = "MARS EXPRESS"
INSTRUMENT_ID = HRSC
INSTRUMENT_NAME = "HIGH RESOLUTION STEREO CAMERA"
MISSION_NAME = "MARS EXPRESS"
MISSION_PHASE_NAME = MR_Phase_8
PROCESSING_LEVEL_ID = 3
PRODUCT_CREATION_TIME = 2016-03-14T22:12:55.000Z
PRODUCT_ID = "H2220_0000_P23.JP2"
RELEASE_ID = 0028
REVISION_ID = 0000
/* QUALITY DATA ELEMENTS */
DATA_QUALITY_ID = 1
DATA_QUALITY_DESC = "Data calculated based on original SPICE kernels"
/* TIME DATA ELEMENTS */
SPACECRAFT_CLOCK_START_COUNT = "1/0076666869.57301"
SPACECRAFT_CLOCK_STOP_COUNT = "1/0076667234.47257"
START_TIME = 2005-10-06T08:21:35.615Z
STOP_TIME = 2005-10-06T08:26:34.195Z
/* ORBITAL DATA ELEMENTS */
ASCENDING_NODE_LONGITUDE = 181.66
MAXIMUM_RESOLUTION = 51.9
FOOTPRINT_POINT_LATITUDE = (-61.3704,-61.3166,-61.2531,-61.1494, -60.8183,-60.4859,-60.1524,-59.8174, -59.4814,-59.1442,-58.8057,-58.4664, -58.1258,-57.7841,-57.441,-57.0973, -56.7532,-56.2338,-55.8873,-55.539, -55.1898,-54.8357,-54.4869,-54.127, -53.7751,-53.4196,-53.0632,-52.5288, -52.1719,-51.8106,-51.2734,-50.9077, -50.5449,-50.179,-49.8152,-49.4492, -49.0828,-48.7157,-48.3519,-47.796, -47.4251,-47.0527,-46.6796,-46.3056, -45.7449,-45.1799,-44.8028,-44.4243, -43.8578,-43.2286,-43.2584,-43.4699, -43.853,-44.2327,-44.6116,-44.9903, -45.3681,-45.9317,-46.4979,-46.8741, -47.2493,-47.6205,-47.9951,-48.3667, -48.734,-49.106,-49.4717,-49.84, -50.2096,-50.5738,-50.9398,-51.2999, -51.6678,-52.0307,-52.3922,-52.9344, -53.2938,-53.6521,-54.0101,-54.3673, -54.9015,-55.2561,-55.6093,-56.1365, -56.4872,-56.8363,-57.1852,-57.5327, -57.8796,-58.2253,-58.5697,-58.9135, -59.2562,-59.5977,-59.9383,-60.2785, -60.6171,-60.9549,-61.291,-61.3704)
FOOTPRINT_POINT_LONGITUDE = (144.364,143.321,142.276,141.623, 141.728,141.83,141.93,142.027,142.122, 142.215,142.305,142.394,142.48,142.565, 142.647,142.727,142.807,142.921,142.996 ,143.069,143.14,143.206,143.276,143.336 ,143.402,143.465,143.526,143.617, 143.676,143.731,143.816,143.866,143.918 ,143.967,144.018,144.066,144.113,144.16 ,144.209,144.273,144.315,144.355, 144.395,144.433,144.491,144.544,144.579 ,144.613,144.664,144.915,145.581, 146.226,146.214,146.201,146.189,146.176 ,146.164,146.144,146.123,146.109, 146.094,146.08,146.065,146.05,146.036, 146.019,146.005,145.988,145.971,145.955 ,145.937,145.922,145.902,145.884, 145.865,145.836,145.816,145.797,145.776 ,145.755,145.722,145.7,145.677,145.643, 145.62,145.596,145.571,145.546,145.52, 145.494,145.467,145.439,145.411,145.382 ,145.353,145.322,145.291,145.259, 145.227,144.364)
ORBIT_NUMBER = 2220
ORBITAL_ECCENTRICITY = 0.573
ORBITAL_INCLINATION = 86.62
ORBITAL_SEMIMAJOR_AXIS = 8597.2
PERIAPSIS_ALTITUDE = 280.3
PERIAPSIS_ARGUMENT_ANGLE = 327.97
PERIAPSIS_TIME = 2005-10-06T08:29:44.000Z
SPACECRAFT_ORIENTATION = (0.0,1.0,0.0)
^MEX_ORIENTATION_DESC = "MEX_ORIENTATION_DESC.TXT"
SPACECRAFT_POINTING_MODE = ACROSSTRACK
^MEX_POINTING_DESC = "MEX_POINTING_DESC.TXT"
RIGHT_ASCENSION = -1e+32
DECLINATION = -1e+32
OFFSET_ANGLE = 0.3
SPACECRAFT_SOLAR_DISTANCE = 2.13185e+08
TARGET_NAME = MARS
/* CAMERA DATA ELEMENTS */
DETECTOR_TEMPERATURE = 18.7783
FOCAL_PLANE_TEMPERATURE = 8.5833
INST_CMPRS_NAME = "DISCRETE COSINE TRANSFORMATION (DCT)"
INST_CMPRS_RATIO = 10.5799
INST_CMPRS_QUALITY = 0
INST_CMPRS_QUANTZ_TBL_ID = 0
INSTRUMENT_TEMPERATURE = 11.4379
LENS_TEMPERATURE = 8.9911
MACROPIXEL_SIZE = 4
MISSING_FRAMES = 0
PIXEL_SUBSAMPLING_FLAG = N
SIGNAL_CHAIN_ID = 3
/* RADIOMETRIC DATA ELEMENTS */
BANDWIDTH = 177.0
CENTER_FILTER_WAVELENGTH = 676.5
RADIANCE_OFFSET = 4.56345
RADIANCE_SCALING_FACTOR = 0.0270924
REFLECTANCE_SCALING_FACTOR = 0.00065285
MEX:REFLECTANCE_OFFSET = 0.109966
/* IMAGE OBJECT DEFINITIONS */
OBJECT = IMAGE
  INTERCHANGE_FORMAT = BINARY
  LINES = 21454
  LINE_SAMPLES = 2942
  SAMPLE_TYPE = UNSIGNED_INTEGER
  SAMPLE_BITS = 8
  BANDS = 1
  BAND_STORAGE_TYPE = BAND_SEQUENTIAL
  MAXIMUM = 187
  MEAN = 113.114
  MINIMUM = 70
  STANDARD_DEVIATION = 23.0998
END_OBJECT = IMAGE
/* MAP OBJECT DEFINITIONS */
OBJECT = IMAGE_MAP_PROJECTION
  ^DATA_SET_MAP_PROJECTION_CATALOG= "DSMAP.CAT"
  A_AXIS_RADIUS = 3396.0
  B_AXIS_RADIUS = 3396.0
  C_AXIS_RADIUS = 3396.0
  CENTER_LATITUDE = 0.0
  CENTER_LONGITUDE = 145.0
  COORDINATE_SYSTEM_NAME = PLANETOGRAPHIC
  COORDINATE_SYSTEM_TYPE = "BODY-FIXED ROTATING"
  EASTERNMOST_LONGITUDE = 146.226
  FIRST_STANDARD_PARALLEL = "N/A"
  LINE_FIRST_PIXEL = 1
  LINE_LAST_PIXEL = 21454
  LINE_PROJECTION_OFFSET = -51231.375
  MAP_PROJECTION_ROTATION = 0.0
  MAP_PROJECTION_TYPE = SINUSOIDAL
  MAP_RESOLUTION = 1185.42760773333
  MAP_SCALE = 0.05
  MAXIMUM_LATITUDE = -43.2286
  MINIMUM_LATITUDE = -61.3704
  POSITIVE_LONGITUDE_DIRECTION = EAST
  REFERENCE_LATITUDE = "N/A"
  REFERENCE_LONGITUDE = "N/A"
  SAMPLE_FIRST_PIXEL = 1
  SAMPLE_LAST_PIXEL = 2942
  SAMPLE_PROJECTION_OFFSET = 1889.125
  SECOND_STANDARD_PARALLEL = "N/A"
  WESTERNMOST_LONGITUDE = 141.623
END_OBJECT = IMAGE_MAP_PROJECTION
/* The JPEG2000 image data file associated with this label. */
OBJECT = COMPRESSED_FILE
  FILE_NAME = "H2220_0000_P23.JP2"
  RECORD_TYPE = UNDEFINED
  FILE_RECORDS = UNK
  ENCODING_TYPE = "JP2"
  INTERCHANGE_FORMAT = BINARY
  UNCOMPRESSED_FILE_NAME = "H2220_0000_P23.IMG"
  REQUIRED_STORAGE_BYTES = "63141204"
  ^DESCRIPTION = "JP2INFO.TXT"
END_OBJECT = COMPRESSED_FILE
END
