PDS_VERSION_ID = PDS3
/* FILE DATA ELEMENTS */
RECORD_TYPE = STREAM
/* POINTERS TO DATA OBJECTS */
^COMPRESSED_FILE = "H2225_0000_P13.JP2"
/* IDENTIFICATION DATA ELEMENTS */
DATA_SET_ID = "MEX-M-HRSC-5-REFDR-MAPPROJECTED-V3.0"
DATA_SET_NAME = "MARS EXPRESS HRSC MAP PROJECTED REFDR V3.0"
DETECTOR_ID = MEX_HRSC_P1
EVENT_TYPE = "MARS-LOCAL-STEREO-Im-Fl-Eo"
INSTRUMENT_HOST_ID = MEX
INSTRUMENT_HOST_NAME = "MARS EXPRESS"
INSTRUMENT_ID = HRSC
INSTRUMENT_NAME = "HIGH RESOLUTION STEREO CAMERA"
MISSION_NAME = "MARS EXPRESS"
MISSION_PHASE_NAME = MR_Phase_8
PROCESSING_LEVEL_ID = 3
PRODUCT_CREATION_TIME = 2016-03-14T22:12:55.000Z
PRODUCT_ID = "H2225_0000_P13.JP2"
RELEASE_ID = 0028
REVISION_ID = 0000
/* QUALITY DATA ELEMENTS */
DATA_QUALITY_ID = 1
DATA_QUALITY_DESC = "Data calculated based on original SPICE kernels"
/* TIME DATA ELEMENTS */
SPACECRAFT_CLOCK_START_COUNT = "1/0076787815.56191"
SPACECRAFT_CLOCK_STOP_COUNT = "1/0076788112.32607"
START_TIME = 2005-10-07T17:58:19.672Z
STOP_TIME = 2005-10-07T18:01:47.944Z
/* ORBITAL DATA ELEMENTS */
ASCENDING_NODE_LONGITUDE = 181.56
MAXIMUM_RESOLUTION = 26.2
FOOTPRINT_POINT_LATITUDE = (-61.0685,-61.0505,-61.0168,-60.995, -60.8508,-60.5367,-60.2258,-59.9124, -59.4555,-59.1501,-58.8466,-58.5483, -58.249,-57.9515,-57.6592,-57.3669, -57.0755,-56.7828,-56.3443,-56.0515, -55.7584,-55.4686,-55.1755,-54.8807, -54.5855,-54.1434,-53.8461,-53.4425, -53.194,-52.821,-52.5716,-52.1984, -51.9494,-51.7001,-51.4501,-51.2008, -50.9508,-50.5742,-50.3231,-49.9479, -49.6976,-49.4532,-49.0907,-48.8465, -48.6039,-48.3609,-47.9983,-47.763, -47.5275,-47.4234,-47.4416,-47.4555, -47.6921,-48.0468,-48.2884,-48.5329, -48.7775,-49.0247,-49.2687,-49.6327, -49.8801,-50.1321,-50.3839,-50.761, -51.0121,-51.2633,-51.5141,-51.7647, -52.0154,-52.266,-52.5162,-52.7663, -53.0162,-53.3909,-53.6407,-53.9176, -54.2148,-54.5101,-54.8078,-55.1048, -55.4013,-55.6975,-55.9926,-56.2871, -56.5827,-56.8774,-57.3191,-57.7603, -58.0541,-58.3541,-58.6558,-58.9566, -59.2626,-59.5704,-59.8779,-60.1905, -60.5049,-60.8188,-61.1409,-61.0685)
FOOTPRINT_POINT_LONGITUDE = (13.7055,13.234,12.4398,11.9701,11.2969 ,11.3824,11.4639,11.5458,11.658,11.7317 ,11.8032,11.8717,11.9394,12.0042, 12.0673,12.1286,12.1873,12.2457,12.3297 ,12.3843,12.4376,12.4861,12.5366, 12.5874,12.6372,12.7087,12.7572,12.8235 ,12.8612,12.9162,12.9527,13.0049,13.039 ,13.0725,13.106,13.1381,13.17,13.2181, 13.2492,13.2935,13.3224,13.3504,13.3896 ,13.4171,13.4427,13.4681,13.5053, 13.5289,13.5522,14.058,14.6798,15.2119, 15.2034,15.1905,15.1812,15.172,15.1628, 15.1554,15.1457,15.1296,15.1182,15.1078 ,15.0972,15.0807,15.0694,15.0581, 15.0464,15.0345,15.0225,15.0105,14.998, 14.9853,14.9725,14.9529,14.9397,14.9254 ,14.9087,14.8904,14.8739,14.8566, 14.8387,14.8205,14.8013,14.7814,14.7622 ,14.7421,14.7113,14.6797,14.658,14.6353 ,14.6126,14.5889,14.5644,14.5388, 14.5127,14.4855,14.4573,14.4283,14.3998 ,13.7055)
ORBIT_NUMBER = 2225
ORBITAL_ECCENTRICITY = 0.573
ORBITAL_INCLINATION = 86.62
ORBITAL_SEMIMAJOR_AXIS = 8597.01
PERIAPSIS_ALTITUDE = 279.76
PERIAPSIS_ARGUMENT_ANGLE = 327.06
PERIAPSIS_TIME = 2005-10-07T18:05:10.000Z
SPACECRAFT_ORIENTATION = (0.0,1.0,0.0)
^MEX_ORIENTATION_DESC = "MEX_ORIENTATION_DESC.TXT"
SPACECRAFT_POINTING_MODE = NADIR
^MEX_POINTING_DESC = "MEX_POINTING_DESC.TXT"
RIGHT_ASCENSION = -1e+32
DECLINATION = -1e+32
OFFSET_ANGLE = -1e+32
SPACECRAFT_SOLAR_DISTANCE = 2.13397e+08
TARGET_NAME = MARS
/* CAMERA DATA ELEMENTS */
DETECTOR_TEMPERATURE = 17.9627
FOCAL_PLANE_TEMPERATURE = 9.195
INST_CMPRS_NAME = "DISCRETE COSINE TRANSFORMATION (DCT)"
INST_CMPRS_RATIO = 8.45776
INST_CMPRS_QUALITY = 0
INST_CMPRS_QUANTZ_TBL_ID = 0
INSTRUMENT_TEMPERATURE = 11.6418
LENS_TEMPERATURE = 9.6028
MACROPIXEL_SIZE = 2
MISSING_FRAMES = 0
PIXEL_SUBSAMPLING_FLAG = N
SIGNAL_CHAIN_ID = 3
/* RADIOMETRIC DATA ELEMENTS */
BANDWIDTH = 174.0
CENTER_FILTER_WAVELENGTH = 675.0
RADIANCE_OFFSET = 3.45107
RADIANCE_SCALING_FACTOR = 0.026165
REFLECTANCE_SCALING_FACTOR = 0.000640883
MEX:REFLECTANCE_OFFSET = 0.0845303
/* IMAGE OBJECT DEFINITIONS */
OBJECT = IMAGE
  INTERCHANGE_FORMAT = BINARY
  LINES = 32590
  LINE_SAMPLES = 5305
  SAMPLE_TYPE = UNSIGNED_INTEGER
  SAMPLE_BITS = 8
  BANDS = 1
  BAND_STORAGE_TYPE = BAND_SEQUENTIAL
  MAXIMUM = 232
  MEAN = 167.067
  MINIMUM = 70
  STANDARD_DEVIATION = 18.0006
END_OBJECT = IMAGE
/* MAP OBJECT DEFINITIONS */
OBJECT = IMAGE_MAP_PROJECTION
  ^DATA_SET_MAP_PROJECTION_CATALOG= "DSMAP.CAT"
  A_AXIS_RADIUS = 3396.0
  B_AXIS_RADIUS = 3396.0
  C_AXIS_RADIUS = 3396.0
  CENTER_LATITUDE = 0.0
  CENTER_LONGITUDE = 14.0
  COORDINATE_SYSTEM_NAME = PLANETOGRAPHIC
  COORDINATE_SYSTEM_TYPE = "BODY-FIXED ROTATING"
  EASTERNMOST_LONGITUDE = 15.2119
  FIRST_STANDARD_PARALLEL = "N/A"
  LINE_FIRST_PIXEL = 1
  LINE_LAST_PIXEL = 32590
  LINE_PROJECTION_OFFSET = -112440.25
  MAP_PROJECTION_ROTATION = 0.0
  MAP_PROJECTION_TYPE = SINUSOIDAL
  MAP_RESOLUTION = 2370.85521546667
  MAP_SCALE = 0.025
  MAXIMUM_LATITUDE = -47.4234
  MINIMUM_LATITUDE = -61.1409
  POSITIVE_LONGITUDE_DIRECTION = EAST
  REFERENCE_LATITUDE = "N/A"
  REFERENCE_LONGITUDE = "N/A"
  SAMPLE_FIRST_PIXEL = 1
  SAMPLE_LAST_PIXEL = 5305
  SAMPLE_PROJECTION_OFFSET = 3282.25
  SECOND_STANDARD_PARALLEL = "N/A"
  WESTERNMOST_LONGITUDE = 11.2969
END_OBJECT = IMAGE_MAP_PROJECTION
/* The JPEG2000 image data file associated with this label. */
OBJECT = COMPRESSED_FILE
  FILE_NAME = "H2225_0000_P13.JP2"
  RECORD_TYPE = UNDEFINED
  FILE_RECORDS = UNK
  ENCODING_TYPE = "JP2"
  INTERCHANGE_FORMAT = BINARY
  UNCOMPRESSED_FILE_NAME = "H2225_0000_P13.IMG"
  REQUIRED_STORAGE_BYTES = "172916475"
  ^DESCRIPTION = "JP2INFO.TXT"
END_OBJECT = COMPRESSED_FILE
END
