PDS_VERSION_ID = PDS3
/* FILE DATA ELEMENTS */
RECORD_TYPE = STREAM
/* POINTERS TO DATA OBJECTS */
^COMPRESSED_FILE = "H2225_0003_SR3.JP2"
/* IDENTIFICATION DATA ELEMENTS */
DATA_SET_ID = "MEX-M-HRSC-5-REFDR-MAPPROJECTED-V3.0"
DATA_SET_NAME = "MARS EXPRESS HRSC MAP PROJECTED REFDR V3.0"
DETECTOR_ID = MEX_HRSC_SRC
EVENT_TYPE = "MARS-LOCAL-STEREO-Im-Fl-Eo"
INSTRUMENT_HOST_ID = MEX
INSTRUMENT_HOST_NAME = "MARS EXPRESS"
INSTRUMENT_ID = HRSC
INSTRUMENT_NAME = "HIGH RESOLUTION STEREO CAMERA"
MISSION_NAME = "MARS EXPRESS"
MISSION_PHASE_NAME = MR_Phase_8
PROCESSING_LEVEL_ID = 3
PRODUCT_CREATION_TIME = 2016-03-14T22:12:55.000Z
PRODUCT_ID = "H2225_0003_SR3.JP2"
RELEASE_ID = 0028
REVISION_ID = 0000
/* QUALITY DATA ELEMENTS */
DATA_QUALITY_ID = 1
DATA_QUALITY_DESC = "Data calculated based on original SPICE kernels"
/* TIME DATA ELEMENTS */
SPACECRAFT_CLOCK_START_COUNT = "1/0076787815.56191"
SPACECRAFT_CLOCK_STOP_COUNT = "1/0076788112.32607"
IMAGE_TIME = 2005-10-07T17:59:39.646Z
START_TIME = 2005-10-07T17:59:39.643Z
STOP_TIME = 2005-10-07T17:59:39.648Z
/* ORBITAL DATA ELEMENTS */
ASCENDING_NODE_LONGITUDE = 181.56
MAXIMUM_RESOLUTION = 3.494
FOOTPRINT_POINT_LATITUDE = (-54.5067,-54.5042,-54.502,-54.4991, -54.4961,-54.4943,-54.4912,-54.4891, -54.486,-54.4825,-54.4798,-54.478, -54.4765,-54.4743,-54.4724,-54.4699, -54.4672,-54.4656,-54.4636,-54.4615, -54.4595,-54.4567,-54.4549,-54.4516, -54.4482,-54.4484,-54.4485,-54.4487, -54.4489,-54.449,-54.4492,-54.4493, -54.4494,-54.4496,-54.4497,-54.4499, -54.45,-54.4502,-54.4503,-54.4505, -54.4506,-54.4508,-54.4509,-54.4511, -54.4512,-54.4514,-54.4515,-54.4517, -54.4518,-54.452,-54.4556,-54.4582, -54.4607,-54.4625,-54.4651,-54.4674, -54.469,-54.4719,-54.4737,-54.4757, -54.4787,-54.481,-54.4828,-54.4856, -54.4897,-54.4916,-54.4934,-54.4959, -54.4984,-54.5022,-54.5042,-54.5072, -54.5091,-54.5115,-54.5114,-54.5112, -54.511,-54.5109,-54.5108,-54.5107, -54.5106,-54.5104,-54.5103,-54.5102, -54.51,-54.5099,-54.5098,-54.5096, -54.5095,-54.5093,-54.5092,-54.509, -54.5088,-54.5087,-54.5085,-54.5082, -54.5081,-54.508,-54.5079,-54.5067)
FOOTPRINT_POINT_LONGITUDE = (13.7269,13.7271,13.7274,13.7277, 13.7281,13.7282,13.7286,13.7288,13.7292 ,13.7296,13.7299,13.7301,13.7302, 13.7305,13.7307,13.731,13.7313,13.7314, 13.7317,13.7319,13.7321,13.7324,13.7326 ,13.733,13.7345,13.7386,13.7426,13.7477 ,13.7518,13.7559,13.7599,13.764,13.767, 13.7711,13.7742,13.7782,13.7823,13.7864 ,13.7904,13.7945,13.7986,13.8026, 13.8067,13.8108,13.8148,13.8189,13.823, 13.827,13.8311,13.8351,13.8363,13.836, 13.8357,13.8356,13.8353,13.835,13.8348, 13.8346,13.8344,13.8342,13.8339,13.8337 ,13.8335,13.8332,13.8327,13.8325, 13.8323,13.832,13.8318,13.8313,13.8311, 13.8308,13.8306,13.8292,13.8251,13.82, 13.816,13.8129,13.8099,13.8058,13.8027, 13.7986,13.7956,13.7925,13.7885,13.7844 ,13.7813,13.7773,13.7732,13.7691,13.765 ,13.761,13.7569,13.7528,13.7467,13.7406 ,13.7375,13.7345,13.7304,13.7269)
ORBIT_NUMBER = 2225
ORBITAL_ECCENTRICITY = 0.573
ORBITAL_INCLINATION = 86.62
ORBITAL_SEMIMAJOR_AXIS = 8597.01
PERIAPSIS_ALTITUDE = 279.76
PERIAPSIS_ARGUMENT_ANGLE = 327.06
PERIAPSIS_TIME = 2005-10-07T18:05:10.000Z
SPACECRAFT_ORIENTATION = (0.0,1.0,0.0)
^MEX_ORIENTATION_DESC = "MEX_ORIENTATION_DESC.TXT"
SPACECRAFT_POINTING_MODE = NADIR
^MEX_POINTING_DESC = "MEX_POINTING_DESC.TXT"
RIGHT_ASCENSION = -1e+32
DECLINATION = -1e+32
OFFSET_ANGLE = -1e+32
SPACECRAFT_SOLAR_DISTANCE = 2.13397e+08
TARGET_NAME = MARS
/* CAMERA DATA ELEMENTS */
BUFFER_MODE_ID = BUFFER_8
EXPOSURE_DURATION = 5.04
INST_CMPRS_NAME = NONE
INST_CMPRS_RATIO = 1.0
INST_CMPRS_QUALITY = -2147483648
INST_CMPRS_QUANTZ_TBL_ID = -2147483648
INSTRUMENT_TEMPERATURE = 11.2121
MISSING_FRAMES = 0
START_BIT = 0
/* RADIOMETRIC DATA ELEMENTS */
BANDWIDTH = 250.0
CENTER_FILTER_WAVELENGTH = 600.0
RADIANCE_OFFSET = -9.99e+31
RADIANCE_SCALING_FACTOR = -9.99e+31
REFLECTANCE_SCALING_FACTOR = -9.99e+31
MEX:REFLECTANCE_OFFSET = -9.99e+31
/* IMAGE OBJECT DEFINITIONS */
OBJECT = IMAGE
  INTERCHANGE_FORMAT = BINARY
  LINES = 1592
  LINE_SAMPLES = 1601
  SAMPLE_TYPE = UNSIGNED_INTEGER
  SAMPLE_BITS = 8
  BANDS = 1
  BAND_STORAGE_TYPE = BAND_SEQUENTIAL
  MAXIMUM = 6610
  MEAN = 5911.36
  MINIMUM = 4866
  STANDARD_DEVIATION = 120.309
END_OBJECT = IMAGE
/* MAP OBJECT DEFINITIONS */
OBJECT = IMAGE_MAP_PROJECTION
  ^DATA_SET_MAP_PROJECTION_CATALOG= "DSMAP.CAT"
  A_AXIS_RADIUS = 3396.19
  B_AXIS_RADIUS = 3396.19
  C_AXIS_RADIUS = 3396.19
  CENTER_LATITUDE = 0.0
  CENTER_LONGITUDE = 14.0
  COORDINATE_SYSTEM_NAME = PLANETOGRAPHIC
  COORDINATE_SYSTEM_TYPE = "BODY-FIXED ROTATING"
  EASTERNMOST_LONGITUDE = 13.8363
  FIRST_STANDARD_PARALLEL = "N/A"
  LINE_FIRST_PIXEL = 1
  LINE_LAST_PIXEL = 1592
  LINE_PROJECTION_OFFSET = -1288981.0
  MAP_PROJECTION_ROTATION = 0.0
  MAP_PROJECTION_TYPE = SINUSOIDAL
  MAP_RESOLUTION = 23709.8786048756
  MAP_SCALE = 0.0025
  MAXIMUM_LATITUDE = -54.4482
  MINIMUM_LATITUDE = -54.5115
  POSITIVE_LONGITUDE_DIRECTION = EAST
  REFERENCE_LATITUDE = "N/A"
  REFERENCE_LONGITUDE = "N/A"
  SAMPLE_FIRST_PIXEL = 1
  SAMPLE_LAST_PIXEL = 1601
  SAMPLE_PROJECTION_OFFSET = 3787.0
  SECOND_STANDARD_PARALLEL = "N/A"
  WESTERNMOST_LONGITUDE = 13.7269
END_OBJECT = IMAGE_MAP_PROJECTION
/* The JPEG2000 image data file associated with this label. */
OBJECT = COMPRESSED_FILE
  FILE_NAME = "H2225_0003_SR3.JP2"
  RECORD_TYPE = UNDEFINED
  FILE_RECORDS = UNK
  ENCODING_TYPE = "JP2"
  INTERCHANGE_FORMAT = BINARY
  UNCOMPRESSED_FILE_NAME = "H2225_0003_SR3.IMG"
  REQUIRED_STORAGE_BYTES = "2568004"
  ^DESCRIPTION = "JP2INFO.TXT"
END_OBJECT = COMPRESSED_FILE
END
