PDS_VERSION_ID = PDS3
/* FILE DATA ELEMENTS */
RECORD_TYPE = STREAM
/* POINTERS TO DATA OBJECTS */
^COMPRESSED_FILE = "H2228_0000_S23.JP2"
/* IDENTIFICATION DATA ELEMENTS */
DATA_SET_ID = "MEX-M-HRSC-5-REFDR-MAPPROJECTED-V3.0"
DATA_SET_NAME = "MARS EXPRESS HRSC MAP PROJECTED REFDR V3.0"
DETECTOR_ID = MEX_HRSC_S2
EVENT_TYPE = "MARS-REGIONAL-MAPPING-Gl-Eo-La"
INSTRUMENT_HOST_ID = MEX
INSTRUMENT_HOST_NAME = "MARS EXPRESS"
INSTRUMENT_ID = HRSC
INSTRUMENT_NAME = "HIGH RESOLUTION STEREO CAMERA"
MISSION_NAME = "MARS EXPRESS"
MISSION_PHASE_NAME = MR_Phase_8
PROCESSING_LEVEL_ID = 3
PRODUCT_CREATION_TIME = 2016-03-14T22:12:55.000Z
PRODUCT_ID = "H2228_0000_S23.JP2"
RELEASE_ID = 0028
REVISION_ID = 0000
/* QUALITY DATA ELEMENTS */
DATA_QUALITY_ID = 1
DATA_QUALITY_DESC = "Data calculated based on original SPICE kernels"
/* TIME DATA ELEMENTS */
SPACECRAFT_CLOCK_START_COUNT = "1/0076859726.57150"
SPACECRAFT_CLOCK_STOP_COUNT = "1/0076860243.04000"
START_TIME = 2005-10-08T13:55:34.007Z
STOP_TIME = 2005-10-08T14:01:32.297Z
/* ORBITAL DATA ELEMENTS */
ASCENDING_NODE_LONGITUDE = 181.49
MAXIMUM_RESOLUTION = 67.2
FOOTPRINT_POINT_LATITUDE = (-87.5056,-87.1711,-86.8354,-86.4985, -86.1605,-85.8215,-85.4817,-85.1409, -84.7988,-84.4552,-84.1099,-83.5682, -83.5896,-83.5757,-83.5303,-83.4484, -83.329,-83.1717,-83.035,-82.8769, -82.6942,-82.4929,-82.2774,-81.9648, -81.7983,-81.6301,-81.4529,-81.2622, -81.0705,-80.8734,-80.6712,-80.4636, -80.2509,-80.0334,-79.8116,-79.5841, -79.2431,-79.0039,-78.7592,-78.517, -78.1386,-77.8822,-77.6302,-77.3678, -77.1031,-76.8325,-76.5603,-76.2847, -76.0061,-75.7245,-75.441,-75.1774, -75.3377,-75.5634,-75.6749,-75.751, -75.8772,-75.9694,-76.3332,-76.6489, -76.9536,-77.2636,-77.5722,-77.8785, -78.1838,-78.4854,-78.7857,-79.0847, -79.3818,-79.6769,-79.9699,-80.2608, -80.6853,-80.9804,-81.265,-81.5467, -81.8273,-82.1058,-82.3816,-82.6544, -83.0628,-83.3291,-83.5939,-83.9846, -84.2431,-84.4974,-84.747,-84.9978, -85.2423,-85.4826,-85.949,-86.3956, -86.8142,-87.1065,-87.4536,-87.675, -87.9003,-88.0265,-88.0448,-87.5056)
FOOTPRINT_POINT_LONGITUDE = (348.09,349.312,350.295,351.107,351.793 ,352.384,352.9,353.358,353.769,354.14, 354.481,356.157,360.25,363.487,367.718, 371.912,376.038,380.056,382.935,385.736 ,388.466,391.079,393.557,396.674, 398.152,399.564,400.933,402.271,403.547 ,404.774,405.953,407.087,408.178, 409.227,410.234,411.204,412.582,413.462 ,414.309,415.12,416.282,417.02,417.729, 418.412,419.07,419.704,420.315,420.904, 421.471,422.018,422.545,423.588,425.086 ,427.422,428.657,429.703,431.495, 432.988,433.583,433.383,433.187,432.973 ,432.748,432.514,432.268,432.014, 431.746,431.464,431.168,430.856,430.529 ,430.185,429.655,429.234,428.814,428.37 ,427.896,427.39,426.853,426.282,425.333 ,424.656,423.921,422.718,421.823, 420.858,419.819,418.646,417.382,415.994 ,412.773,408.766,403.747,399.072, 391.425,384.334,372.947,359.938,349.242 ,348.09)
ORBIT_NUMBER = 2228
ORBITAL_ECCENTRICITY = 0.573
ORBITAL_INCLINATION = 86.64
ORBITAL_SEMIMAJOR_AXIS = 8597.49
PERIAPSIS_ALTITUDE = 278.61
PERIAPSIS_ARGUMENT_ANGLE = 326.52
PERIAPSIS_TIME = 2005-10-08T14:14:27.000Z
SPACECRAFT_ORIENTATION = (0.0,1.0,0.0)
^MEX_ORIENTATION_DESC = "MEX_ORIENTATION_DESC.TXT"
SPACECRAFT_POINTING_MODE = ACROSSTRACK
^MEX_POINTING_DESC = "MEX_POINTING_DESC.TXT"
RIGHT_ASCENSION = -1e+32
DECLINATION = -1e+32
OFFSET_ANGLE = 0.86
SPACECRAFT_SOLAR_DISTANCE = 2.13525e+08
TARGET_NAME = MARS
/* CAMERA DATA ELEMENTS */
DETECTOR_TEMPERATURE = 18.7783
FOCAL_PLANE_TEMPERATURE = 8.5833
INST_CMPRS_NAME = "DISCRETE COSINE TRANSFORMATION (DCT)"
INST_CMPRS_RATIO = 9.83775
INST_CMPRS_QUALITY = 0
INST_CMPRS_QUANTZ_TBL_ID = 0
INSTRUMENT_TEMPERATURE = 11.0301
LENS_TEMPERATURE = 8.7872
MACROPIXEL_SIZE = 2
MISSING_FRAMES = 0
PIXEL_SUBSAMPLING_FLAG = N
SIGNAL_CHAIN_ID = 1
/* RADIOMETRIC DATA ELEMENTS */
BANDWIDTH = 178.0
CENTER_FILTER_WAVELENGTH = 679.0
RADIANCE_OFFSET = 2.46082
RADIANCE_SCALING_FACTOR = 0.0533305
REFLECTANCE_SCALING_FACTOR = 0.00128764
MEX:REFLECTANCE_OFFSET = 0.0594153
/* IMAGE OBJECT DEFINITIONS */
OBJECT = IMAGE
  INTERCHANGE_FORMAT = BINARY
  LINES = 14611
  LINE_SAMPLES = 12908
  SAMPLE_TYPE = UNSIGNED_INTEGER
  SAMPLE_BITS = 8
  BANDS = 1
  BAND_STORAGE_TYPE = BAND_SEQUENTIAL
  MAXIMUM = 256
  MEAN = 105.361
  MINIMUM = 34
  STANDARD_DEVIATION = 42.9314
END_OBJECT = IMAGE
/* MAP OBJECT DEFINITIONS */
OBJECT = IMAGE_MAP_PROJECTION
  ^DATA_SET_MAP_PROJECTION_CATALOG= "DSMAP.CAT"
  A_AXIS_RADIUS = 3396.0
  B_AXIS_RADIUS = 3396.0
  C_AXIS_RADIUS = 3396.0
  CENTER_LATITUDE = 0.0
  CENTER_LONGITUDE = 53.0
  COORDINATE_SYSTEM_NAME = PLANETOGRAPHIC
  COORDINATE_SYSTEM_TYPE = "BODY-FIXED ROTATING"
  EASTERNMOST_LONGITUDE = 73.583
  FIRST_STANDARD_PARALLEL = "N/A"
  LINE_FIRST_PIXEL = 1
  LINE_LAST_PIXEL = 14611
  LINE_PROJECTION_OFFSET = -89143.25
  MAP_PROJECTION_ROTATION = 0.0
  MAP_PROJECTION_TYPE = SINUSOIDAL
  MAP_RESOLUTION = 1185.42760773333
  MAP_SCALE = 0.05
  MAXIMUM_LATITUDE = -75.17740000000001
  MINIMUM_LATITUDE = -88.0448
  POSITIVE_LONGITUDE_DIRECTION = EAST
  REFERENCE_LATITUDE = "N/A"
  REFERENCE_LONGITUDE = "N/A"
  SAMPLE_FIRST_PIXEL = 1
  SAMPLE_LAST_PIXEL = 12908
  SAMPLE_PROJECTION_OFFSET = 7110.25
  SECOND_STANDARD_PARALLEL = "N/A"
  WESTERNMOST_LONGITUDE = -11.91
END_OBJECT = IMAGE_MAP_PROJECTION
/* The JPEG2000 image data file associated with this label. */
OBJECT = COMPRESSED_FILE
  FILE_NAME = "H2228_0000_S23.JP2"
  RECORD_TYPE = UNDEFINED
  FILE_RECORDS = UNK
  ENCODING_TYPE = "JP2"
  INTERCHANGE_FORMAT = BINARY
  UNCOMPRESSED_FILE_NAME = "H2228_0000_S23.IMG"
  REQUIRED_STORAGE_BYTES = "188637512"
  ^DESCRIPTION = "JP2INFO.TXT"
END_OBJECT = COMPRESSED_FILE
END
