PDS_VERSION_ID = PDS3
/* FILE DATA ELEMENTS */
RECORD_TYPE = STREAM
/* POINTERS TO DATA OBJECTS */
^COMPRESSED_FILE = "H2228_0001_ND3.JP2"
/* IDENTIFICATION DATA ELEMENTS */
DATA_SET_ID = "MEX-M-HRSC-5-REFDR-MAPPROJECTED-V3.0"
DATA_SET_NAME = "MARS EXPRESS HRSC MAP PROJECTED REFDR V3.0"
DETECTOR_ID = MEX_HRSC_NADIR
EVENT_TYPE = "MARS-REGIONAL-MAPPING-Fl-Pf-Mw"
INSTRUMENT_HOST_ID = MEX
INSTRUMENT_HOST_NAME = "MARS EXPRESS"
INSTRUMENT_ID = HRSC
INSTRUMENT_NAME = "HIGH RESOLUTION STEREO CAMERA"
MISSION_NAME = "MARS EXPRESS"
MISSION_PHASE_NAME = MR_Phase_8
PROCESSING_LEVEL_ID = 3
PRODUCT_CREATION_TIME = 2016-03-14T22:12:55.000Z
PRODUCT_ID = "H2228_0001_ND3.JP2"
RELEASE_ID = 0028
REVISION_ID = 0000
/* QUALITY DATA ELEMENTS */
DATA_QUALITY_ID = 1
DATA_QUALITY_DESC = "Data calculated based on original SPICE kernels"
/* TIME DATA ELEMENTS */
SPACECRAFT_CLOCK_START_COUNT = "1/0076860371.56186"
SPACECRAFT_CLOCK_STOP_COUNT = "1/0076860604.05196"
START_TIME = 2005-10-08T14:07:08.315Z
STOP_TIME = 2005-10-08T14:09:37.306Z
/* ORBITAL DATA ELEMENTS */
ASCENDING_NODE_LONGITUDE = 181.49
MAXIMUM_RESOLUTION = 14.6
FOOTPRINT_POINT_LATITUDE = (-61.6926,-61.6664,-61.6381,-61.6076, -61.5748,-61.5396,-61.4256,-61.0691, -60.7117,-60.3533,-59.9937,-59.6333, -59.2716,-59.0905,-58.9092,-58.7275, -58.5457,-58.3635,-58.1813,-57.9987, -57.816,-57.6331,-57.4499,-57.2665, -57.0828,-56.8989,-56.7148,-56.5305, -56.3459,-56.1614,-55.9763,-55.7908, -55.6053,-55.4197,-55.2338,-55.0478, -54.8615,-54.6751,-54.4886,-54.3018, -54.1148,-53.9276,-53.7401,-53.5525, -53.3647,-53.1767,-52.9885,-52.8002, -52.6116,-52.3271,-52.3472,-52.3743, -52.404,-52.5167,-52.7067,-52.8966, -53.0863,-53.2758,-53.4651,-53.6543, -53.8437,-54.0326,-54.2211,-54.4095, -54.5978,-54.786,-54.9738,-55.1616, -55.3492,-55.5368,-55.724,-55.9113, -56.0981,-56.2846,-56.4711,-56.6572, -56.8434,-57.0293,-57.2151,-57.4934, -57.6787,-57.8637,-58.0486,-58.2332, -58.4177,-58.6019,-58.786,-58.9698, -59.1535,-59.337,-59.5202,-59.7032, -59.886,-60.0687,-60.2511,-60.6153, -60.9787,-61.341,-61.7026,-61.6926)
FOOTPRINT_POINT_LONGITUDE = (77.2827,76.7724,76.258,75.7404,75.219, 74.6929,74.3913,74.5164,74.6382,74.7575 ,74.8713,74.9849,75.0909,75.1435, 75.1971,75.2474,75.2982,75.3477,75.3978 ,75.4465,75.4951,75.5435,75.5901, 75.6375,75.6828,75.7278,75.7721,75.8155 ,75.8587,75.9047,75.9443,75.9812, 76.0215,76.0617,76.1006,76.1393,76.1777 ,76.216,76.2546,76.2921,76.329,76.3658, 76.4006,76.4355,76.4702,76.5038,76.5373 ,76.571,76.6037,76.8279,77.1957,77.728, 78.3756,78.7893,78.7739,78.7585,78.7427 ,78.7269,78.7108,78.6946,78.6811, 78.6648,78.6461,78.6281,78.6108,78.5939 ,78.5751,78.5568,78.5392,78.5215, 78.5033,78.4855,78.4666,78.4459,78.4258 ,78.4053,78.3852,78.3649,78.3447, 78.3143,78.2931,78.2716,78.2499,78.2279 ,78.2056,78.1832,78.1604,78.1373,78.114 ,78.0908,78.0666,78.042,78.0174,77.9929 ,77.9677,77.9165,77.8638,77.8093, 77.7536,77.2827)
ORBIT_NUMBER = 2228
ORBITAL_ECCENTRICITY = 0.573
ORBITAL_INCLINATION = 86.64
ORBITAL_SEMIMAJOR_AXIS = 8597.49
PERIAPSIS_ALTITUDE = 278.61
PERIAPSIS_ARGUMENT_ANGLE = 326.52
PERIAPSIS_TIME = 2005-10-08T14:14:27.000Z
SPACECRAFT_ORIENTATION = (0.0,1.0,0.0)
^MEX_ORIENTATION_DESC = "MEX_ORIENTATION_DESC.TXT"
SPACECRAFT_POINTING_MODE = ACROSSTRACK
^MEX_POINTING_DESC = "MEX_POINTING_DESC.TXT"
RIGHT_ASCENSION = -1e+32
DECLINATION = -1e+32
OFFSET_ANGLE = 0.86
SPACECRAFT_SOLAR_DISTANCE = 2.13525e+08
TARGET_NAME = MARS
/* CAMERA DATA ELEMENTS */
DETECTOR_TEMPERATURE = 19.5939
FOCAL_PLANE_TEMPERATURE = 8.7872
INST_CMPRS_NAME = "DISCRETE COSINE TRANSFORMATION (DCT)"
INST_CMPRS_RATIO = 7.83207
INST_CMPRS_QUALITY = 0
INST_CMPRS_QUANTZ_TBL_ID = 0
INSTRUMENT_TEMPERATURE = 13.4769
LENS_TEMPERATURE = 9.195
MACROPIXEL_SIZE = 1
MISSING_FRAMES = 0
PIXEL_SUBSAMPLING_FLAG = N
SIGNAL_CHAIN_ID = 0
/* RADIOMETRIC DATA ELEMENTS */
BANDWIDTH = 177.0
CENTER_FILTER_WAVELENGTH = 677.5
RADIANCE_OFFSET = 5.18154
RADIANCE_SCALING_FACTOR = 0.019496
REFLECTANCE_SCALING_FACTOR = 0.000472197
MEX:REFLECTANCE_OFFSET = 0.125498
/* IMAGE OBJECT DEFINITIONS */
OBJECT = IMAGE
  INTERCHANGE_FORMAT = BINARY
  LINES = 44520
  LINE_SAMPLES = 11348
  SAMPLE_TYPE = UNSIGNED_INTEGER
  SAMPLE_BITS = 8
  BANDS = 1
  BAND_STORAGE_TYPE = BAND_SEQUENTIAL
  MAXIMUM = 150
  MEAN = 107.032
  MINIMUM = 70
  STANDARD_DEVIATION = 10.1587
END_OBJECT = IMAGE
/* MAP OBJECT DEFINITIONS */
OBJECT = IMAGE_MAP_PROJECTION
  ^DATA_SET_MAP_PROJECTION_CATALOG= "DSMAP.CAT"
  A_AXIS_RADIUS = 3396.0
  B_AXIS_RADIUS = 3396.0
  C_AXIS_RADIUS = 3396.0
  CENTER_LATITUDE = 0.0
  CENTER_LONGITUDE = 77.0
  COORDINATE_SYSTEM_NAME = PLANETOGRAPHIC
  COORDINATE_SYSTEM_TYPE = "BODY-FIXED ROTATING"
  EASTERNMOST_LONGITUDE = 78.7893
  FIRST_STANDARD_PARALLEL = "N/A"
  LINE_FIRST_PIXEL = 1
  LINE_LAST_PIXEL = 44520
  LINE_PROJECTION_OFFSET = -248117.0
  MAP_PROJECTION_ROTATION = 0.0
  MAP_PROJECTION_TYPE = SINUSOIDAL
  MAP_RESOLUTION = 4741.71043093333
  MAP_SCALE = 0.0125
  MAXIMUM_LATITUDE = -52.3271
  MINIMUM_LATITUDE = -61.7026
  POSITIVE_LONGITUDE_DIRECTION = EAST
  REFERENCE_LATITUDE = "N/A"
  REFERENCE_LONGITUDE = "N/A"
  SAMPLE_FIRST_PIXEL = 1
  SAMPLE_LAST_PIXEL = 11348
  SAMPLE_PROJECTION_OFFSET = 6089.0
  SECOND_STANDARD_PARALLEL = "N/A"
  WESTERNMOST_LONGITUDE = 74.3913
END_OBJECT = IMAGE_MAP_PROJECTION
/* The JPEG2000 image data file associated with this label. */
OBJECT = COMPRESSED_FILE
  FILE_NAME = "H2228_0001_ND3.JP2"
  RECORD_TYPE = UNDEFINED
  FILE_RECORDS = UNK
  ENCODING_TYPE = "JP2"
  INTERCHANGE_FORMAT = BINARY
  UNCOMPRESSED_FILE_NAME = "H2228_0001_ND3.IMG"
  REQUIRED_STORAGE_BYTES = "505247004"
  ^DESCRIPTION = "JP2INFO.TXT"
END_OBJECT = COMPRESSED_FILE
END
