PDS_VERSION_ID = PDS3
/* FILE DATA ELEMENTS */
RECORD_TYPE = STREAM
/* POINTERS TO DATA OBJECTS */
^COMPRESSED_FILE = "H2228_0001_S13.JP2"
/* IDENTIFICATION DATA ELEMENTS */
DATA_SET_ID = "MEX-M-HRSC-5-REFDR-MAPPROJECTED-V3.0"
DATA_SET_NAME = "MARS EXPRESS HRSC MAP PROJECTED REFDR V3.0"
DETECTOR_ID = MEX_HRSC_S1
EVENT_TYPE = "MARS-REGIONAL-MAPPING-Fl-Pf-Mw"
INSTRUMENT_HOST_ID = MEX
INSTRUMENT_HOST_NAME = "MARS EXPRESS"
INSTRUMENT_ID = HRSC
INSTRUMENT_NAME = "HIGH RESOLUTION STEREO CAMERA"
MISSION_NAME = "MARS EXPRESS"
MISSION_PHASE_NAME = MR_Phase_8
PROCESSING_LEVEL_ID = 3
PRODUCT_CREATION_TIME = 2016-03-14T22:12:55.000Z
PRODUCT_ID = "H2228_0001_S13.JP2"
RELEASE_ID = 0028
REVISION_ID = 0000
/* QUALITY DATA ELEMENTS */
DATA_QUALITY_ID = 1
DATA_QUALITY_DESC = "Data calculated based on original SPICE kernels"
/* TIME DATA ELEMENTS */
SPACECRAFT_CLOCK_START_COUNT = "1/0076860371.56186"
SPACECRAFT_CLOCK_STOP_COUNT = "1/0076860604.05196"
START_TIME = 2005-10-08T14:07:50.086Z
STOP_TIME = 2005-10-08T14:10:09.179Z
/* ORBITAL DATA ELEMENTS */
ASCENDING_NODE_LONGITUDE = 181.49
MAXIMUM_RESOLUTION = 29.7
FOOTPRINT_POINT_LATITUDE = (-61.5322,-61.52,-61.5063,-61.4911, -61.4744,-61.4562,-61.5179,-61.3379, -61.1576,-60.9768,-60.796,-60.6155, -60.3436,-60.162,-59.8911,-59.7096, -59.5251,-59.3484,-59.0765,-58.8947, -58.6217,-58.4401,-58.167,-57.985, -57.8023,-57.6191,-57.3454,-57.163, -56.98,-56.7973,-56.5232,-56.3401, -56.1551,-55.8848,-55.7032,-55.5183, -55.3366,-55.1532,-54.9701,-54.7865, -54.6024,-54.3263,-54.1423,-53.9579, -53.7742,-53.5907,-53.4066,-53.223, -53.0389,-52.8541,-52.6699,-52.3936, -52.3879,-52.3939,-52.3984,-52.4028, -52.5899,-52.7756,-52.9614,-53.2391, -53.5175,-53.7002,-54.0559,-54.2504, -54.439,-54.6237,-54.8995,-55.1845, -55.3671,-55.6414,-55.9075,-56.093, -56.2832,-56.4702,-56.6609,-56.8476, -57.0327,-57.215,-57.4853,-57.67, -57.8544,-58.0391,-58.2234,-58.4074, -58.5902,-58.7743,-59.0496,-59.2319, -59.4117,-59.5978,-59.7831,-59.9679, -60.146,-60.3297,-60.5126,-60.6923, -60.8751,-61.0587,-61.2436,-61.5322)
FOOTPRINT_POINT_LONGITUDE = (77.459,76.9906,76.5181,76.0413,75.5609 ,75.0756,74.4546,74.5165,74.578,74.6392 ,74.6992,74.7575,74.8451,74.9028, 74.9847,75.0398,75.0991,75.1437,75.2208 ,75.272,75.3476,75.3961,75.4686,75.5158 ,75.5632,75.6106,75.6786,75.7227,75.767 ,75.8102,75.8734,75.9153,75.9596, 76.0129,76.05,76.0916,76.1274,76.1655, 76.2023,76.2391,76.2762,76.3307,76.3661 ,76.4015,76.4353,76.4683,76.5014, 76.5335,76.5656,76.5982,76.6295,76.6755 ,77.1738,77.6814,78.0403,78.5711, 78.7372,78.7213,78.7052,78.681,78.6561, 78.6402,78.611,78.5903,78.5715,78.5537, 78.527,78.4966,78.4786,78.4509,78.4253, 78.4052,78.3832,78.362,78.3393,78.3177, 78.2963,78.2755,78.2448,78.2225,78.1999 ,78.177,78.1538,78.1304,78.107,78.0829, 78.0463,78.0219,77.9979,77.9715,77.945, 77.9183,77.8933,77.8662,77.8389,77.8122 ,77.7841,77.7553,77.7257,77.459)
ORBIT_NUMBER = 2228
ORBITAL_ECCENTRICITY = 0.573
ORBITAL_INCLINATION = 86.64
ORBITAL_SEMIMAJOR_AXIS = 8597.49
PERIAPSIS_ALTITUDE = 278.61
PERIAPSIS_ARGUMENT_ANGLE = 326.52
PERIAPSIS_TIME = 2005-10-08T14:14:27.000Z
SPACECRAFT_ORIENTATION = (0.0,1.0,0.0)
^MEX_ORIENTATION_DESC = "MEX_ORIENTATION_DESC.TXT"
SPACECRAFT_POINTING_MODE = ACROSSTRACK
^MEX_POINTING_DESC = "MEX_POINTING_DESC.TXT"
RIGHT_ASCENSION = -1e+32
DECLINATION = -1e+32
OFFSET_ANGLE = 0.86
SPACECRAFT_SOLAR_DISTANCE = 2.13525e+08
TARGET_NAME = MARS
/* CAMERA DATA ELEMENTS */
DETECTOR_TEMPERATURE = 19.39
FOCAL_PLANE_TEMPERATURE = 8.7872
INST_CMPRS_NAME = "DISCRETE COSINE TRANSFORMATION (DCT)"
INST_CMPRS_RATIO = 9.59003
INST_CMPRS_QUALITY = 0
INST_CMPRS_QUANTZ_TBL_ID = 0
INSTRUMENT_TEMPERATURE = 13.4769
LENS_TEMPERATURE = 9.195
MACROPIXEL_SIZE = 2
MISSING_FRAMES = 0
PIXEL_SUBSAMPLING_FLAG = N
SIGNAL_CHAIN_ID = 1
/* RADIOMETRIC DATA ELEMENTS */
BANDWIDTH = 180.0
CENTER_FILTER_WAVELENGTH = 677.0
RADIANCE_OFFSET = 6.73789
RADIANCE_SCALING_FACTOR = 0.0190979
REFLECTANCE_SCALING_FACTOR = 0.000454278
MEX:REFLECTANCE_OFFSET = 0.160273
/* IMAGE OBJECT DEFINITIONS */
OBJECT = IMAGE
  INTERCHANGE_FORMAT = BINARY
  LINES = 22260
  LINE_SAMPLES = 5674
  SAMPLE_TYPE = UNSIGNED_INTEGER
  SAMPLE_BITS = 8
  BANDS = 1
  BAND_STORAGE_TYPE = BAND_SEQUENTIAL
  MAXIMUM = 182
  MEAN = 136.523
  MINIMUM = 99
  STANDARD_DEVIATION = 11.0836
END_OBJECT = IMAGE
/* MAP OBJECT DEFINITIONS */
OBJECT = IMAGE_MAP_PROJECTION
  ^DATA_SET_MAP_PROJECTION_CATALOG= "DSMAP.CAT"
  A_AXIS_RADIUS = 3396.0
  B_AXIS_RADIUS = 3396.0
  C_AXIS_RADIUS = 3396.0
  CENTER_LATITUDE = 0.0
  CENTER_LONGITUDE = 77.0
  COORDINATE_SYSTEM_NAME = PLANETOGRAPHIC
  COORDINATE_SYSTEM_TYPE = "BODY-FIXED ROTATING"
  EASTERNMOST_LONGITUDE = 78.7372
  FIRST_STANDARD_PARALLEL = "N/A"
  LINE_FIRST_PIXEL = 1
  LINE_LAST_PIXEL = 22260
  LINE_PROJECTION_OFFSET = -124058.75
  MAP_PROJECTION_ROTATION = 0.0
  MAP_PROJECTION_TYPE = SINUSOIDAL
  MAP_RESOLUTION = 2370.85521546667
  MAP_SCALE = 0.025
  MAXIMUM_LATITUDE = -52.3879
  MINIMUM_LATITUDE = -61.5322
  POSITIVE_LONGITUDE_DIRECTION = EAST
  REFERENCE_LATITUDE = "N/A"
  REFERENCE_LONGITUDE = "N/A"
  SAMPLE_FIRST_PIXEL = 1
  SAMPLE_LAST_PIXEL = 5674
  SAMPLE_PROJECTION_OFFSET = 3044.25
  SECOND_STANDARD_PARALLEL = "N/A"
  WESTERNMOST_LONGITUDE = 74.4546
END_OBJECT = IMAGE_MAP_PROJECTION
/* The JPEG2000 image data file associated with this label. */
OBJECT = COMPRESSED_FILE
  FILE_NAME = "H2228_0001_S13.JP2"
  RECORD_TYPE = UNDEFINED
  FILE_RECORDS = UNK
  ENCODING_TYPE = "JP2"
  INTERCHANGE_FORMAT = BINARY
  UNCOMPRESSED_FILE_NAME = "H2228_0001_S13.IMG"
  REQUIRED_STORAGE_BYTES = "126331610"
  ^DESCRIPTION = "JP2INFO.TXT"
END_OBJECT = COMPRESSED_FILE
END
