PDS_VERSION_ID = PDS3
/* FILE DATA ELEMENTS */
RECORD_TYPE = STREAM
/* POINTERS TO DATA OBJECTS */
^COMPRESSED_FILE = "H2229_0000_RE3.JP2"
/* IDENTIFICATION DATA ELEMENTS */
DATA_SET_ID = "MEX-M-HRSC-5-REFDR-MAPPROJECTED-V3.0"
DATA_SET_NAME = "MARS EXPRESS HRSC MAP PROJECTED REFDR V3.0"
DETECTOR_ID = MEX_HRSC_RED
EVENT_TYPE = "MARS-REGIONAL-MAPPING-Fl-Lc-Pf"
INSTRUMENT_HOST_ID = MEX
INSTRUMENT_HOST_NAME = "MARS EXPRESS"
INSTRUMENT_ID = HRSC
INSTRUMENT_NAME = "HIGH RESOLUTION STEREO CAMERA"
MISSION_NAME = "MARS EXPRESS"
MISSION_PHASE_NAME = MR_Phase_8
PROCESSING_LEVEL_ID = 3
PRODUCT_CREATION_TIME = 2016-03-14T22:12:55.000Z
PRODUCT_ID = "H2229_0000_RE3.JP2"
RELEASE_ID = 0028
REVISION_ID = 0000
/* QUALITY DATA ELEMENTS */
DATA_QUALITY_ID = 1
DATA_QUALITY_DESC = "Data calculated based on original SPICE kernels"
/* TIME DATA ELEMENTS */
SPACECRAFT_CLOCK_START_COUNT = "1/0076884408.57977"
SPACECRAFT_CLOCK_STOP_COUNT = "1/0076884793.49407"
START_TIME = 2005-10-08T20:47:08.878Z
STOP_TIME = 2005-10-08T20:52:19.205Z
/* ORBITAL DATA ELEMENTS */
ASCENDING_NODE_LONGITUDE = 181.47
MAXIMUM_RESOLUTION = 124.5
FOOTPRINT_POINT_LATITUDE = (-69.6739,-69.6352,-69.5953,-69.5474, -69.4665,-68.8935,-68.4178,-68.0989, -67.7805,-67.459,-67.1363,-66.808, -66.4822,-66.1515,-65.8215,-65.4979, -65.1641,-64.829,-64.4919,-63.9838, -63.643,-63.3014,-62.9622,-62.6201, -62.2762,-61.9312,-61.5835,-61.2342, -60.8846,-60.529,-60.1753,-59.65, -59.1144,-58.7567,-58.3932,-57.8441, -57.4818,-57.1173,-56.7534,-56.3991, -55.8668,-55.5219,-55.1695,-54.8244, -54.4804,-54.1342,-53.7869,-53.4384, -53.0897,-52.7406,-52.389,-52.1406, -52.1613,-52.3547,-52.7083,-53.06, -53.5854,-54.1106,-54.4606,-54.8091, -55.1577,-55.5098,-55.8653,-56.2146, -56.5697,-56.9283,-57.4795,-58.0331, -58.4024,-58.7662,-59.3098,-59.67, -60.0294,-60.3876,-60.7443,-61.0993, -61.4516,-61.7989,-62.1517,-62.6761, -63.1995,-63.5483,-63.8938,-64.2371, -64.5795,-64.9211,-65.2616,-65.5977, -66.1046,-66.4402,-66.7747,-67.1073, -67.4393,-67.7691,-68.0975,-68.4244, -68.7492,-69.2362,-69.5594,-69.6739)
FOOTPRINT_POINT_LONGITUDE = (339.792,338.775,337.877,336.93,335.546 ,335.566,335.835,336.009,336.177, 336.341,336.5,336.654,336.804,336.949, 337.091,337.23,337.364,337.494,337.621, 337.804,337.922,338.037,338.15,338.259, 338.366,338.469,338.57,338.668,338.763, 338.855,338.946,339.079,339.205,339.286 ,339.365,339.478,339.553,339.625, 339.695,339.762,339.859,339.922,339.981 ,340.038,340.093,340.147,340.2,340.252, 340.302,340.352,340.399,340.903,341.714 ,342.541,342.529,342.517,342.5,342.481, 342.467,342.452,342.437,342.423,342.407 ,342.397,342.388,342.373,342.348, 342.317,342.294,342.276,342.247,342.228 ,342.208,342.187,342.166,342.145, 342.126,342.11,342.086,342.052,342.014, 341.986,341.96,341.934,341.908,341.88, 341.851,341.825,341.778,341.747,341.715 ,341.682,341.648,341.614,341.579, 341.543,341.508,341.449,341.409, 339.792)
ORBIT_NUMBER = 2229
ORBITAL_ECCENTRICITY = 0.573
ORBITAL_INCLINATION = 86.63
ORBITAL_SEMIMAJOR_AXIS = 8592.07
PERIAPSIS_ALTITUDE = 279.53
PERIAPSIS_ARGUMENT_ANGLE = 326.34
PERIAPSIS_TIME = 2005-10-08T20:57:30.000Z
SPACECRAFT_ORIENTATION = (0.0,1.0,0.0)
^MEX_ORIENTATION_DESC = "MEX_ORIENTATION_DESC.TXT"
SPACECRAFT_POINTING_MODE = ACROSSTRACK
^MEX_POINTING_DESC = "MEX_POINTING_DESC.TXT"
RIGHT_ASCENSION = -1e+32
DECLINATION = -1e+32
OFFSET_ANGLE = -0.27
SPACECRAFT_SOLAR_DISTANCE = 2.13568e+08
TARGET_NAME = MARS
/* CAMERA DATA ELEMENTS */
DETECTOR_TEMPERATURE = 18.7783
FOCAL_PLANE_TEMPERATURE = 9.3989
INST_CMPRS_NAME = "DISCRETE COSINE TRANSFORMATION (DCT)"
INST_CMPRS_RATIO = 15.7681
INST_CMPRS_QUALITY = 0
INST_CMPRS_QUANTZ_TBL_ID = 0
INSTRUMENT_TEMPERATURE = 11.6418
LENS_TEMPERATURE = 50.9945
MACROPIXEL_SIZE = 8
MISSING_FRAMES = 0
PIXEL_SUBSAMPLING_FLAG = N
SIGNAL_CHAIN_ID = 2
/* RADIOMETRIC DATA ELEMENTS */
BANDWIDTH = 48.0
CENTER_FILTER_WAVELENGTH = 748.0
RADIANCE_OFFSET = 1.0094
RADIANCE_SCALING_FACTOR = 0.00590812
REFLECTANCE_SCALING_FACTOR = 0.000614953
MEX:REFLECTANCE_OFFSET = 0.105065
/* IMAGE OBJECT DEFINITIONS */
OBJECT = IMAGE
  INTERCHANGE_FORMAT = BINARY
  LINES = 10358
  LINE_SAMPLES = 1841
  SAMPLE_TYPE = UNSIGNED_INTEGER
  SAMPLE_BITS = 8
  BANDS = 1
  BAND_STORAGE_TYPE = BAND_SEQUENTIAL
  MAXIMUM = 170
  MEAN = 123.749
  MINIMUM = 64
  STANDARD_DEVIATION = 11.9582
END_OBJECT = IMAGE
/* MAP OBJECT DEFINITIONS */
OBJECT = IMAGE_MAP_PROJECTION
  ^DATA_SET_MAP_PROJECTION_CATALOG= "DSMAP.CAT"
  A_AXIS_RADIUS = 3396.0
  B_AXIS_RADIUS = 3396.0
  C_AXIS_RADIUS = 3396.0
  CENTER_LATITUDE = 0.0
  CENTER_LONGITUDE = 340.0
  COORDINATE_SYSTEM_NAME = PLANETOGRAPHIC
  COORDINATE_SYSTEM_TYPE = "BODY-FIXED ROTATING"
  EASTERNMOST_LONGITUDE = 342.541
  FIRST_STANDARD_PARALLEL = "N/A"
  LINE_FIRST_PIXEL = 1
  LINE_LAST_PIXEL = 10358
  LINE_PROJECTION_OFFSET = -30886.5625
  MAP_PROJECTION_ROTATION = 0.0
  MAP_PROJECTION_TYPE = SINUSOIDAL
  MAP_RESOLUTION = 592.713803866667
  MAP_SCALE = 0.1
  MAXIMUM_LATITUDE = -52.1406
  MINIMUM_LATITUDE = -69.6739
  POSITIVE_LONGITUDE_DIRECTION = EAST
  REFERENCE_LATITUDE = "N/A"
  REFERENCE_LONGITUDE = "N/A"
  SAMPLE_FIRST_PIXEL = 1
  SAMPLE_LAST_PIXEL = 1841
  SAMPLE_PROJECTION_OFFSET = 928.6875
  SECOND_STANDARD_PARALLEL = "N/A"
  WESTERNMOST_LONGITUDE = 335.546
END_OBJECT = IMAGE_MAP_PROJECTION
/* The JPEG2000 image data file associated with this label. */
OBJECT = COMPRESSED_FILE
  FILE_NAME = "H2229_0000_RE3.JP2"
  RECORD_TYPE = UNDEFINED
  FILE_RECORDS = UNK
  ENCODING_TYPE = "JP2"
  INTERCHANGE_FORMAT = BINARY
  UNCOMPRESSED_FILE_NAME = "H2229_0000_RE3.IMG"
  REQUIRED_STORAGE_BYTES = "19089329"
  ^DESCRIPTION = "JP2INFO.TXT"
END_OBJECT = COMPRESSED_FILE
END
